Workbook

Sheet Előlap
A2: Az adatszolgáltatás
A3: MEKH azonosítószáma: | B3: vk_GFT_SZV_B_2
A4: címe: | B4: vk_GFT_SZV_B_2
A5: gyakorisága: | B5: Éves
A6: beszámolási időszak: | B6: 2026-01-01
A7: Tárgyidőszak kezdete | B7: =LEFT(B6,4)+1 -> 2027
A8: Tárgyidőszak vége | B8: =LEFT(B6,4)+10 -> 2036
A9: teljesítésének határideje: | B9: 2026-09-30
A12: Az adatszolgáltató
A13: neve: | B13: Dél-Pest Megyei Víziközmű Szolgáltató Zrt.
A14: címe: | B14: 2360 Gyál, Kőrösi út 190.
A15: MEKH nyilvántartási kódja: | B15: 23967531

Sheet Összesítő
P1: H/1 -- Forrás megnevezése (I. ütem) | AC1: H/2 -- Forrás megnevezése (II. ütem)
A2: Sorszám | B2: Víziközmű-rendszer megnevezése | C2: Víziközmű-rendszer hivatali kódja | D2: ISA | E2: Az érintett ellátásért felelős(ök) megnevezése | F2: Ellátási terület | G2: Ellenőrzés | H2: Forrástöbblet a víziközmű-rendszeren I.ütem [eFt] | I2: Forrástöbblet a víziközmű-rendszeren II.ütem [eFt] | K2: Tervezett nettó költség [eFt] | L2: A beruházás tervezett nettó költsége a tervezési időszak ütemezése szerint [eFt] - I. ütem | M2: A beruházás tervezett nettó költsége a tervezési időszak ütemezése szerint [eFt] - II. ütem | N2: Az EM rendelet 2. melléklet terhére elszámolni tervezett költség | P2: Használati díj [eFt] | Q2: ÉCS [eFt] | R2: Közműfejlesztési hozzájárulás [eFt] | S2: Egyéb saját forrás [eFt] | T2: Díj [eFt] | U2: VFEA - EM rendelet 1. melléklet | V2: Egyéb állami támogatás [eFt] | W2: Önkormányzati támogatás [eFt] | X2: EU-s támogatás [eFt] | Y2: Egyéb támogatás [eFt] | Z2: Banki hitel, kötvénykibocsátás [eFt] | AA2: Összesítés [eFt] | AC2: Használati díj [eFt] | AD2: ÉCS [eFt] | AE2: Közműfejlesztési hozzájárulás [eFt] | AF2: Egyéb saját forrás [eFt] | AG2: Díj [eFt] | AH2: VFEA - EM rendelet 1. melléklet | AI2: Egyéb állami támogatás [eFt] | AJ2: Önkormányzati támogatás [eFt] | AK2: EU-s támogatás [eFt] | AL2: Egyéb támogatás [eFt] | AM2: Banki hitel, kötvénykibocsátás [eFt] | AN2: Összesítés [eFt] | AU2: Hány feladat van a rendszeren | AV2: Helyes kitöltések száma | AW2: VAN rövidtávú terv? | AX2: VAN hosszútávú terv?
B3: Víziközmű-rendszer megnevezése | C3: Víziközmű-rendszer hivatali kódja | D3: ISA | E3: Az érintett ellátásért felelős(ök) megnevezése | F3: Ellátási terület | H3: 0 | I3: 0 | K3: =SUM(K$4:K$13012) -> 1385000 | L3: =SUM(L$4:L$13012) -> 0 | M3: =SUM(M$4:M$13012) -> 1385000 | N3: =SUM(N$4:N$13012) -> 0 | P3: =SUM(P$4:P$3012) -> 0 | Q3: =SUM(Q$4:Q$3012) -> 0 | R3: =SUM(R$4:R$3012) -> 0 | S3: =SUM(S$4:S$3012) -> 0 | T3: =SUM(T$4:T$3012) -> 0 | U3: =SUM(U$4:U$3012) -> 0 | V3: =SUM(V$4:V$3012) -> 0 | W3: =SUM(W$4:W$3012) -> 0 | ... AA3: =SUM(AA$4:AA$3012) -> 0 | AC3: =SUM(AC$4:AC$3012) -> 0 | AD3: =SUM(AD$4:AD$3012) -> 0 | AE3: =SUM(AE$4:AE$3012) -> 0 | AF3: =SUM(AF$4:AF$3012) -> 0 | AG3: =SUM(AG$4:AG$3012) -> 0 | AH3: =SUM(AH$4:AH$3012) -> 0 | AI3: =SUM(AI$4:AI$3012) -> 0 | AJ3: =SUM(AJ$4:AJ$3012) -> 0 | ... AN3: =SUM(AN$4:AN$3012) -> 0 | AT3: RÖGZÍTVE? | AU3: =SUM(AU$4:AU$3012) -> 5 | AV3: =SUM(AV$4:AV$3012) -> 5 | AW3: új | AX3: új
A4: 912 | B4: Pécel-SZ | C4: 21-04057-1-001-00-01 | D4: 2313 | E4: Pécel Város Önkormányzata | F4: Pécel | G4: =IF(ISNA($AT4),"Nincs rögzítve!",IF(AW4=0,"Hiányzik a rövidtávú terv!",IF(AX4=0,"Hiányzik a hosszútávú terv!",IF(AU4=AV4,"Kitöltés rendben!",IF(AU4<>AV4,"Kitöltési hiba!","Kitöltési hiba!"))))) -> Nincs rögzítve! | K4: =L4+M4 -> 0 | L4: =SUMIF(B_SZV_1A!$F:$F,$C4,B_SZV_1A!$N:$N) -> 0 | M4: =SUMIF(B_SZV_1A!$F:$F,$C4,B_SZV_1A!$O:$O) -> 0 | N4: =SUMIF(B_SZV_1A!$F:$F,$C4,B_SZV_1A!$P:$P) -> 0 | P4: =SUMIF(B_SZV_1A!$F:$F,$C4,B_SZV_1A!R:R) -> 0 | Q4: =SUMIF(B_SZV_1A!$F:$F,$C4,B_SZV_1A!S:S) -> 0 | R4: =SUMIF(B_SZV_1A!$F:$F,$C4,B_SZV_1A!T:T) -> 0 | S4: =SUMIF(B_SZV_1A!$F:$F,$C4,B_SZV_1A!U:U) -> 0 | T4: =SUMIF(B_SZV_1A!$F:$F,$C4,B_SZV_1A!V:V) -> 0 | U4: =SUMIF(B_SZV_1A!$F:$F,$C4,B_SZV_1A!W:W) -> 0 | V4: =SUMIF(B_SZV_1A!$F:$F,$C4,B_SZV_1A!X:X) -> 0 | W4: =SUMIF(B_SZV_1A!$F:$F,$C4,B_SZV_1A!Y:Y) -> 0 | X4: =SUMIF(B_SZV_1A!$F:$F,$C4,B_SZV_1A!Z:Z) -> 0 | Y4: =SUMIF(B_SZV_1A!$F:$F,$C4,B_SZV_1A!AA:AA) -> 0 | Z4: =SUMIF(B_SZV_1A!$F:$F,$C4,B_SZV_1A!AB:AB) -> 0 | AA4: =SUM(P4:Z4) -> 0 | AC4: =SUMIF(B_SZV_1A!$F:$F,$C4,B_SZV_1A!AF:AF) -> 0 | AD4: =SUMIF(B_SZV_1A!$F:$F,$C4,B_SZV_1A!AG:AG) -> 0 | AE4: =SUMIF(B_SZV_1A!$F:$F,$C4,B_SZV_1A!AH:AH) -> 0 | AF4: =SUMIF(B_SZV_1A!$F:$F,$C4,B_SZV_1A!AI:AI) -> 0 | AG4: =SUMIF(B_SZV_1A!$F:$F,$C4,B_SZV_1A!AJ:AJ) -> 0 | AH4: =SUMIF(B_SZV_1A!$F:$F,$C4,B_SZV_1A!AK:AK) -> 0 | AI4: =SUMIF(B_SZV_1A!$F:$F,$C4,B_SZV_1A!AL:AL) -> 0 | AJ4: =SUMIF(B_SZV_1A!$F:$F,$C4,B_SZV_1A!AM:AM) -> 0 | AK4: =SUMIF(B_SZV_1A!$F:$F,$C4,B_SZV_1A!AN:AN) -> 0 | AL4: =SUMIF(B_SZV_1A!$F:$F,$C4,B_SZV_1A!AO:AO) -> 0 | AM4: =SUMIF(B_SZV_1A!$F:$F,$C4,B_SZV_1A!AP:AP) -> 0 | AN4: =SUM(AC4:AM4) -> 0 | AT4: =INDEX(B_SZV_1A!$G:$G,MATCH($C4,B_SZV_1A!$F:$F,0)) -> #N/A | AU4: =COUNTIF(B_SZV_1A!$AY$3:$AY$1520,$D4) -> 0 | AV4: =SUMIF(B_SZV_1A!$AY$3:$AY$1520,$D4,B_SZV_1A!$CF$3:$CF$1520) -> 0 | AW4: =SUMIF(B_SZV_1A!$AY:$AY,$D4,B_SZV_1A!$CG:$CG) -> 0 | AX4: =SUMIF(B_SZV_1A!$AY:$AY,$D4,B_SZV_1A!$CG:$CG) -> 0
A5: 913 | B5: K.k.lacháza-SZ | C5: 21-10816-1-001-00-05 | D5: 2314 | E5: Kiskunlacháza Város Önkormányzat | F5: Kiskunlacháza | G5: =IF(ISNA($AT5),"Nincs rögzítve!",IF(AW5=0,"Hiányzik a rövidtávú terv!",IF(AX5=0,"Hiányzik a hosszútávú terv!",IF(AU5=AV5,"Kitöltés rendben!",IF(AU5<>AV5,"Kitöltési hiba!","Kitöltési hiba!"))))) -> Nincs rögzítve! | K5: =L5+M5 -> 0 | L5: =SUMIF(B_SZV_1A!$F:$F,$C5,B_SZV_1A!$N:$N) -> 0 | M5: =SUMIF(B_SZV_1A!$F:$F,$C5,B_SZV_1A!$O:$O) -> 0 | N5: =SUMIF(B_SZV_1A!$F:$F,$C5,B_SZV_1A!$P:$P) -> 0 | P5: =SUMIF(B_SZV_1A!$F:$F,$C5,B_SZV_1A!R:R) -> 0 | Q5: =SUMIF(B_SZV_1A!$F:$F,$C5,B_SZV_1A!S:S) -> 0 | R5: =SUMIF(B_SZV_1A!$F:$F,$C5,B_SZV_1A!T:T) -> 0 | S5: =SUMIF(B_SZV_1A!$F:$F,$C5,B_SZV_1A!U:U) -> 0 | T5: =SUMIF(B_SZV_1A!$F:$F,$C5,B_SZV_1A!V:V) -> 0 | U5: =SUMIF(B_SZV_1A!$F:$F,$C5,B_SZV_1A!W:W) -> 0 | V5: =SUMIF(B_SZV_1A!$F:$F,$C5,B_SZV_1A!X:X) -> 0 | W5: =SUMIF(B_SZV_1A!$F:$F,$C5,B_SZV_1A!Y:Y) -> 0 | X5: =SUMIF(B_SZV_1A!$F:$F,$C5,B_SZV_1A!Z:Z) -> 0 | Y5: =SUMIF(B_SZV_1A!$F:$F,$C5,B_SZV_1A!AA:AA) -> 0 | Z5: =SUMIF(B_SZV_1A!$F:$F,$C5,B_SZV_1A!AB:AB) -> 0 | AA5: =SUM(P5:Z5) -> 0 | AC5: =SUMIF(B_SZV_1A!$F:$F,$C5,B_SZV_1A!AF:AF) -> 0 | AD5: =SUMIF(B_SZV_1A!$F:$F,$C5,B_SZV_1A!AG:AG) -> 0 | AE5: =SUMIF(B_SZV_1A!$F:$F,$C5,B_SZV_1A!AH:AH) -> 0 | AF5: =SUMIF(B_SZV_1A!$F:$F,$C5,B_SZV_1A!AI:AI) -> 0 | AG5: =SUMIF(B_SZV_1A!$F:$F,$C5,B_SZV_1A!AJ:AJ) -> 0 | AH5: =SUMIF(B_SZV_1A!$F:$F,$C5,B_SZV_1A!AK:AK) -> 0 | AI5: =SUMIF(B_SZV_1A!$F:$F,$C5,B_SZV_1A!AL:AL) -> 0 | AJ5: =SUMIF(B_SZV_1A!$F:$F,$C5,B_SZV_1A!AM:AM) -> 0 | AK5: =SUMIF(B_SZV_1A!$F:$F,$C5,B_SZV_1A!AN:AN) -> 0 | AL5: =SUMIF(B_SZV_1A!$F:$F,$C5,B_SZV_1A!AO:AO) -> 0 | AM5: =SUMIF(B_SZV_1A!$F:$F,$C5,B_SZV_1A!AP:AP) -> 0 | AN5: =SUM(AC5:AM5) -> 0 | AT5: =INDEX(B_SZV_1A!$G:$G,MATCH($C5,B_SZV_1A!$F:$F,0)) -> #N/A | AU5: =COUNTIF(B_SZV_1A!$AY$3:$AY$1520,$D5) -> 0 | AV5: =SUMIF(B_SZV_1A!$AY$3:$AY$1520,$D5,B_SZV_1A!$CF$3:$CF$1520) -> 0 | AW5: =SUMIF(B_SZV_1A!$AY:$AY,$D5,B_SZV_1A!$CG:$CG) -> 0 | AX5: =SUMIF(B_SZV_1A!$AY:$AY,$D5,B_SZV_1A!$CG:$CG) -> 0
A6: 914 | B6: Dunavarsány-SZV | C6: 21-20534-1-006-00-03 | D6: 2315 | E6: Dunavarsány Város Önkormányzata, Áporka Község Önkormányzata, Délegyháza Község Önkormányzata, Majosháza Község Önkormányzata, Szigetszentmárton Község Önkormányzata, Taksony Nagyközség Önkormányzata | F6: Dunavarsány, Áporka, Délegyháza, Majosháza, Szigetszentmárton, Taksony | G6: =IF(ISNA($AT6),"Nincs rögzítve!",IF(AW6=0,"Hiányzik a rövidtávú terv!",IF(AX6=0,"Hiányzik a hosszútávú terv!",IF(AU6=AV6,"Kitöltés rendben!",IF(AU6<>AV6,"Kitöltési hiba!","Kitöltési hiba!"))))) -> Nincs rögzítve! | K6: =L6+M6 -> 0 | L6: =SUMIF(B_SZV_1A!$F:$F,$C6,B_SZV_1A!$N:$N) -> 0 | M6: =SUMIF(B_SZV_1A!$F:$F,$C6,B_SZV_1A!$O:$O) -> 0 | N6: =SUMIF(B_SZV_1A!$F:$F,$C6,B_SZV_1A!$P:$P) -> 0 | P6: =SUMIF(B_SZV_1A!$F:$F,$C6,B_SZV_1A!R:R) -> 0 | Q6: =SUMIF(B_SZV_1A!$F:$F,$C6,B_SZV_1A!S:S) -> 0 | R6: =SUMIF(B_SZV_1A!$F:$F,$C6,B_SZV_1A!T:T) -> 0 | S6: =SUMIF(B_SZV_1A!$F:$F,$C6,B_SZV_1A!U:U) -> 0 | T6: =SUMIF(B_SZV_1A!$F:$F,$C6,B_SZV_1A!V:V) -> 0 | U6: =SUMIF(B_SZV_1A!$F:$F,$C6,B_SZV_1A!W:W) -> 0 | V6: =SUMIF(B_SZV_1A!$F:$F,$C6,B_SZV_1A!X:X) -> 0 | W6: =SUMIF(B_SZV_1A!$F:$F,$C6,B_SZV_1A!Y:Y) -> 0 | X6: =SUMIF(B_SZV_1A!$F:$F,$C6,B_SZV_1A!Z:Z) -> 0 | Y6: =SUMIF(B_SZV_1A!$F:$F,$C6,B_SZV_1A!AA:AA) -> 0 | Z6: =SUMIF(B_SZV_1A!$F:$F,$C6,B_SZV_1A!AB:AB) -> 0 | AA6: =SUM(P6:Z6) -> 0 | AC6: =SUMIF(B_SZV_1A!$F:$F,$C6,B_SZV_1A!AF:AF) -> 0 | AD6: =SUMIF(B_SZV_1A!$F:$F,$C6,B_SZV_1A!AG:AG) -> 0 | AE6: =SUMIF(B_SZV_1A!$F:$F,$C6,B_SZV_1A!AH:AH) -> 0 | AF6: =SUMIF(B_SZV_1A!$F:$F,$C6,B_SZV_1A!AI:AI) -> 0 | AG6: =SUMIF(B_SZV_1A!$F:$F,$C6,B_SZV_1A!AJ:AJ) -> 0 | AH6: =SUMIF(B_SZV_1A!$F:$F,$C6,B_SZV_1A!AK:AK) -> 0 | AI6: =SUMIF(B_SZV_1A!$F:$F,$C6,B_SZV_1A!AL:AL) -> 0 | AJ6: =SUMIF(B_SZV_1A!$F:$F,$C6,B_SZV_1A!AM:AM) -> 0 | AK6: =SUMIF(B_SZV_1A!$F:$F,$C6,B_SZV_1A!AN:AN) -> 0 | AL6: =SUMIF(B_SZV_1A!$F:$F,$C6,B_SZV_1A!AO:AO) -> 0 | AM6: =SUMIF(B_SZV_1A!$F:$F,$C6,B_SZV_1A!AP:AP) -> 0 | AN6: =SUM(AC6:AM6) -> 0 | AT6: =INDEX(B_SZV_1A!$G:$G,MATCH($C6,B_SZV_1A!$F:$F,0)) -> #N/A | AU6: =COUNTIF(B_SZV_1A!$AY$3:$AY$1520,$D6) -> 0 | AV6: =SUMIF(B_SZV_1A!$AY$3:$AY$1520,$D6,B_SZV_1A!$CF$3:$CF$1520) -> 0 | AW6: =SUMIF(B_SZV_1A!$AY:$AY,$D6,B_SZV_1A!$CG:$CG) -> 0 | AX6: =SUMIF(B_SZV_1A!$AY:$AY,$D6,B_SZV_1A!$CG:$CG) -> 0
A7: 915 | B7: Ócsa-SZ | C7: 22-04075-1-001-00-00 | D7: 2316 | E7: Ócsa Város Önkormányzat | F7: Ócsa | G7: =IF(ISNA($AT7),"Nincs rögzítve!",IF(AW7=0,"Hiányzik a rövidtávú terv!",IF(AX7=0,"Hiányzik a hosszútávú terv!",IF(AU7=AV7,"Kitöltés rendben!",IF(AU7<>AV7,"Kitöltési hiba!","Kitöltési hiba!"))))) -> Nincs rögzítve! | K7: =L7+M7 -> 0 | L7: =SUMIF(B_SZV_1A!$F:$F,$C7,B_SZV_1A!$N:$N) -> 0 | M7: =SUMIF(B_SZV_1A!$F:$F,$C7,B_SZV_1A!$O:$O) -> 0 | N7: =SUMIF(B_SZV_1A!$F:$F,$C7,B_SZV_1A!$P:$P) -> 0 | P7: =SUMIF(B_SZV_1A!$F:$F,$C7,B_SZV_1A!R:R) -> 0 | Q7: =SUMIF(B_SZV_1A!$F:$F,$C7,B_SZV_1A!S:S) -> 0 | R7: =SUMIF(B_SZV_1A!$F:$F,$C7,B_SZV_1A!T:T) -> 0 | S7: =SUMIF(B_SZV_1A!$F:$F,$C7,B_SZV_1A!U:U) -> 0 | T7: =SUMIF(B_SZV_1A!$F:$F,$C7,B_SZV_1A!V:V) -> 0 | U7: =SUMIF(B_SZV_1A!$F:$F,$C7,B_SZV_1A!W:W) -> 0 | V7: =SUMIF(B_SZV_1A!$F:$F,$C7,B_SZV_1A!X:X) -> 0 | W7: =SUMIF(B_SZV_1A!$F:$F,$C7,B_SZV_1A!Y:Y) -> 0 | X7: =SUMIF(B_SZV_1A!$F:$F,$C7,B_SZV_1A!Z:Z) -> 0 | Y7: =SUMIF(B_SZV_1A!$F:$F,$C7,B_SZV_1A!AA:AA) -> 0 | Z7: =SUMIF(B_SZV_1A!$F:$F,$C7,B_SZV_1A!AB:AB) -> 0 | AA7: =SUM(P7:Z7) -> 0 | AC7: =SUMIF(B_SZV_1A!$F:$F,$C7,B_SZV_1A!AF:AF) -> 0 | AD7: =SUMIF(B_SZV_1A!$F:$F,$C7,B_SZV_1A!AG:AG) -> 0 | AE7: =SUMIF(B_SZV_1A!$F:$F,$C7,B_SZV_1A!AH:AH) -> 0 | AF7: =SUMIF(B_SZV_1A!$F:$F,$C7,B_SZV_1A!AI:AI) -> 0 | AG7: =SUMIF(B_SZV_1A!$F:$F,$C7,B_SZV_1A!AJ:AJ) -> 0 | AH7: =SUMIF(B_SZV_1A!$F:$F,$C7,B_SZV_1A!AK:AK) -> 0 | AI7: =SUMIF(B_SZV_1A!$F:$F,$C7,B_SZV_1A!AL:AL) -> 0 | AJ7: =SUMIF(B_SZV_1A!$F:$F,$C7,B_SZV_1A!AM:AM) -> 0 | AK7: =SUMIF(B_SZV_1A!$F:$F,$C7,B_SZV_1A!AN:AN) -> 0 | AL7: =SUMIF(B_SZV_1A!$F:$F,$C7,B_SZV_1A!AO:AO) -> 0 | AM7: =SUMIF(B_SZV_1A!$F:$F,$C7,B_SZV_1A!AP:AP) -> 0 | AN7: =SUM(AC7:AM7) -> 0 | AT7: =INDEX(B_SZV_1A!$G:$G,MATCH($C7,B_SZV_1A!$F:$F,0)) -> #N/A | AU7: =COUNTIF(B_SZV_1A!$AY$3:$AY$1520,$D7) -> 0 | AV7: =SUMIF(B_SZV_1A!$AY$3:$AY$1520,$D7,B_SZV_1A!$CF$3:$CF$1520) -> 0 | AW7: =SUMIF(B_SZV_1A!$AY:$AY,$D7,B_SZV_1A!$CG:$CG) -> 0 | AX7: =SUMIF(B_SZV_1A!$AY:$AY,$D7,B_SZV_1A!$CG:$CG) -> 0
A8: 916 | B8: Felsőpakony-SZV | C8: 22-06035-1-001-00-04 | D8: 2317 | E8: Felsőpakony Nagyközség Önkormányzata | F8: Felsőpakony | G8: =IF(ISNA($AT8),"Nincs rögzítve!",IF(AW8=0,"Hiányzik a rövidtávú terv!",IF(AX8=0,"Hiányzik a hosszútávú terv!",IF(AU8=AV8,"Kitöltés rendben!",IF(AU8<>AV8,"Kitöltési hiba!","Kitöltési hiba!"))))) -> Nincs rögzítve! | K8: =L8+M8 -> 0 | L8: =SUMIF(B_SZV_1A!$F:$F,$C8,B_SZV_1A!$N:$N) -> 0 | M8: =SUMIF(B_SZV_1A!$F:$F,$C8,B_SZV_1A!$O:$O) -> 0 | N8: =SUMIF(B_SZV_1A!$F:$F,$C8,B_SZV_1A!$P:$P) -> 0 | P8: =SUMIF(B_SZV_1A!$F:$F,$C8,B_SZV_1A!R:R) -> 0 | Q8: =SUMIF(B_SZV_1A!$F:$F,$C8,B_SZV_1A!S:S) -> 0 | R8: =SUMIF(B_SZV_1A!$F:$F,$C8,B_SZV_1A!T:T) -> 0 | S8: =SUMIF(B_SZV_1A!$F:$F,$C8,B_SZV_1A!U:U) -> 0 | T8: =SUMIF(B_SZV_1A!$F:$F,$C8,B_SZV_1A!V:V) -> 0 | U8: =SUMIF(B_SZV_1A!$F:$F,$C8,B_SZV_1A!W:W) -> 0 | V8: =SUMIF(B_SZV_1A!$F:$F,$C8,B_SZV_1A!X:X) -> 0 | W8: =SUMIF(B_SZV_1A!$F:$F,$C8,B_SZV_1A!Y:Y) -> 0 | X8: =SUMIF(B_SZV_1A!$F:$F,$C8,B_SZV_1A!Z:Z) -> 0 | Y8: =SUMIF(B_SZV_1A!$F:$F,$C8,B_SZV_1A!AA:AA) -> 0 | Z8: =SUMIF(B_SZV_1A!$F:$F,$C8,B_SZV_1A!AB:AB) -> 0 | AA8: =SUM(P8:Z8) -> 0 | AC8: =SUMIF(B_SZV_1A!$F:$F,$C8,B_SZV_1A!AF:AF) -> 0 | AD8: =SUMIF(B_SZV_1A!$F:$F,$C8,B_SZV_1A!AG:AG) -> 0 | AE8: =SUMIF(B_SZV_1A!$F:$F,$C8,B_SZV_1A!AH:AH) -> 0 | AF8: =SUMIF(B_SZV_1A!$F:$F,$C8,B_SZV_1A!AI:AI) -> 0 | AG8: =SUMIF(B_SZV_1A!$F:$F,$C8,B_SZV_1A!AJ:AJ) -> 0 | AH8: =SUMIF(B_SZV_1A!$F:$F,$C8,B_SZV_1A!AK:AK) -> 0 | AI8: =SUMIF(B_SZV_1A!$F:$F,$C8,B_SZV_1A!AL:AL) -> 0 | AJ8: =SUMIF(B_SZV_1A!$F:$F,$C8,B_SZV_1A!AM:AM) -> 0 | AK8: =SUMIF(B_SZV_1A!$F:$F,$C8,B_SZV_1A!AN:AN) -> 0 | AL8: =SUMIF(B_SZV_1A!$F:$F,$C8,B_SZV_1A!AO:AO) -> 0 | AM8: =SUMIF(B_SZV_1A!$F:$F,$C8,B_SZV_1A!AP:AP) -> 0 | AN8: =SUM(AC8:AM8) -> 0 | AT8: =INDEX(B_SZV_1A!$G:$G,MATCH($C8,B_SZV_1A!$F:$F,0)) -> #N/A | AU8: =COUNTIF(B_SZV_1A!$AY$3:$AY$1520,$D8) -> 0 | AV8: =SUMIF(B_SZV_1A!$AY$3:$AY$1520,$D8,B_SZV_1A!$CF$3:$CF$1520) -> 0 | AW8: =SUMIF(B_SZV_1A!$AY:$AY,$D8,B_SZV_1A!$CG:$CG) -> 0 | AX8: =SUMIF(B_SZV_1A!$AY:$AY,$D8,B_SZV_1A!$CG:$CG) -> 0
A9: 917 | B9: Maglód-SZ | C9: 22-10922-1-001-00-07 | D9: 2318 | E9: Maglód Város Önkormányzata | F9: Maglód | G9: =IF(ISNA($AT9),"Nincs rögzítve!",IF(AW9=0,"Hiányzik a rövidtávú terv!",IF(AX9=0,"Hiányzik a hosszútávú terv!",IF(AU9=AV9,"Kitöltés rendben!",IF(AU9<>AV9,"Kitöltési hiba!","Kitöltési hiba!"))))) -> Nincs rögzítve! | K9: =L9+M9 -> 0 | L9: =SUMIF(B_SZV_1A!$F:$F,$C9,B_SZV_1A!$N:$N) -> 0 | M9: =SUMIF(B_SZV_1A!$F:$F,$C9,B_SZV_1A!$O:$O) -> 0 | N9: =SUMIF(B_SZV_1A!$F:$F,$C9,B_SZV_1A!$P:$P) -> 0 | P9: =SUMIF(B_SZV_1A!$F:$F,$C9,B_SZV_1A!R:R) -> 0 | Q9: =SUMIF(B_SZV_1A!$F:$F,$C9,B_SZV_1A!S:S) -> 0 | R9: =SUMIF(B_SZV_1A!$F:$F,$C9,B_SZV_1A!T:T) -> 0 | S9: =SUMIF(B_SZV_1A!$F:$F,$C9,B_SZV_1A!U:U) -> 0 | T9: =SUMIF(B_SZV_1A!$F:$F,$C9,B_SZV_1A!V:V) -> 0 | U9: =SUMIF(B_SZV_1A!$F:$F,$C9,B_SZV_1A!W:W) -> 0 | V9: =SUMIF(B_SZV_1A!$F:$F,$C9,B_SZV_1A!X:X) -> 0 | W9: =SUMIF(B_SZV_1A!$F:$F,$C9,B_SZV_1A!Y:Y) -> 0 | X9: =SUMIF(B_SZV_1A!$F:$F,$C9,B_SZV_1A!Z:Z) -> 0 | Y9: =SUMIF(B_SZV_1A!$F:$F,$C9,B_SZV_1A!AA:AA) -> 0 | Z9: =SUMIF(B_SZV_1A!$F:$F,$C9,B_SZV_1A!AB:AB) -> 0 | AA9: =SUM(P9:Z9) -> 0 | AC9: =SUMIF(B_SZV_1A!$F:$F,$C9,B_SZV_1A!AF:AF) -> 0 | AD9: =SUMIF(B_SZV_1A!$F:$F,$C9,B_SZV_1A!AG:AG) -> 0 | AE9: =SUMIF(B_SZV_1A!$F:$F,$C9,B_SZV_1A!AH:AH) -> 0 | AF9: =SUMIF(B_SZV_1A!$F:$F,$C9,B_SZV_1A!AI:AI) -> 0 | AG9: =SUMIF(B_SZV_1A!$F:$F,$C9,B_SZV_1A!AJ:AJ) -> 0 | AH9: =SUMIF(B_SZV_1A!$F:$F,$C9,B_SZV_1A!AK:AK) -> 0 | AI9: =SUMIF(B_SZV_1A!$F:$F,$C9,B_SZV_1A!AL:AL) -> 0 | AJ9: =SUMIF(B_SZV_1A!$F:$F,$C9,B_SZV_1A!AM:AM) -> 0 | AK9: =SUMIF(B_SZV_1A!$F:$F,$C9,B_SZV_1A!AN:AN) -> 0 | AL9: =SUMIF(B_SZV_1A!$F:$F,$C9,B_SZV_1A!AO:AO) -> 0 | AM9: =SUMIF(B_SZV_1A!$F:$F,$C9,B_SZV_1A!AP:AP) -> 0 | AN9: =SUM(AC9:AM9) -> 0 | AT9: =INDEX(B_SZV_1A!$G:$G,MATCH($C9,B_SZV_1A!$F:$F,0)) -> #N/A | AU9: =COUNTIF(B_SZV_1A!$AY$3:$AY$1520,$D9) -> 0 | AV9: =SUMIF(B_SZV_1A!$AY$3:$AY$1520,$D9,B_SZV_1A!$CF$3:$CF$1520) -> 0 | AW9: =SUMIF(B_SZV_1A!$AY:$AY,$D9,B_SZV_1A!$CG:$CG) -> 0 | AX9: =SUMIF(B_SZV_1A!$AY:$AY,$D9,B_SZV_1A!$CG:$CG) -> 0
A10: 918 | B10: Üllő-SZ | C10: 22-12894-1-001-00-10 | D10: 2319 | E10: Üllő Város Önkormányzata | F10: Üllő | G10: =IF(ISNA($AT10),"Nincs rögzítve!",IF(AW10=0,"Hiányzik a rövidtávú terv!",IF(AX10=0,"Hiányzik a hosszútávú terv!",IF(AU10=AV10,"Kitöltés rendben!",IF(AU10<>AV10,"Kitöltési hiba!","Kitöltési hiba!"))))) -> Nincs rögzítve! | K10: =L10+M10 -> 0 | L10: =SUMIF(B_SZV_1A!$F:$F,$C10,B_SZV_1A!$N:$N) -> 0 | M10: =SUMIF(B_SZV_1A!$F:$F,$C10,B_SZV_1A!$O:$O) -> 0 | N10: =SUMIF(B_SZV_1A!$F:$F,$C10,B_SZV_1A!$P:$P) -> 0 | P10: =SUMIF(B_SZV_1A!$F:$F,$C10,B_SZV_1A!R:R) -> 0 | Q10: =SUMIF(B_SZV_1A!$F:$F,$C10,B_SZV_1A!S:S) -> 0 | R10: =SUMIF(B_SZV_1A!$F:$F,$C10,B_SZV_1A!T:T) -> 0 | S10: =SUMIF(B_SZV_1A!$F:$F,$C10,B_SZV_1A!U:U) -> 0 | T10: =SUMIF(B_SZV_1A!$F:$F,$C10,B_SZV_1A!V:V) -> 0 | U10: =SUMIF(B_SZV_1A!$F:$F,$C10,B_SZV_1A!W:W) -> 0 | V10: =SUMIF(B_SZV_1A!$F:$F,$C10,B_SZV_1A!X:X) -> 0 | W10: =SUMIF(B_SZV_1A!$F:$F,$C10,B_SZV_1A!Y:Y) -> 0 | X10: =SUMIF(B_SZV_1A!$F:$F,$C10,B_SZV_1A!Z:Z) -> 0 | Y10: =SUMIF(B_SZV_1A!$F:$F,$C10,B_SZV_1A!AA:AA) -> 0 | Z10: =SUMIF(B_SZV_1A!$F:$F,$C10,B_SZV_1A!AB:AB) -> 0 | AA10: =SUM(P10:Z10) -> 0 | AC10: =SUMIF(B_SZV_1A!$F:$F,$C10,B_SZV_1A!AF:AF) -> 0 | AD10: =SUMIF(B_SZV_1A!$F:$F,$C10,B_SZV_1A!AG:AG) -> 0 | AE10: =SUMIF(B_SZV_1A!$F:$F,$C10,B_SZV_1A!AH:AH) -> 0 | AF10: =SUMIF(B_SZV_1A!$F:$F,$C10,B_SZV_1A!AI:AI) -> 0 | AG10: =SUMIF(B_SZV_1A!$F:$F,$C10,B_SZV_1A!AJ:AJ) -> 0 | AH10: =SUMIF(B_SZV_1A!$F:$F,$C10,B_SZV_1A!AK:AK) -> 0 | AI10: =SUMIF(B_SZV_1A!$F:$F,$C10,B_SZV_1A!AL:AL) -> 0 | AJ10: =SUMIF(B_SZV_1A!$F:$F,$C10,B_SZV_1A!AM:AM) -> 0 | AK10: =SUMIF(B_SZV_1A!$F:$F,$C10,B_SZV_1A!AN:AN) -> 0 | AL10: =SUMIF(B_SZV_1A!$F:$F,$C10,B_SZV_1A!AO:AO) -> 0 | AM10: =SUMIF(B_SZV_1A!$F:$F,$C10,B_SZV_1A!AP:AP) -> 0 | AN10: =SUM(AC10:AM10) -> 0 | AT10: =INDEX(B_SZV_1A!$G:$G,MATCH($C10,B_SZV_1A!$F:$F,0)) -> #N/A | AU10: =COUNTIF(B_SZV_1A!$AY$3:$AY$1520,$D10) -> 0 | AV10: =SUMIF(B_SZV_1A!$AY$3:$AY$1520,$D10,B_SZV_1A!$CF$3:$CF$1520) -> 0 | AW10: =SUMIF(B_SZV_1A!$AY:$AY,$D10,B_SZV_1A!$CG:$CG) -> 0 | AX10: =SUMIF(B_SZV_1A!$AY:$AY,$D10,B_SZV_1A!$CG:$CG) -> 0
A11: 919 | B11: Sz.halom-SZ | C11: 22-13277-1-001-00-01 | D11: 2320 | E11: Szigethalom Város Önkormányzat | F11: Szigethalom | G11: =IF(ISNA($AT11),"Nincs rögzítve!",IF(AW11=0,"Hiányzik a rövidtávú terv!",IF(AX11=0,"Hiányzik a hosszútávú terv!",IF(AU11=AV11,"Kitöltés rendben!",IF(AU11<>AV11,"Kitöltési hiba!","Kitöltési hiba!"))))) -> Nincs rögzítve! | K11: =L11+M11 -> 0 | L11: =SUMIF(B_SZV_1A!$F:$F,$C11,B_SZV_1A!$N:$N) -> 0 | M11: =SUMIF(B_SZV_1A!$F:$F,$C11,B_SZV_1A!$O:$O) -> 0 | N11: =SUMIF(B_SZV_1A!$F:$F,$C11,B_SZV_1A!$P:$P) -> 0 | P11: =SUMIF(B_SZV_1A!$F:$F,$C11,B_SZV_1A!R:R) -> 0 | Q11: =SUMIF(B_SZV_1A!$F:$F,$C11,B_SZV_1A!S:S) -> 0 | R11: =SUMIF(B_SZV_1A!$F:$F,$C11,B_SZV_1A!T:T) -> 0 | S11: =SUMIF(B_SZV_1A!$F:$F,$C11,B_SZV_1A!U:U) -> 0 | T11: =SUMIF(B_SZV_1A!$F:$F,$C11,B_SZV_1A!V:V) -> 0 | U11: =SUMIF(B_SZV_1A!$F:$F,$C11,B_SZV_1A!W:W) -> 0 | V11: =SUMIF(B_SZV_1A!$F:$F,$C11,B_SZV_1A!X:X) -> 0 | W11: =SUMIF(B_SZV_1A!$F:$F,$C11,B_SZV_1A!Y:Y) -> 0 | X11: =SUMIF(B_SZV_1A!$F:$F,$C11,B_SZV_1A!Z:Z) -> 0 | Y11: =SUMIF(B_SZV_1A!$F:$F,$C11,B_SZV_1A!AA:AA) -> 0 | Z11: =SUMIF(B_SZV_1A!$F:$F,$C11,B_SZV_1A!AB:AB) -> 0 | AA11: =SUM(P11:Z11) -> 0 | AC11: =SUMIF(B_SZV_1A!$F:$F,$C11,B_SZV_1A!AF:AF) -> 0 | AD11: =SUMIF(B_SZV_1A!$F:$F,$C11,B_SZV_1A!AG:AG) -> 0 | AE11: =SUMIF(B_SZV_1A!$F:$F,$C11,B_SZV_1A!AH:AH) -> 0 | AF11: =SUMIF(B_SZV_1A!$F:$F,$C11,B_SZV_1A!AI:AI) -> 0 | AG11: =SUMIF(B_SZV_1A!$F:$F,$C11,B_SZV_1A!AJ:AJ) -> 0 | AH11: =SUMIF(B_SZV_1A!$F:$F,$C11,B_SZV_1A!AK:AK) -> 0 | AI11: =SUMIF(B_SZV_1A!$F:$F,$C11,B_SZV_1A!AL:AL) -> 0 | AJ11: =SUMIF(B_SZV_1A!$F:$F,$C11,B_SZV_1A!AM:AM) -> 0 | AK11: =SUMIF(B_SZV_1A!$F:$F,$C11,B_SZV_1A!AN:AN) -> 0 | AL11: =SUMIF(B_SZV_1A!$F:$F,$C11,B_SZV_1A!AO:AO) -> 0 | AM11: =SUMIF(B_SZV_1A!$F:$F,$C11,B_SZV_1A!AP:AP) -> 0 | AN11: =SUM(AC11:AM11) -> 0 | AT11: =INDEX(B_SZV_1A!$G:$G,MATCH($C11,B_SZV_1A!$F:$F,0)) -> #N/A | AU11: =COUNTIF(B_SZV_1A!$AY$3:$AY$1520,$D11) -> 0 | AV11: =SUMIF(B_SZV_1A!$AY$3:$AY$1520,$D11,B_SZV_1A!$CF$3:$CF$1520) -> 0 | AW11: =SUMIF(B_SZV_1A!$AY:$AY,$D11,B_SZV_1A!$CG:$CG) -> 0 | AX11: =SUMIF(B_SZV_1A!$AY:$AY,$D11,B_SZV_1A!$CG:$CG) -> 0
A12: 920 | B12: Ecser-SZ | C12: 22-24518-1-001-00-10 | D12: 2322 | E12: Ecser Nagyközség Önkormányzata | F12: Ecser | G12: =IF(ISNA($AT12),"Nincs rögzítve!",IF(AW12=0,"Hiányzik a rövidtávú terv!",IF(AX12=0,"Hiányzik a hosszútávú terv!",IF(AU12=AV12,"Kitöltés rendben!",IF(AU12<>AV12,"Kitöltési hiba!","Kitöltési hiba!"))))) -> Nincs rögzítve! | K12: =L12+M12 -> 0 | L12: =SUMIF(B_SZV_1A!$F:$F,$C12,B_SZV_1A!$N:$N) -> 0 | M12: =SUMIF(B_SZV_1A!$F:$F,$C12,B_SZV_1A!$O:$O) -> 0 | N12: =SUMIF(B_SZV_1A!$F:$F,$C12,B_SZV_1A!$P:$P) -> 0 | P12: =SUMIF(B_SZV_1A!$F:$F,$C12,B_SZV_1A!R:R) -> 0 | Q12: =SUMIF(B_SZV_1A!$F:$F,$C12,B_SZV_1A!S:S) -> 0 | R12: =SUMIF(B_SZV_1A!$F:$F,$C12,B_SZV_1A!T:T) -> 0 | S12: =SUMIF(B_SZV_1A!$F:$F,$C12,B_SZV_1A!U:U) -> 0 | T12: =SUMIF(B_SZV_1A!$F:$F,$C12,B_SZV_1A!V:V) -> 0 | U12: =SUMIF(B_SZV_1A!$F:$F,$C12,B_SZV_1A!W:W) -> 0 | V12: =SUMIF(B_SZV_1A!$F:$F,$C12,B_SZV_1A!X:X) -> 0 | W12: =SUMIF(B_SZV_1A!$F:$F,$C12,B_SZV_1A!Y:Y) -> 0 | X12: =SUMIF(B_SZV_1A!$F:$F,$C12,B_SZV_1A!Z:Z) -> 0 | Y12: =SUMIF(B_SZV_1A!$F:$F,$C12,B_SZV_1A!AA:AA) -> 0 | Z12: =SUMIF(B_SZV_1A!$F:$F,$C12,B_SZV_1A!AB:AB) -> 0 | AA12: =SUM(P12:Z12) -> 0 | AC12: =SUMIF(B_SZV_1A!$F:$F,$C12,B_SZV_1A!AF:AF) -> 0 | AD12: =SUMIF(B_SZV_1A!$F:$F,$C12,B_SZV_1A!AG:AG) -> 0 | AE12: =SUMIF(B_SZV_1A!$F:$F,$C12,B_SZV_1A!AH:AH) -> 0 | AF12: =SUMIF(B_SZV_1A!$F:$F,$C12,B_SZV_1A!AI:AI) -> 0 | AG12: =SUMIF(B_SZV_1A!$F:$F,$C12,B_SZV_1A!AJ:AJ) -> 0 | AH12: =SUMIF(B_SZV_1A!$F:$F,$C12,B_SZV_1A!AK:AK) -> 0 | AI12: =SUMIF(B_SZV_1A!$F:$F,$C12,B_SZV_1A!AL:AL) -> 0 | AJ12: =SUMIF(B_SZV_1A!$F:$F,$C12,B_SZV_1A!AM:AM) -> 0 | AK12: =SUMIF(B_SZV_1A!$F:$F,$C12,B_SZV_1A!AN:AN) -> 0 | AL12: =SUMIF(B_SZV_1A!$F:$F,$C12,B_SZV_1A!AO:AO) -> 0 | AM12: =SUMIF(B_SZV_1A!$F:$F,$C12,B_SZV_1A!AP:AP) -> 0 | AN12: =SUM(AC12:AM12) -> 0 | AT12: =INDEX(B_SZV_1A!$G:$G,MATCH($C12,B_SZV_1A!$F:$F,0)) -> #N/A | AU12: =COUNTIF(B_SZV_1A!$AY$3:$AY$1520,$D12) -> 0 | AV12: =SUMIF(B_SZV_1A!$AY$3:$AY$1520,$D12,B_SZV_1A!$CF$3:$CF$1520) -> 0 | AW12: =SUMIF(B_SZV_1A!$AY:$AY,$D12,B_SZV_1A!$CG:$CG) -> 0 | AX12: =SUMIF(B_SZV_1A!$AY:$AY,$D12,B_SZV_1A!$CG:$CG) -> 0
A13: 921 | B13: Gyál-SZ | C13: 22-25627-1-001-00-14 | D13: 2323 | E13: Gyál Város Önkormányzata | F13: Gyál | G13: =IF(ISNA($AT13),"Nincs rögzítve!",IF(AW13=0,"Hiányzik a rövidtávú terv!",IF(AX13=0,"Hiányzik a hosszútávú terv!",IF(AU13=AV13,"Kitöltés rendben!",IF(AU13<>AV13,"Kitöltési hiba!","Kitöltési hiba!"))))) -> Nincs rögzítve! | K13: =L13+M13 -> 0 | L13: =SUMIF(B_SZV_1A!$F:$F,$C13,B_SZV_1A!$N:$N) -> 0 | M13: =SUMIF(B_SZV_1A!$F:$F,$C13,B_SZV_1A!$O:$O) -> 0 | N13: =SUMIF(B_SZV_1A!$F:$F,$C13,B_SZV_1A!$P:$P) -> 0 | P13: =SUMIF(B_SZV_1A!$F:$F,$C13,B_SZV_1A!R:R) -> 0 | Q13: =SUMIF(B_SZV_1A!$F:$F,$C13,B_SZV_1A!S:S) -> 0 | R13: =SUMIF(B_SZV_1A!$F:$F,$C13,B_SZV_1A!T:T) -> 0 | S13: =SUMIF(B_SZV_1A!$F:$F,$C13,B_SZV_1A!U:U) -> 0 | T13: =SUMIF(B_SZV_1A!$F:$F,$C13,B_SZV_1A!V:V) -> 0 | U13: =SUMIF(B_SZV_1A!$F:$F,$C13,B_SZV_1A!W:W) -> 0 | V13: =SUMIF(B_SZV_1A!$F:$F,$C13,B_SZV_1A!X:X) -> 0 | W13: =SUMIF(B_SZV_1A!$F:$F,$C13,B_SZV_1A!Y:Y) -> 0 | X13: =SUMIF(B_SZV_1A!$F:$F,$C13,B_SZV_1A!Z:Z) -> 0 | Y13: =SUMIF(B_SZV_1A!$F:$F,$C13,B_SZV_1A!AA:AA) -> 0 | Z13: =SUMIF(B_SZV_1A!$F:$F,$C13,B_SZV_1A!AB:AB) -> 0 | AA13: =SUM(P13:Z13) -> 0 | AC13: =SUMIF(B_SZV_1A!$F:$F,$C13,B_SZV_1A!AF:AF) -> 0 | AD13: =SUMIF(B_SZV_1A!$F:$F,$C13,B_SZV_1A!AG:AG) -> 0 | AE13: =SUMIF(B_SZV_1A!$F:$F,$C13,B_SZV_1A!AH:AH) -> 0 | AF13: =SUMIF(B_SZV_1A!$F:$F,$C13,B_SZV_1A!AI:AI) -> 0 | AG13: =SUMIF(B_SZV_1A!$F:$F,$C13,B_SZV_1A!AJ:AJ) -> 0 | AH13: =SUMIF(B_SZV_1A!$F:$F,$C13,B_SZV_1A!AK:AK) -> 0 | AI13: =SUMIF(B_SZV_1A!$F:$F,$C13,B_SZV_1A!AL:AL) -> 0 | AJ13: =SUMIF(B_SZV_1A!$F:$F,$C13,B_SZV_1A!AM:AM) -> 0 | AK13: =SUMIF(B_SZV_1A!$F:$F,$C13,B_SZV_1A!AN:AN) -> 0 | AL13: =SUMIF(B_SZV_1A!$F:$F,$C13,B_SZV_1A!AO:AO) -> 0 | AM13: =SUMIF(B_SZV_1A!$F:$F,$C13,B_SZV_1A!AP:AP) -> 0 | AN13: =SUM(AC13:AM13) -> 0 | AT13: =INDEX(B_SZV_1A!$G:$G,MATCH($C13,B_SZV_1A!$F:$F,0)) -> #N/A | AU13: =COUNTIF(B_SZV_1A!$AY$3:$AY$1520,$D13) -> 0 | AV13: =SUMIF(B_SZV_1A!$AY$3:$AY$1520,$D13,B_SZV_1A!$CF$3:$CF$1520) -> 0 | AW13: =SUMIF(B_SZV_1A!$AY:$AY,$D13,B_SZV_1A!$CG:$CG) -> 0 | AX13: =SUMIF(B_SZV_1A!$AY:$AY,$D13,B_SZV_1A!$CG:$CG) -> 0
A14: 922 | B14: Vecsés-SZ | C14: 22-26815-1-001-00-04 | D14: 2324 | E14: Vecsés Város Önkormányzata | F14: Vecsés | G14: =IF(ISNA($AT14),"Nincs rögzítve!",IF(AW14=0,"Hiányzik a rövidtávú terv!",IF(AX14=0,"Hiányzik a hosszútávú terv!",IF(AU14=AV14,"Kitöltés rendben!",IF(AU14<>AV14,"Kitöltési hiba!","Kitöltési hiba!"))))) -> Nincs rögzítve! | K14: =L14+M14 -> 0 | L14: =SUMIF(B_SZV_1A!$F:$F,$C14,B_SZV_1A!$N:$N) -> 0 | M14: =SUMIF(B_SZV_1A!$F:$F,$C14,B_SZV_1A!$O:$O) -> 0 | N14: =SUMIF(B_SZV_1A!$F:$F,$C14,B_SZV_1A!$P:$P) -> 0 | P14: =SUMIF(B_SZV_1A!$F:$F,$C14,B_SZV_1A!R:R) -> 0 | Q14: =SUMIF(B_SZV_1A!$F:$F,$C14,B_SZV_1A!S:S) -> 0 | R14: =SUMIF(B_SZV_1A!$F:$F,$C14,B_SZV_1A!T:T) -> 0 | S14: =SUMIF(B_SZV_1A!$F:$F,$C14,B_SZV_1A!U:U) -> 0 | T14: =SUMIF(B_SZV_1A!$F:$F,$C14,B_SZV_1A!V:V) -> 0 | U14: =SUMIF(B_SZV_1A!$F:$F,$C14,B_SZV_1A!W:W) -> 0 | V14: =SUMIF(B_SZV_1A!$F:$F,$C14,B_SZV_1A!X:X) -> 0 | W14: =SUMIF(B_SZV_1A!$F:$F,$C14,B_SZV_1A!Y:Y) -> 0 | X14: =SUMIF(B_SZV_1A!$F:$F,$C14,B_SZV_1A!Z:Z) -> 0 | Y14: =SUMIF(B_SZV_1A!$F:$F,$C14,B_SZV_1A!AA:AA) -> 0 | Z14: =SUMIF(B_SZV_1A!$F:$F,$C14,B_SZV_1A!AB:AB) -> 0 | AA14: =SUM(P14:Z14) -> 0 | AC14: =SUMIF(B_SZV_1A!$F:$F,$C14,B_SZV_1A!AF:AF) -> 0 | AD14: =SUMIF(B_SZV_1A!$F:$F,$C14,B_SZV_1A!AG:AG) -> 0 | AE14: =SUMIF(B_SZV_1A!$F:$F,$C14,B_SZV_1A!AH:AH) -> 0 | AF14: =SUMIF(B_SZV_1A!$F:$F,$C14,B_SZV_1A!AI:AI) -> 0 | AG14: =SUMIF(B_SZV_1A!$F:$F,$C14,B_SZV_1A!AJ:AJ) -> 0 | AH14: =SUMIF(B_SZV_1A!$F:$F,$C14,B_SZV_1A!AK:AK) -> 0 | AI14: =SUMIF(B_SZV_1A!$F:$F,$C14,B_SZV_1A!AL:AL) -> 0 | AJ14: =SUMIF(B_SZV_1A!$F:$F,$C14,B_SZV_1A!AM:AM) -> 0 | AK14: =SUMIF(B_SZV_1A!$F:$F,$C14,B_SZV_1A!AN:AN) -> 0 | AL14: =SUMIF(B_SZV_1A!$F:$F,$C14,B_SZV_1A!AO:AO) -> 0 | AM14: =SUMIF(B_SZV_1A!$F:$F,$C14,B_SZV_1A!AP:AP) -> 0 | AN14: =SUM(AC14:AM14) -> 0 | AT14: =INDEX(B_SZV_1A!$G:$G,MATCH($C14,B_SZV_1A!$F:$F,0)) -> #N/A | AU14: =COUNTIF(B_SZV_1A!$AY$3:$AY$1520,$D14) -> 0 | AV14: =SUMIF(B_SZV_1A!$AY$3:$AY$1520,$D14,B_SZV_1A!$CF$3:$CF$1520) -> 0 | AW14: =SUMIF(B_SZV_1A!$AY:$AY,$D14,B_SZV_1A!$CG:$CG) -> 0 | AX14: =SUMIF(B_SZV_1A!$AY:$AY,$D14,B_SZV_1A!$CG:$CG) -> 0
A15: 923 | B15: Inárcs-SZV | C15: 22-32106-1-001-00-05 | D15: 2325 | E15: Inárcs Nagyközség Önkormányzata | F15: Inárcs | G15: =IF(ISNA($AT15),"Nincs rögzítve!",IF(AW15=0,"Hiányzik a rövidtávú terv!",IF(AX15=0,"Hiányzik a hosszútávú terv!",IF(AU15=AV15,"Kitöltés rendben!",IF(AU15<>AV15,"Kitöltési hiba!","Kitöltési hiba!"))))) -> Nincs rögzítve! | K15: =L15+M15 -> 0 | L15: =SUMIF(B_SZV_1A!$F:$F,$C15,B_SZV_1A!$N:$N) -> 0 | M15: =SUMIF(B_SZV_1A!$F:$F,$C15,B_SZV_1A!$O:$O) -> 0 | N15: =SUMIF(B_SZV_1A!$F:$F,$C15,B_SZV_1A!$P:$P) -> 0 | P15: =SUMIF(B_SZV_1A!$F:$F,$C15,B_SZV_1A!R:R) -> 0 | Q15: =SUMIF(B_SZV_1A!$F:$F,$C15,B_SZV_1A!S:S) -> 0 | R15: =SUMIF(B_SZV_1A!$F:$F,$C15,B_SZV_1A!T:T) -> 0 | S15: =SUMIF(B_SZV_1A!$F:$F,$C15,B_SZV_1A!U:U) -> 0 | T15: =SUMIF(B_SZV_1A!$F:$F,$C15,B_SZV_1A!V:V) -> 0 | U15: =SUMIF(B_SZV_1A!$F:$F,$C15,B_SZV_1A!W:W) -> 0 | V15: =SUMIF(B_SZV_1A!$F:$F,$C15,B_SZV_1A!X:X) -> 0 | W15: =SUMIF(B_SZV_1A!$F:$F,$C15,B_SZV_1A!Y:Y) -> 0 | X15: =SUMIF(B_SZV_1A!$F:$F,$C15,B_SZV_1A!Z:Z) -> 0 | Y15: =SUMIF(B_SZV_1A!$F:$F,$C15,B_SZV_1A!AA:AA) -> 0 | Z15: =SUMIF(B_SZV_1A!$F:$F,$C15,B_SZV_1A!AB:AB) -> 0 | AA15: =SUM(P15:Z15) -> 0 | AC15: =SUMIF(B_SZV_1A!$F:$F,$C15,B_SZV_1A!AF:AF) -> 0 | AD15: =SUMIF(B_SZV_1A!$F:$F,$C15,B_SZV_1A!AG:AG) -> 0 | AE15: =SUMIF(B_SZV_1A!$F:$F,$C15,B_SZV_1A!AH:AH) -> 0 | AF15: =SUMIF(B_SZV_1A!$F:$F,$C15,B_SZV_1A!AI:AI) -> 0 | AG15: =SUMIF(B_SZV_1A!$F:$F,$C15,B_SZV_1A!AJ:AJ) -> 0 | AH15: =SUMIF(B_SZV_1A!$F:$F,$C15,B_SZV_1A!AK:AK) -> 0 | AI15: =SUMIF(B_SZV_1A!$F:$F,$C15,B_SZV_1A!AL:AL) -> 0 | AJ15: =SUMIF(B_SZV_1A!$F:$F,$C15,B_SZV_1A!AM:AM) -> 0 | AK15: =SUMIF(B_SZV_1A!$F:$F,$C15,B_SZV_1A!AN:AN) -> 0 | AL15: =SUMIF(B_SZV_1A!$F:$F,$C15,B_SZV_1A!AO:AO) -> 0 | AM15: =SUMIF(B_SZV_1A!$F:$F,$C15,B_SZV_1A!AP:AP) -> 0 | AN15: =SUM(AC15:AM15) -> 0 | AT15: =INDEX(B_SZV_1A!$G:$G,MATCH($C15,B_SZV_1A!$F:$F,0)) -> #N/A | AU15: =COUNTIF(B_SZV_1A!$AY$3:$AY$1520,$D15) -> 0 | AV15: =SUMIF(B_SZV_1A!$AY$3:$AY$1520,$D15,B_SZV_1A!$CF$3:$CF$1520) -> 0 | AW15: =SUMIF(B_SZV_1A!$AY:$AY,$D15,B_SZV_1A!$CG:$CG) -> 0 | AX15: =SUMIF(B_SZV_1A!$AY:$AY,$D15,B_SZV_1A!$CG:$CG) -> 0
A16: 924 | B16: Kerepes-Kistarcsa-SZV | C16: 22-34157-1-002-00-12 | D16: 2326 | E16: Kerepes Város Önkormányzata, Kistarcsa Város Önkormányzata | F16: Kerepes, Kistarcsa | G16: =IF(ISNA($AT16),"Nincs rögzítve!",IF(AW16=0,"Hiányzik a rövidtávú terv!",IF(AX16=0,"Hiányzik a hosszútávú terv!",IF(AU16=AV16,"Kitöltés rendben!",IF(AU16<>AV16,"Kitöltési hiba!","Kitöltési hiba!"))))) -> Kitöltés rendben! | K16: =L16+M16 -> 1385000 | L16: =SUMIF(B_SZV_1A!$F:$F,$C16,B_SZV_1A!$N:$N) -> 0 | M16: =SUMIF(B_SZV_1A!$F:$F,$C16,B_SZV_1A!$O:$O) -> 1385000 | N16: =SUMIF(B_SZV_1A!$F:$F,$C16,B_SZV_1A!$P:$P) -> 0 | P16: =SUMIF(B_SZV_1A!$F:$F,$C16,B_SZV_1A!R:R) -> 0 | Q16: =SUMIF(B_SZV_1A!$F:$F,$C16,B_SZV_1A!S:S) -> 0 | R16: =SUMIF(B_SZV_1A!$F:$F,$C16,B_SZV_1A!T:T) -> 0 | S16: =SUMIF(B_SZV_1A!$F:$F,$C16,B_SZV_1A!U:U) -> 0 | T16: =SUMIF(B_SZV_1A!$F:$F,$C16,B_SZV_1A!V:V) -> 0 | U16: =SUMIF(B_SZV_1A!$F:$F,$C16,B_SZV_1A!W:W) -> 0 | V16: =SUMIF(B_SZV_1A!$F:$F,$C16,B_SZV_1A!X:X) -> 0 | W16: =SUMIF(B_SZV_1A!$F:$F,$C16,B_SZV_1A!Y:Y) -> 0 | X16: =SUMIF(B_SZV_1A!$F:$F,$C16,B_SZV_1A!Z:Z) -> 0 | Y16: =SUMIF(B_SZV_1A!$F:$F,$C16,B_SZV_1A!AA:AA) -> 0 | Z16: =SUMIF(B_SZV_1A!$F:$F,$C16,B_SZV_1A!AB:AB) -> 0 | AA16: =SUM(P16:Z16) -> 0 | AC16: =SUMIF(B_SZV_1A!$F:$F,$C16,B_SZV_1A!AF:AF) -> 0 | AD16: =SUMIF(B_SZV_1A!$F:$F,$C16,B_SZV_1A!AG:AG) -> 0 | AE16: =SUMIF(B_SZV_1A!$F:$F,$C16,B_SZV_1A!AH:AH) -> 0 | AF16: =SUMIF(B_SZV_1A!$F:$F,$C16,B_SZV_1A!AI:AI) -> 0 | AG16: =SUMIF(B_SZV_1A!$F:$F,$C16,B_SZV_1A!AJ:AJ) -> 0 | AH16: =SUMIF(B_SZV_1A!$F:$F,$C16,B_SZV_1A!AK:AK) -> 0 | AI16: =SUMIF(B_SZV_1A!$F:$F,$C16,B_SZV_1A!AL:AL) -> 0 | AJ16: =SUMIF(B_SZV_1A!$F:$F,$C16,B_SZV_1A!AM:AM) -> 0 | AK16: =SUMIF(B_SZV_1A!$F:$F,$C16,B_SZV_1A!AN:AN) -> 0 | AL16: =SUMIF(B_SZV_1A!$F:$F,$C16,B_SZV_1A!AO:AO) -> 0 | AM16: =SUMIF(B_SZV_1A!$F:$F,$C16,B_SZV_1A!AP:AP) -> 0 | AN16: =SUM(AC16:AM16) -> 0 | AT16: =INDEX(B_SZV_1A!$G:$G,MATCH($C16,B_SZV_1A!$F:$F,0)) -> Kerepes-Kistarcsa-SZV | AU16: =COUNTIF(B_SZV_1A!$AY$3:$AY$1520,$D16) -> 5 | AV16: =SUMIF(B_SZV_1A!$AY$3:$AY$1520,$D16,B_SZV_1A!$CF$3:$CF$1520) -> 5 | AW16: =SUMIF(B_SZV_1A!$AY:$AY,$D16,B_SZV_1A!$CG:$CG) -> 1 | AX16: =SUMIF(B_SZV_1A!$AY:$AY,$D16,B_SZV_1A!$CG:$CG) -> 1

Sheet B_SZV_1A
B1: A | C1: B | D1: C | E1: D | F1: E/1 | G1: E/2 | H1: fx | I1: VKEFFO | J1: F | K1: G | L1: I/1 | M1: I/2 | N1: J/1 | O1: J/2 | P1: VKEFFO | R1: H/1 -- Forrás megnevezése (I. ütem) | AD1: fx | AF1: H/2 -- Forrás megnevezése (II. ütem) | AS1: fx | AU1: VKEFFO | AV1: VKEFFO | AY1: fx | AZ1: fx | BA1: fx | BB1: fx | BC1: fx | BD1: fx | BE1: fx | BF1: fx | BG1: fx | BH1: fx | BI1: fx | BJ1: fx | BK1: fx | BL1: fx | BM1: fx | BN1: fx | BO1: fx | BP1: fx | BQ1: fx | BR1: fx | BS1: fx | BT1: fx | BU1: fx | BV1: fx | BW1: fx | BX1: fx | BY1: fx | BZ1: fx | CA1: fx | CB1: fx | CC1: fx | CD1: fx | CE1: fx | CF1: fx | CG1: fx | CH1: fx
A2: Ellenőrzés | B2: Fontossági sorrend | C2: A beruházási feladat kategóriája | D2: Beruházás megnevezése | E2: Vízjogi létesítési/ elvi engedély száma (amennyiben rendelkezésre áll) | F2: Víziközmű-rendszer hivatali kódja | G2: Víziközmű-rendszer megnevezése | H2: FELADAT-AZONOSITO | I2: Ellátási terület | J2: Az érintett ellátásért felelős(ök) megnevezése | K2: Tervezett nettó költség [eFt] | L2: Megvalósítás várható időtartama - KEZDÉS | M2: Megvalósítás várható időtartama - BEFEJEZÉS | N2: A Felújítás tervezett nettó költsége a tervezési időszak ütemezése szerint [eFt] - I. ütem | O2: A Felújítás tervezett nettó költsége a tervezési időszak ütemezése szerint [eFt] - II. ütem | P2: Az EM rendelet 2. melléklet terhére elszámolni tervezett költség | R2: Használati díj [eFt] | S2: ÉCS [eFt] | T2: Közműfejlesztési hozzájárulás [eFt] | U2: Egyéb saját forrás [eFt] | V2: Díj [eFt] | W2: VFEA - EM rendelet 1. melléklet | X2: Egyéb állami támogatás [eFt] | Y2: Önkormányzati támogatás [eFt] | Z2: EU-s támogatás [eFt] | AA2: Egyéb támogatás [eFt] | AB2: Banki hitel, kötvénykibocsátás [eFt] | AC2: Összesítés [eFt] | AD2: Forrás (I. ütem) - ELLENŐRZÉS | AF2: Használati díj [eFt] | AG2: ÉCS [eFt] | AH2: Közműfejlesztési hozzájárulás [eFt] | AI2: Egyéb saját forrás [eFt] | AJ2: Díj [eFt] | AK2: VFEA - EM rendelet 1. melléklet | AL2: Egyéb állami támogatás [eFt] | AM2: Önkormányzati támogatás [eFt] | AN2: EU-s támogatás [eFt] | AO2: Egyéb támogatás [eFt] | AP2: Banki hitel, kötvénykibocsátás [eFt] | AQ2: Összesítés [eFt] | AR2: Forráshiányos a feladat (II. ütem)? | AS2: Forrás (II. ütem) - ELLENŐRZÉS | AU2: INDOKLÁS | AV2: MEGJEGYZÉS | AW2: Feladat sorszáma | AY2: ISA | AZ2: Indoklás hossza | BA2: Minden kitöltve? (kivéve a forrás) 1-igen;0-nem | BB2: 2027-2027: R 2027-x: RH 2028-x: H | BC2: Van rövid távú feladat | BD2: Ütem költségek hibásak? --- 1-igen; 0-nem | BE2: 1.ütem FORRÁS --- forráshiányos? 1-igen;0-nem | BF2: 1.ütem FORRÁS --- Összesítés | BG2: 1.ütem FORRÁS kitöltve? 1-igen, 0-nem | BH2: 1.ütem FORRÁS jól kitöltve? 1-igen;0-nem | BI2: 2.ütem FORRÁS --- forráshiányos? 1-igen;0-nem | BJ2: 2.ütem FORRÁS kitöltve? 1-igen, 0-nem | BK2: 2.ütem FORRÁS jól kitöltve? 1-igen;0-nem | BL2: 2.FORRÁS ütem --- Összesítés | BM2: Van feladat 1.ütem? 1-igen;0-nem | BN2: Van feladat 2.ütem? 1-igen;0-nem | BO2: 1.ütem nullás a terv? 1-igen;0-nem | BP2: 2.ütem nullás a terv? 1-igen;0-nem | BQ2: Nullás és van indoklás rövidtáv 1-igen; 0-nem | BR2: Nincs hosszútávú terv (ktg) indoklás? | BS2: Nullás és van idnoklás rövidtáv 1-igen; 0-nem | BT2: Nullás és van indoklás hosszútáv 1-igen; 0-nem | BU2: Fontossági sorrend | BV2: A felújítási feladat kategóriája | BW2: Felújítás megnevezése | BX2: Vízjogi létesítési/ elvi engedély száma (amennyiben rendelkezésre áll) | BY2: Megvalósítás várható időtartama - KEZDÉS | BZ2: Megvalósítás várható időtartama - BEFEJEZÉS | CA2: A Felújítás tervezett nettó költsége a tervezési időszak ütemezése szerint [eFt] - I. ütem | CB2: A Felújítás tervezett nettó költsége a tervezési időszak ütemezése szerint [eFt] - II. ütem | CC2: VFEA - EM rendelet 2. melléklet (fenntartására fordítandó) | CD2: HIÁNYOS kitöltés?! | CE2: ÖSSZESÍTŐ szöveggel | CF2: Kitöltés rendben! >> 1; Egyébként >> 0 | CG2: Rövid és jó | CH2: Hosszú és jó
A3: =IF($G3="","Nincs VKR kiválasztva!",CE3) -> Kitöltés rendben! | B3: 1. | C3: 2711_NINCS FELADAT | D3: - | E3: - | F3: =VLOOKUP($G3,Összesítő!$B:$F,2,FALSE) -> 22-34157-1-002-00-12 | G3: Kerepes-Kistarcsa-SZV | H3: =AY3&"_"&AW3&"_FIV_"&LEFT(Előlap!$B$6,4) -> 2326_1_FIV_2026 | I3: =VLOOKUP($G3,Összesítő!$B:$F,5,FALSE) -> Kerepes, Kistarcsa | J3: =VLOOKUP($G3,Összesítő!$B:$F,4,FALSE) -> Kerepes Város Önkormányzata, Kistarcsa Város Önkormányzata | K3: =N3+O3 -> 0 | L3: 2027 | M3: 2027 | N3: 0 | O3: 0 | P3: 0 | R3: 0 | S3: 0 | T3: 0 | U3: 0 | V3: 0 | W3: 0 | X3: 0 | Y3: 0 | Z3: 0 | AA3: 0 | AB3: 0 | AC3: =SUM(R3:AB3) -> 0 | AD3: =IF($G3="","Nincs VKR kiválasztva!",IF(BA3=0,"Hiányos kitöltés!",BF3)) -> A forrás egyenlő a költséggel (I.ütem). | AF3: 0 | AG3: 0 | AH3: 0 | AI3: 0 | AJ3: 0 | AK3: 0 | AL3: 0 | AM3: 0 | AN3: 0 | AO3: 0 | AP3: 0 | AQ3: =SUM(AF3:AP3) -> 0 | AS3: =IF($G3="","Nincs VKR kiválasztva!",IF($BA3=0,"Hiányos kitöltés!",IF($BN3=0,"Nem hosszútávú a feladat.",$BL3))) -> Nem hosszútávú a feladat. | AU3: A szükséges pénzügyi fedezet nem áll rendelkezésre a II. ütemben felsorolt feladatok tekintetében. | AW3: =COUNTA($G$3:G3) -> 1 | AY3: =VLOOKUP($G3,Összesítő!$B:$F,3,FALSE) -> 2326 | AZ3: =LEN($AU3) -> 98 | BA3: =IF(OR($B3="",$C3="",$D3="",$E3="",$F3="",$L3="",$M3="",$N3="",$O3="",$P3=""),0,1) -> 1 | BB3: =IF($F3="",0,IF(AND($L3=2027,$M3=2027),"R",IF(AND($L3=2027,$M3>2027),"RH",IF(AND($L3>2027,$M3>2027),"H","x")))) -> R | BC3: =IF(OR(BB3="R",BB3="RH"),1,0) -> 1 | BD3: =IF(AND($BB3="R",$O3>0),1,IF(AND($BB3="H",$N3>0),1,0)) -> 0 | BE3: =IF($AC3<$N3,1,IF($AC3=$N3,0)) -> 0 | BF3: =IF($L3>2027,"Nem rövidtávú a feladat.",IF($BE3=1,"Az I. ütem nem lehet forráshiányos!",IF($AC3>$N3,"Többlet forrást jelölt meg az I.ütemnél! Kérjük, a többletet az 'Osszesito' fülön tüntesse fel!",IF($AC3=$N3,"A forrás egyenlő a költséggel (I.ütem).",0)))) -> A forrás egyenlő a költséggel (I.ütem). | BG3: =IF(AND($R3<>"",$S3<>"",$T3<>"",$U3<>"",$V3<>"",$W3<>"",$X3<>"",$Y3<>"",$Z3<>"",$AA3<>"",$AB3<>""),1,0) -> 1 | BH3: =IF(AND($BG3=1,$N3=$AC3),1,0) -> 1 | BI3: =IF($AQ3<$O3,1,0) -> 0 | BJ3: =IF(AND($AF3<>"",$AG3<>"",$AH3<>"",$AI3<>"",$AJ3<>"",$AK3<>"",$AL3<>"",$AM3<>"",$AN3<>"",$AO3<>"",$AP3<>""),1,0) -> 1 | BK3: =IF(AND($BJ3=1,$O3=$AQ3),1,IF(AND($BJ3=1,$O3>$AQ3,AR3="igen"),1,0)) -> 1 | BL3: =IF($M3<2028,"Nem hosszútávú a feladat.",IF(AND($BI3=1,$AR3="nem"),"Forráshiányos a feladat? Jelölje az AR-oszlopban!",IF(AND($BI3=0,$AR3="igen"),"Forráshiányosnak jelölte a feladat az AR-oszlopban, de a forrás költség adatok alapnján nem az!",IF(AND($BI3=1,$AR3="igen"),"Forráshiányos a feladat!",IF($AQ3>$O3,"Többlet forrást jelölt meg az II.ütemnél! Kérjük, a többletet az 'Osszesito' fülön tüntesse fel!",IF($AQ3=$O3,"A forrás egyenlő a költséggel (II.ütem).",0)))))) -> Nem hosszútávú a feladat. | BM3: =IF($M3<2028,1,0) -> 1 | BN3: =IF($M3>2027,1,0) -> 0 | BO3: =IF(AND($BM3=1,$N3=0),1,0) -> 1 | BP3: =IF(AND($BN3=1,$O3=0),1,0) -> 0 | BQ3: =IF(AND($BB3="R",$N3=0,$AZ3>29),1,IF(AND($BB3="RH",$N3=0,$AZ3>29),1,0)) -> 1 | BR3: =IF($BN3=0,"Nincs hosszútávú terv!",IF(AND($BB3="H",$O3=0,$AZ3=0),"Nullás a hosszútávú feladat és nincs hozzá indoklás!",IF(AND($BB3="RH",$O3=0,$AZ3=0),"Nullás a hosszútávú feladat és nincs hozzá indoklás!",IF(AND($BB3="R",$O3=0,$AZ3<300),"Nullás a hosszútávú feladat és rövid hozzá az indoklás!",IF(AND($BB3="RH",$O3=0,$AZ3<300),"Nullás a hosszútávú feladat és rövid hozzá az indoklás!",0))))) -> Nincs hosszútávú terv! | BS3: =IF(AND($BB3="R",$N3=0,$AZ3>29),1,IF(AND($BB3="RH",$N3=0,$AZ3>29),1,0)) -> 1 | BT3: =IF(AND($BB3="H",$O3=0,$AZ3>29),1,IF(AND($BB3="RH",$O3=0,$AZ3>29),1,0)) -> 0 | BU3: =IF($B3="",0,1) -> 1 | BV3: =IF($C3="",0,1) -> 1 | BW3: =IF($D3="",0,1) -> 1 | BX3: =IF($E3="",0,1) -> 1 | BY3: =IF($L3="",0,1) -> 1 | BZ3: =IF($M3="",0,1) -> 1 | CA3: =IF($N3="",0,1) -> 1 | CB3: =IF($O3="",0,1) -> 1 | CC3: =IF($P3="",0,1) -> 1 | CD3: =IF(AND($BA3=0,$BU3=0),"Hiányos kitöltés! (B-oszlop üres)",IF(AND($BA3=0,$BV3=0),"Hiányos kitöltés! (C-oszlop üres)",IF(AND($BA3=0,$BW3=0),"Hiányos kitöltés! (D-oszlop üres)",IF(AND($BA3=0,$BX3=0),"Hiányos kitöltés! (E-oszlop üres)",IF(AND($BA3=0,$BY3=0),"Hiányos kitöltés! (L-oszlop üres)",IF(AND($BA3=0,$BZ3=0),"Hiányos kitöltés! (M-oszlop üres)",IF(AND($BA3=0,$CA3=0),"Hiányos kitöltés! (N-oszlop üres)",IF(AND($BA3=0,$CB3=0),"Hiányos kitöltés! (O-oszlop üres)",IF(AND($BA3=0,$CC3=0),"Hiányos kitöltés! (P-oszlop üres)",IF(AND($BA3=0,$BG3=0),"Hiányos kitöltés! (I.ütem forrása hiányos!","?")))))))))) -> ? | CE3: =IF($BA3=0,$CD3,IF($BG3=0,"I. ütem forrása nincs kitöltve!",IF($BJ3=0,"II. ütem forrása nincs kitöltve!",IF($BD3=1,"Költségek üteme nem megfelelő (az időtartam és a költség üteme eltér)!",IF(AND(BH3=0,$BA3=1,$BJ3=1,$BD3=1),"Kötelező cellák kitöltve, de az I. ütem forrása hibás!",IF(AND(BJ3=0,$BA3=1,$BJ3=1,$BD3=1),"Kötelező cellák kitöltve, de a II. ütem forrása hibás!",IF(AND($BO3=1,$AZ3<30),"Nullás a rövidtávú feladat és rövid (hiányzik) a hozzá tartozó indoklás!",IF(AND($BP3=1,$AZ3<30),"Nullás a hosszútávú feladat és rövid (hiányzik) a hozzá tartozó indoklás!",IF(AND(BN3=1,C3="1811_RENDKÍVÜLI"),"II. ütemre nem tervezhet Rendkívüli feladatot!",IF(BH3=0,AD3,IF(BK3=0,AS3,IF(AND(BC3=1,$P3>$N3),"EM rendelet 2. melléklet terhére elszámolt költség nem lehet nagyobb az I. ütemre tervezett tényleges költségnél!",IF($AC3>$N3,"Többlet forrást jelölt meg az I. ütemnél! Kérjük, a többletet az 'Osszesito' fülön tüntesse fel!",IF($AQ3>$O3,"Többlet forrást jelölt meg a II. ütemnél! Kérjük, a többletet az 'Osszesito' fülön tüntesse fel!","Kitöltés rendben!")))))))))))))) -> Kitöltés rendben! | CF3: =IF(A3="Kitöltés rendben!",1,0) -> 1 | CG3: =IF(AND($BB3="R",$CF3=1),1,IF(AND($BB3="RH",$CF3=1),1,0)) -> 1 | CH3: =IF(AND($BB3="H",$CF3=1),1,IF(AND($BB3="RH",$CF3=1),1,0)) -> 0
A4: =IF($G4="","Nincs VKR kiválasztva!",CE4) -> Kitöltés rendben! | B4: 2. | C4: 2210_AKNA_EGYÉB | D4: Kistarcsai "A2" jelű szv. Központi Végátemelő kapacitás bővítése (tervezés, engedélyezés) | E4: - | F4: =VLOOKUP($G4,Összesítő!$B:$F,2,FALSE) -> 22-34157-1-002-00-12 | G4: Kerepes-Kistarcsa-SZV | H4: =AY4&"_"&AW4&"_FIV_"&LEFT(Előlap!$B$6,4) -> 2326_2_FIV_2026 | I4: =VLOOKUP($G4,Összesítő!$B:$F,5,FALSE) -> Kerepes, Kistarcsa | J4: =VLOOKUP($G4,Összesítő!$B:$F,4,FALSE) -> Kerepes Város Önkormányzata, Kistarcsa Város Önkormányzata | K4: =N4+O4 -> 50000 | L4: 2028 | M4: 2028 | N4: 0 | O4: 50000 | P4: 0 | R4: 0 | S4: 0 | T4: 0 | U4: 0 | V4: 0 | W4: 0 | X4: 0 | Y4: 0 | Z4: 0 | AA4: 0 | AB4: 0 | AC4: =SUM(R4:AB4) -> 0 | AD4: =IF($G4="","Nincs VKR kiválasztva!",IF(BA4=0,"Hiányos kitöltés!",BF4)) -> Nem rövidtávú a feladat. | AF4: 0 | AG4: 0 | AH4: 0 | AI4: 0 | AJ4: 0 | AK4: 0 | AL4: 0 | AM4: 0 | AN4: 0 | AO4: 0 | AP4: 0 | AQ4: =SUM(AF4:AP4) -> 0 | AR4: igen | AS4: =IF($G4="","Nincs VKR kiválasztva!",IF($BA4=0,"Hiányos kitöltés!",IF($BN4=0,"Nem hosszútávú a feladat.",$BL4))) -> Forráshiányos a feladat! | AW4: =COUNTA($G$3:G4) -> 2 | AY4: =VLOOKUP($G4,Összesítő!$B:$F,3,FALSE) -> 2326 | AZ4: =LEN($AU4) -> 0 | BA4: =IF(OR($B4="",$C4="",$D4="",$E4="",$F4="",$L4="",$M4="",$N4="",$O4="",$P4=""),0,1) -> 1 | BB4: =IF($F4="",0,IF(AND($L4=2027,$M4=2027),"R",IF(AND($L4=2027,$M4>2027),"RH",IF(AND($L4>2027,$M4>2027),"H","x")))) -> H | BC4: =IF(OR(BB4="R",BB4="RH"),1,0) -> 0 | BD4: =IF(AND($BB4="R",$O4>0),1,IF(AND($BB4="H",$N4>0),1,0)) -> 0 | BE4: =IF($AC4<$N4,1,IF($AC4=$N4,0)) -> 0 | BF4: =IF($L4>2027,"Nem rövidtávú a feladat.",IF($BE4=1,"Az I. ütem nem lehet forráshiányos!",IF($AC4>$N4,"Többlet forrást jelölt meg az I.ütemnél! Kérjük, a többletet az 'Osszesito' fülön tüntesse fel!",IF($AC4=$N4,"A forrás egyenlő a költséggel (I.ütem).",0)))) -> Nem rövidtávú a feladat. | BG4: =IF(AND($R4<>"",$S4<>"",$T4<>"",$U4<>"",$V4<>"",$W4<>"",$X4<>"",$Y4<>"",$Z4<>"",$AA4<>"",$AB4<>""),1,0) -> 1 | BH4: =IF(AND($BG4=1,$N4=$AC4),1,0) -> 1 | BI4: =IF($AQ4<$O4,1,0) -> 1 | BJ4: =IF(AND($AF4<>"",$AG4<>"",$AH4<>"",$AI4<>"",$AJ4<>"",$AK4<>"",$AL4<>"",$AM4<>"",$AN4<>"",$AO4<>"",$AP4<>""),1,0) -> 1 | BK4: =IF(AND($BJ4=1,$O4=$AQ4),1,IF(AND($BJ4=1,$O4>$AQ4,AR4="igen"),1,0)) -> 1 | BL4: =IF($M4<2028,"Nem hosszútávú a feladat.",IF(AND($BI4=1,$AR4="nem"),"Forráshiányos a feladat? Jelölje az AR-oszlopban!",IF(AND($BI4=0,$AR4="igen"),"Forráshiányosnak jelölte a feladat az AR-oszlopban, de a forrás költség adatok alapnján nem az!",IF(AND($BI4=1,$AR4="igen"),"Forráshiányos a feladat!",IF($AQ4>$O4,"Többlet forrást jelölt meg az II.ütemnél! Kérjük, a többletet az 'Osszesito' fülön tüntesse fel!",IF($AQ4=$O4,"A forrás egyenlő a költséggel (II.ütem).",0)))))) -> Forráshiányos a feladat! | BM4: =IF($M4<2028,1,0) -> 0 | BN4: =IF($M4>2027,1,0) -> 1 | BO4: =IF(AND($BM4=1,$N4=0),1,0) -> 0 | BP4: =IF(AND($BN4=1,$O4=0),1,0) -> 0 | BQ4: =IF(AND($BB4="R",$N4=0,$AZ4>29),1,IF(AND($BB4="RH",$N4=0,$AZ4>29),1,0)) -> 0 | BR4: =IF($BN4=0,"Nincs hosszútávú terv!",IF(AND($BB4="H",$O4=0,$AZ4=0),"Nullás a hosszútávú feladat és nincs hozzá indoklás!",IF(AND($BB4="RH",$O4=0,$AZ4=0),"Nullás a hosszútávú feladat és nincs hozzá indoklás!",IF(AND($BB4="R",$O4=0,$AZ4<300),"Nullás a hosszútávú feladat és rövid hozzá az indoklás!",IF(AND($BB4="RH",$O4=0,$AZ4<300),"Nullás a hosszútávú feladat és rövid hozzá az indoklás!",0))))) -> 0 | BS4: =IF(AND($BB4="R",$N4=0,$AZ4>29),1,IF(AND($BB4="RH",$N4=0,$AZ4>29),1,0)) -> 0 | BT4: =IF(AND($BB4="H",$O4=0,$AZ4>29),1,IF(AND($BB4="RH",$O4=0,$AZ4>29),1,0)) -> 0 | BU4: =IF($B4="",0,1) -> 1 | BV4: =IF($C4="",0,1) -> 1 | BW4: =IF($D4="",0,1) -> 1 | BX4: =IF($E4="",0,1) -> 1 | BY4: =IF($L4="",0,1) -> 1 | BZ4: =IF($M4="",0,1) -> 1 | CA4: =IF($N4="",0,1) -> 1 | CB4: =IF($O4="",0,1) -> 1 | CC4: =IF($P4="",0,1) -> 1 | CD4: =IF(AND($BA4=0,$BU4=0),"Hiányos kitöltés! (B-oszlop üres)",IF(AND($BA4=0,$BV4=0),"Hiányos kitöltés! (C-oszlop üres)",IF(AND($BA4=0,$BW4=0),"Hiányos kitöltés! (D-oszlop üres)",IF(AND($BA4=0,$BX4=0),"Hiányos kitöltés! (E-oszlop üres)",IF(AND($BA4=0,$BY4=0),"Hiányos kitöltés! (L-oszlop üres)",IF(AND($BA4=0,$BZ4=0),"Hiányos kitöltés! (M-oszlop üres)",IF(AND($BA4=0,$CA4=0),"Hiányos kitöltés! (N-oszlop üres)",IF(AND($BA4=0,$CB4=0),"Hiányos kitöltés! (O-oszlop üres)",IF(AND($BA4=0,$CC4=0),"Hiányos kitöltés! (P-oszlop üres)",IF(AND($BA4=0,$BG4=0),"Hiányos kitöltés! (I.ütem forrása hiányos!","?")))))))))) -> ? | CE4: =IF($BA4=0,$CD4,IF($BG4=0,"I. ütem forrása nincs kitöltve!",IF($BJ4=0,"II. ütem forrása nincs kitöltve!",IF($BD4=1,"Költségek üteme nem megfelelő (az időtartam és a költség üteme eltér)!",IF(AND(BH4=0,$BA4=1,$BJ4=1,$BD4=1),"Kötelező cellák kitöltve, de az I. ütem forrása hibás!",IF(AND(BJ4=0,$BA4=1,$BJ4=1,$BD4=1),"Kötelező cellák kitöltve, de a II. ütem forrása hibás!",IF(AND($BO4=1,$AZ4<30),"Nullás a rövidtávú feladat és rövid (hiányzik) a hozzá tartozó indoklás!",IF(AND($BP4=1,$AZ4<30),"Nullás a hosszútávú feladat és rövid (hiányzik) a hozzá tartozó indoklás!",IF(AND(BN4=1,C4="1811_RENDKÍVÜLI"),"II. ütemre nem tervezhet Rendkívüli feladatot!",IF(BH4=0,AD4,IF(BK4=0,AS4,IF(AND(BC4=1,$P4>$N4),"EM rendelet 2. melléklet terhére elszámolt költség nem lehet nagyobb az I. ütemre tervezett tényleges költségnél!",IF($AC4>$N4,"Többlet forrást jelölt meg az I. ütemnél! Kérjük, a többletet az 'Osszesito' fülön tüntesse fel!",IF($AQ4>$O4,"Többlet forrást jelölt meg a II. ütemnél! Kérjük, a többletet az 'Osszesito' fülön tüntesse fel!","Kitöltés rendben!")))))))))))))) -> Kitöltés rendben! | CF4: =IF(A4="Kitöltés rendben!",1,0) -> 1 | CG4: =IF(AND($BB4="R",$CF4=1),1,IF(AND($BB4="RH",$CF4=1),1,0)) -> 0 | CH4: =IF(AND($BB4="H",$CF4=1),1,IF(AND($BB4="RH",$CF4=1),1,0)) -> 1
A5: =IF($G5="","Nincs VKR kiválasztva!",CE5) -> Kitöltés rendben! | B5: 3. | C5: 2210_AKNA_EGYÉB | D5: Kistarcsai "A2" jelű szv. Központi Végátemelő kapacitás bővítése (kivitelezés) | E5: - | F5: =VLOOKUP($G5,Összesítő!$B:$F,2,FALSE) -> 22-34157-1-002-00-12 | G5: Kerepes-Kistarcsa-SZV | H5: =AY5&"_"&AW5&"_FIV_"&LEFT(Előlap!$B$6,4) -> 2326_3_FIV_2026 | I5: =VLOOKUP($G5,Összesítő!$B:$F,5,FALSE) -> Kerepes, Kistarcsa | J5: =VLOOKUP($G5,Összesítő!$B:$F,4,FALSE) -> Kerepes Város Önkormányzata, Kistarcsa Város Önkormányzata | K5: =N5+O5 -> 1300000 | L5: 2029 | M5: 2030 | N5: 0 | O5: 1300000 | P5: 0 | R5: 0 | S5: 0 | T5: 0 | U5: 0 | V5: 0 | W5: 0 | X5: 0 | Y5: 0 | Z5: 0 | AA5: 0 | AB5: 0 | AC5: =SUM(R5:AB5) -> 0 | AD5: =IF($G5="","Nincs VKR kiválasztva!",IF(BA5=0,"Hiányos kitöltés!",BF5)) -> Nem rövidtávú a feladat. | AF5: 0 | AG5: 0 | AH5: 0 | AI5: 0 | AJ5: 0 | AK5: 0 | AL5: 0 | AM5: 0 | AN5: 0 | AO5: 0 | AP5: 0 | AQ5: =SUM(AF5:AP5) -> 0 | AR5: igen | AS5: =IF($G5="","Nincs VKR kiválasztva!",IF($BA5=0,"Hiányos kitöltés!",IF($BN5=0,"Nem hosszútávú a feladat.",$BL5))) -> Forráshiányos a feladat! | AW5: =COUNTA($G$3:G5) -> 3 | AY5: =VLOOKUP($G5,Összesítő!$B:$F,3,FALSE) -> 2326 | AZ5: =LEN($AU5) -> 0 | BA5: =IF(OR($B5="",$C5="",$D5="",$E5="",$F5="",$L5="",$M5="",$N5="",$O5="",$P5=""),0,1) -> 1 | BB5: =IF($F5="",0,IF(AND($L5=2027,$M5=2027),"R",IF(AND($L5=2027,$M5>2027),"RH",IF(AND($L5>2027,$M5>2027),"H","x")))) -> H | BC5: =IF(OR(BB5="R",BB5="RH"),1,0) -> 0 | BD5: =IF(AND($BB5="R",$O5>0),1,IF(AND($BB5="H",$N5>0),1,0)) -> 0 | BE5: =IF($AC5<$N5,1,IF($AC5=$N5,0)) -> 0 | BF5: =IF($L5>2027,"Nem rövidtávú a feladat.",IF($BE5=1,"Az I. ütem nem lehet forráshiányos!",IF($AC5>$N5,"Többlet forrást jelölt meg az I.ütemnél! Kérjük, a többletet az 'Osszesito' fülön tüntesse fel!",IF($AC5=$N5,"A forrás egyenlő a költséggel (I.ütem).",0)))) -> Nem rövidtávú a feladat. | BG5: =IF(AND($R5<>"",$S5<>"",$T5<>"",$U5<>"",$V5<>"",$W5<>"",$X5<>"",$Y5<>"",$Z5<>"",$AA5<>"",$AB5<>""),1,0) -> 1 | BH5: =IF(AND($BG5=1,$N5=$AC5),1,0) -> 1 | BI5: =IF($AQ5<$O5,1,0) -> 1 | BJ5: =IF(AND($AF5<>"",$AG5<>"",$AH5<>"",$AI5<>"",$AJ5<>"",$AK5<>"",$AL5<>"",$AM5<>"",$AN5<>"",$AO5<>"",$AP5<>""),1,0) -> 1 | BK5: =IF(AND($BJ5=1,$O5=$AQ5),1,IF(AND($BJ5=1,$O5>$AQ5,AR5="igen"),1,0)) -> 1 | BL5: =IF($M5<2028,"Nem hosszútávú a feladat.",IF(AND($BI5=1,$AR5="nem"),"Forráshiányos a feladat? Jelölje az AR-oszlopban!",IF(AND($BI5=0,$AR5="igen"),"Forráshiányosnak jelölte a feladat az AR-oszlopban, de a forrás költség adatok alapnján nem az!",IF(AND($BI5=1,$AR5="igen"),"Forráshiányos a feladat!",IF($AQ5>$O5,"Többlet forrást jelölt meg az II.ütemnél! Kérjük, a többletet az 'Osszesito' fülön tüntesse fel!",IF($AQ5=$O5,"A forrás egyenlő a költséggel (II.ütem).",0)))))) -> Forráshiányos a feladat! | BM5: =IF($M5<2028,1,0) -> 0 | BN5: =IF($M5>2027,1,0) -> 1 | BO5: =IF(AND($BM5=1,$N5=0),1,0) -> 0 | BP5: =IF(AND($BN5=1,$O5=0),1,0) -> 0 | BQ5: =IF(AND($BB5="R",$N5=0,$AZ5>29),1,IF(AND($BB5="RH",$N5=0,$AZ5>29),1,0)) -> 0 | BR5: =IF($BN5=0,"Nincs hosszútávú terv!",IF(AND($BB5="H",$O5=0,$AZ5=0),"Nullás a hosszútávú feladat és nincs hozzá indoklás!",IF(AND($BB5="RH",$O5=0,$AZ5=0),"Nullás a hosszútávú feladat és nincs hozzá indoklás!",IF(AND($BB5="R",$O5=0,$AZ5<300),"Nullás a hosszútávú feladat és rövid hozzá az indoklás!",IF(AND($BB5="RH",$O5=0,$AZ5<300),"Nullás a hosszútávú feladat és rövid hozzá az indoklás!",0))))) -> 0 | BS5: =IF(AND($BB5="R",$N5=0,$AZ5>29),1,IF(AND($BB5="RH",$N5=0,$AZ5>29),1,0)) -> 0 | BT5: =IF(AND($BB5="H",$O5=0,$AZ5>29),1,IF(AND($BB5="RH",$O5=0,$AZ5>29),1,0)) -> 0 | BU5: =IF($B5="",0,1) -> 1 | BV5: =IF($C5="",0,1) -> 1 | BW5: =IF($D5="",0,1) -> 1 | BX5: =IF($E5="",0,1) -> 1 | BY5: =IF($L5="",0,1) -> 1 | BZ5: =IF($M5="",0,1) -> 1 | CA5: =IF($N5="",0,1) -> 1 | CB5: =IF($O5="",0,1) -> 1 | CC5: =IF($P5="",0,1) -> 1 | CD5: =IF(AND($BA5=0,$BU5=0),"Hiányos kitöltés! (B-oszlop üres)",IF(AND($BA5=0,$BV5=0),"Hiányos kitöltés! (C-oszlop üres)",IF(AND($BA5=0,$BW5=0),"Hiányos kitöltés! (D-oszlop üres)",IF(AND($BA5=0,$BX5=0),"Hiányos kitöltés! (E-oszlop üres)",IF(AND($BA5=0,$BY5=0),"Hiányos kitöltés! (L-oszlop üres)",IF(AND($BA5=0,$BZ5=0),"Hiányos kitöltés! (M-oszlop üres)",IF(AND($BA5=0,$CA5=0),"Hiányos kitöltés! (N-oszlop üres)",IF(AND($BA5=0,$CB5=0),"Hiányos kitöltés! (O-oszlop üres)",IF(AND($BA5=0,$CC5=0),"Hiányos kitöltés! (P-oszlop üres)",IF(AND($BA5=0,$BG5=0),"Hiányos kitöltés! (I.ütem forrása hiányos!","?")))))))))) -> ? | CE5: =IF($BA5=0,$CD5,IF($BG5=0,"I. ütem forrása nincs kitöltve!",IF($BJ5=0,"II. ütem forrása nincs kitöltve!",IF($BD5=1,"Költségek üteme nem megfelelő (az időtartam és a költség üteme eltér)!",IF(AND(BH5=0,$BA5=1,$BJ5=1,$BD5=1),"Kötelező cellák kitöltve, de az I. ütem forrása hibás!",IF(AND(BJ5=0,$BA5=1,$BJ5=1,$BD5=1),"Kötelező cellák kitöltve, de a II. ütem forrása hibás!",IF(AND($BO5=1,$AZ5<30),"Nullás a rövidtávú feladat és rövid (hiányzik) a hozzá tartozó indoklás!",IF(AND($BP5=1,$AZ5<30),"Nullás a hosszútávú feladat és rövid (hiányzik) a hozzá tartozó indoklás!",IF(AND(BN5=1,C5="1811_RENDKÍVÜLI"),"II. ütemre nem tervezhet Rendkívüli feladatot!",IF(BH5=0,AD5,IF(BK5=0,AS5,IF(AND(BC5=1,$P5>$N5),"EM rendelet 2. melléklet terhére elszámolt költség nem lehet nagyobb az I. ütemre tervezett tényleges költségnél!",IF($AC5>$N5,"Többlet forrást jelölt meg az I. ütemnél! Kérjük, a többletet az 'Osszesito' fülön tüntesse fel!",IF($AQ5>$O5,"Többlet forrást jelölt meg a II. ütemnél! Kérjük, a többletet az 'Osszesito' fülön tüntesse fel!","Kitöltés rendben!")))))))))))))) -> Kitöltés rendben! | CF5: =IF(A5="Kitöltés rendben!",1,0) -> 1 | CG5: =IF(AND($BB5="R",$CF5=1),1,IF(AND($BB5="RH",$CF5=1),1,0)) -> 0 | CH5: =IF(AND($BB5="H",$CF5=1),1,IF(AND($BB5="RH",$CF5=1),1,0)) -> 1
A6: =IF($G6="","Nincs VKR kiválasztva!",CE6) -> Kitöltés rendben! | B6: 4. | C6: 2611_EGYÉB | D6: Homokdűlő átemelő (A7. sz.) kiváltása, gravitációs bevezetéssel a Vasút utcai gravitációs közcsatornába (tervezés, engedélyeztetés) | E6: - | F6: =VLOOKUP($G6,Összesítő!$B:$F,2,FALSE) -> 22-34157-1-002-00-12 | G6: Kerepes-Kistarcsa-SZV | H6: =AY6&"_"&AW6&"_FIV_"&LEFT(Előlap!$B$6,4) -> 2326_4_FIV_2026 | I6: =VLOOKUP($G6,Összesítő!$B:$F,5,FALSE) -> Kerepes, Kistarcsa | J6: =VLOOKUP($G6,Összesítő!$B:$F,4,FALSE) -> Kerepes Város Önkormányzata, Kistarcsa Város Önkormányzata | K6: =N6+O6 -> 5000 | L6: 2028 | M6: 2028 | N6: 0 | O6: 5000 | P6: 0 | R6: 0 | S6: 0 | T6: 0 | U6: 0 | V6: 0 | W6: 0 | X6: 0 | Y6: 0 | Z6: 0 | AA6: 0 | AB6: 0 | AC6: =SUM(R6:AB6) -> 0 | AD6: =IF($G6="","Nincs VKR kiválasztva!",IF(BA6=0,"Hiányos kitöltés!",BF6)) -> Nem rövidtávú a feladat. | AF6: 0 | AG6: 0 | AH6: 0 | AI6: 0 | AJ6: 0 | AK6: 0 | AL6: 0 | AM6: 0 | AN6: 0 | AO6: 0 | AP6: 0 | AQ6: =SUM(AF6:AP6) -> 0 | AR6: igen | AS6: =IF($G6="","Nincs VKR kiválasztva!",IF($BA6=0,"Hiányos kitöltés!",IF($BN6=0,"Nem hosszútávú a feladat.",$BL6))) -> Forráshiányos a feladat! | AW6: =COUNTA($G$3:G6) -> 4 | AY6: =VLOOKUP($G6,Összesítő!$B:$F,3,FALSE) -> 2326 | AZ6: =LEN($AU6) -> 0 | BA6: =IF(OR($B6="",$C6="",$D6="",$E6="",$F6="",$L6="",$M6="",$N6="",$O6="",$P6=""),0,1) -> 1 | BB6: =IF($F6="",0,IF(AND($L6=2027,$M6=2027),"R",IF(AND($L6=2027,$M6>2027),"RH",IF(AND($L6>2027,$M6>2027),"H","x")))) -> H | BC6: =IF(OR(BB6="R",BB6="RH"),1,0) -> 0 | BD6: =IF(AND($BB6="R",$O6>0),1,IF(AND($BB6="H",$N6>0),1,0)) -> 0 | BE6: =IF($AC6<$N6,1,IF($AC6=$N6,0)) -> 0 | BF6: =IF($L6>2027,"Nem rövidtávú a feladat.",IF($BE6=1,"Az I. ütem nem lehet forráshiányos!",IF($AC6>$N6,"Többlet forrást jelölt meg az I.ütemnél! Kérjük, a többletet az 'Osszesito' fülön tüntesse fel!",IF($AC6=$N6,"A forrás egyenlő a költséggel (I.ütem).",0)))) -> Nem rövidtávú a feladat. | BG6: =IF(AND($R6<>"",$S6<>"",$T6<>"",$U6<>"",$V6<>"",$W6<>"",$X6<>"",$Y6<>"",$Z6<>"",$AA6<>"",$AB6<>""),1,0) -> 1 | BH6: =IF(AND($BG6=1,$N6=$AC6),1,0) -> 1 | BI6: =IF($AQ6<$O6,1,0) -> 1 | BJ6: =IF(AND($AF6<>"",$AG6<>"",$AH6<>"",$AI6<>"",$AJ6<>"",$AK6<>"",$AL6<>"",$AM6<>"",$AN6<>"",$AO6<>"",$AP6<>""),1,0) -> 1 | BK6: =IF(AND($BJ6=1,$O6=$AQ6),1,IF(AND($BJ6=1,$O6>$AQ6,AR6="igen"),1,0)) -> 1 | BL6: =IF($M6<2028,"Nem hosszútávú a feladat.",IF(AND($BI6=1,$AR6="nem"),"Forráshiányos a feladat? Jelölje az AR-oszlopban!",IF(AND($BI6=0,$AR6="igen"),"Forráshiányosnak jelölte a feladat az AR-oszlopban, de a forrás költség adatok alapnján nem az!",IF(AND($BI6=1,$AR6="igen"),"Forráshiányos a feladat!",IF($AQ6>$O6,"Többlet forrást jelölt meg az II.ütemnél! Kérjük, a többletet az 'Osszesito' fülön tüntesse fel!",IF($AQ6=$O6,"A forrás egyenlő a költséggel (II.ütem).",0)))))) -> Forráshiányos a feladat! | BM6: =IF($M6<2028,1,0) -> 0 | BN6: =IF($M6>2027,1,0) -> 1 | BO6: =IF(AND($BM6=1,$N6=0),1,0) -> 0 | BP6: =IF(AND($BN6=1,$O6=0),1,0) -> 0 | BQ6: =IF(AND($BB6="R",$N6=0,$AZ6>29),1,IF(AND($BB6="RH",$N6=0,$AZ6>29),1,0)) -> 0 | BR6: =IF($BN6=0,"Nincs hosszútávú terv!",IF(AND($BB6="H",$O6=0,$AZ6=0),"Nullás a hosszútávú feladat és nincs hozzá indoklás!",IF(AND($BB6="RH",$O6=0,$AZ6=0),"Nullás a hosszútávú feladat és nincs hozzá indoklás!",IF(AND($BB6="R",$O6=0,$AZ6<300),"Nullás a hosszútávú feladat és rövid hozzá az indoklás!",IF(AND($BB6="RH",$O6=0,$AZ6<300),"Nullás a hosszútávú feladat és rövid hozzá az indoklás!",0))))) -> 0 | BS6: =IF(AND($BB6="R",$N6=0,$AZ6>29),1,IF(AND($BB6="RH",$N6=0,$AZ6>29),1,0)) -> 0 | BT6: =IF(AND($BB6="H",$O6=0,$AZ6>29),1,IF(AND($BB6="RH",$O6=0,$AZ6>29),1,0)) -> 0 | BU6: =IF($B6="",0,1) -> 1 | BV6: =IF($C6="",0,1) -> 1 | BW6: =IF($D6="",0,1) -> 1 | BX6: =IF($E6="",0,1) -> 1 | BY6: =IF($L6="",0,1) -> 1 | BZ6: =IF($M6="",0,1) -> 1 | CA6: =IF($N6="",0,1) -> 1 | CB6: =IF($O6="",0,1) -> 1 | CC6: =IF($P6="",0,1) -> 1 | CD6: =IF(AND($BA6=0,$BU6=0),"Hiányos kitöltés! (B-oszlop üres)",IF(AND($BA6=0,$BV6=0),"Hiányos kitöltés! (C-oszlop üres)",IF(AND($BA6=0,$BW6=0),"Hiányos kitöltés! (D-oszlop üres)",IF(AND($BA6=0,$BX6=0),"Hiányos kitöltés! (E-oszlop üres)",IF(AND($BA6=0,$BY6=0),"Hiányos kitöltés! (L-oszlop üres)",IF(AND($BA6=0,$BZ6=0),"Hiányos kitöltés! (M-oszlop üres)",IF(AND($BA6=0,$CA6=0),"Hiányos kitöltés! (N-oszlop üres)",IF(AND($BA6=0,$CB6=0),"Hiányos kitöltés! (O-oszlop üres)",IF(AND($BA6=0,$CC6=0),"Hiányos kitöltés! (P-oszlop üres)",IF(AND($BA6=0,$BG6=0),"Hiányos kitöltés! (I.ütem forrása hiányos!","?")))))))))) -> ? | CE6: =IF($BA6=0,$CD6,IF($BG6=0,"I. ütem forrása nincs kitöltve!",IF($BJ6=0,"II. ütem forrása nincs kitöltve!",IF($BD6=1,"Költségek üteme nem megfelelő (az időtartam és a költség üteme eltér)!",IF(AND(BH6=0,$BA6=1,$BJ6=1,$BD6=1),"Kötelező cellák kitöltve, de az I. ütem forrása hibás!",IF(AND(BJ6=0,$BA6=1,$BJ6=1,$BD6=1),"Kötelező cellák kitöltve, de a II. ütem forrása hibás!",IF(AND($BO6=1,$AZ6<30),"Nullás a rövidtávú feladat és rövid (hiányzik) a hozzá tartozó indoklás!",IF(AND($BP6=1,$AZ6<30),"Nullás a hosszútávú feladat és rövid (hiányzik) a hozzá tartozó indoklás!",IF(AND(BN6=1,C6="1811_RENDKÍVÜLI"),"II. ütemre nem tervezhet Rendkívüli feladatot!",IF(BH6=0,AD6,IF(BK6=0,AS6,IF(AND(BC6=1,$P6>$N6),"EM rendelet 2. melléklet terhére elszámolt költség nem lehet nagyobb az I. ütemre tervezett tényleges költségnél!",IF($AC6>$N6,"Többlet forrást jelölt meg az I. ütemnél! Kérjük, a többletet az 'Osszesito' fülön tüntesse fel!",IF($AQ6>$O6,"Többlet forrást jelölt meg a II. ütemnél! Kérjük, a többletet az 'Osszesito' fülön tüntesse fel!","Kitöltés rendben!")))))))))))))) -> Kitöltés rendben! | CF6: =IF(A6="Kitöltés rendben!",1,0) -> 1 | CG6: =IF(AND($BB6="R",$CF6=1),1,IF(AND($BB6="RH",$CF6=1),1,0)) -> 0 | CH6: =IF(AND($BB6="H",$CF6=1),1,IF(AND($BB6="RH",$CF6=1),1,0)) -> 1
