Workbook

Sheet Előlap
A2: Az adatszolgáltatás
A3: MEKH azonosítószáma: | B3: vk_GFT_IV_B_2
A4: címe: | B4: B_IV: Következő 10 évre tervezett beruházások
A5: gyakorisága: | B5: Éves
A6: beszámolási időszak: | B6: 2026-01-01
A7: Tárgyidőszak kezdete | B7: =VALUE(LEFT(B6,4)+1) -> 2027
A8: Tárgyidőszak vége | B8: =VALUE(LEFT(B6,4)+10) -> 2036
A9: teljesítésének határideje: | B9: 2026-09-30
A12: Az adatszolgáltató
A13: neve: | B13: Dél-Pest Megyei Víziközmű Szolgáltató Zrt.
A14: címe: | B14: 2360 Gyál, Kőrösi út 190.
A15: MEKH nyilvántartási kódja: | B15: 23967531

Sheet Összesítő
P1: H/1 -- Forrás megnevezése (I. ütem) | AC1: H/2 -- Forrás megnevezése (II. ütem)
A2: Sorszám | B2: Víziközmű-rendszer megnevezése | C2: Víziközmű-rendszer hivatali kódja | D2: ISA | E2: Az érintett ellátásért felelős(ök) megnevezése | F2: Ellátási terület | G2: Ellenőrzés | H2: Forrástöbblet a víziközmű-rendszeren I.ütem [eFt] | I2: Forrástöbblet a víziközmű-rendszeren II.ütem [eFt] | K2: Tervezett nettó költség [eFt] | L2: A beruházás tervezett nettó költsége a tervezési időszak ütemezése szerint [eFt] - I. ütem | M2: A beruházás tervezett nettó költsége a tervezési időszak ütemezése szerint [eFt] - II. ütem | N2: Az EM rendelet 2. melléklet terhére elszámolni tervezett költség | P2: Használati díj [eFt] | Q2: ÉCS [eFt] | R2: Közműfejlesztési hozzájárulás [eFt] | S2: Egyéb saját forrás [eFt] | T2: Díj [eFt] | U2: VFEA - EM rendelet 1. melléklet | V2: Egyéb állami támogatás [eFt] | W2: Önkormányzati támogatás [eFt] | X2: EU-s támogatás [eFt] | Y2: Egyéb támogatás [eFt] | Z2: Banki hitel, kötvénykibocsátás [eFt] | AA2: Összesítés [eFt] | AC2: Használati díj [eFt] | AD2: ÉCS [eFt] | AE2: Közműfejlesztési hozzájárulás [eFt] | AF2: Egyéb saját forrás [eFt] | AG2: Díj [eFt] | AH2: VFEA - EM rendelet 1. melléklet | AI2: Egyéb állami támogatás [eFt] | AJ2: Önkormányzati támogatás [eFt] | AK2: EU-s támogatás [eFt] | AL2: Egyéb támogatás [eFt] | AM2: Banki hitel, kötvénykibocsátás [eFt] | AN2: Összesítés [eFt] | AU2: Hány feladat van a rendszeren | AV2: Helyes kitöltések száma | AW2: VAN rövidtávú terv? | AX2: VAN hosszútávú terv?
B3: Víziközmű-rendszer megnevezése | C3: Víziközmű-rendszer hivatali kódja | D3: ISA | E3: Az érintett ellátásért felelős(ök) megnevezése | F3: Ellátási terület | H3: 0 | I3: 0 | K3: =SUM(K$4:K$13018) -> 560000 | L3: =SUM(L$4:L$13018) -> 25000 | M3: =SUM(M$4:M$13018) -> 535000 | N3: =SUM(N$4:N$13018) -> 0 | P3: =SUM(P$4:P$3018) -> 0 | Q3: =SUM(Q$4:Q$3018) -> 0 | R3: =SUM(R$4:R$3018) -> 0 | S3: =SUM(S$4:S$3018) -> 0 | T3: =SUM(T$4:T$3018) -> 0 | U3: =SUM(U$4:U$3018) -> 25000 | V3: =SUM(V$4:V$3018) -> 0 | W3: =SUM(W$4:W$3018) -> 0 | ... AA3: =SUM(AA$4:AA$3018) -> 25000 | AC3: =SUM(AC$4:AC$3018) -> 0 | AD3: =SUM(AD$4:AD$3018) -> 0 | AE3: =SUM(AE$4:AE$3018) -> 0 | AF3: =SUM(AF$4:AF$3018) -> 0 | AG3: =SUM(AG$4:AG$3018) -> 0 | AH3: =SUM(AH$4:AH$3018) -> 0 | AI3: =SUM(AI$4:AI$3018) -> 0 | AJ3: =SUM(AJ$4:AJ$3018) -> 0 | ... AN3: =SUM(AN$4:AN$3018) -> 0 | AT3: RÖGZÍTVE? | AU3: =SUM(AU$4:AU$3018) -> 5 | AV3: =SUM(AV$4:AV$3018) -> 5 | AW3: új | AX3: új
A4: 893 | B4: Pécel-IV | C4: 11-04057-1-001-00-03 | D4: 2293 | E4: Pécel Város Önkormányzata | F4: Pécel | G4: =IF(ISNA($AT4),"Nincs rögzítve!",IF(AW4=0,"Hiányzik a rövidtávú terv!",IF(AX4=0,"Hiányzik a hosszútávú terv!",IF(AU4=AV4,"Kitöltés rendben!",IF(AU4<>AV4,"Kitöltési hiba!","Kitöltési hiba!"))))) -> Nincs rögzítve! | K4: =L4+M4 -> 0 | L4: =SUMIF(B_IV_1A!$F:$F,$C4,B_IV_1A!$N:$N) -> 0 | M4: =SUMIF(B_IV_1A!$F:$F,$C4,B_IV_1A!$O:$O) -> 0 | N4: =SUMIF(B_IV_1A!$F:$F,$C4,B_IV_1A!$P:$P) -> 0 | P4: =SUMIF(B_IV_1A!$F:$F,$C4,B_IV_1A!R:R) -> 0 | Q4: =SUMIF(B_IV_1A!$F:$F,$C4,B_IV_1A!S:S) -> 0 | R4: =SUMIF(B_IV_1A!$F:$F,$C4,B_IV_1A!T:T) -> 0 | S4: =SUMIF(B_IV_1A!$F:$F,$C4,B_IV_1A!U:U) -> 0 | T4: =SUMIF(B_IV_1A!$F:$F,$C4,B_IV_1A!V:V) -> 0 | U4: =SUMIF(B_IV_1A!$F:$F,$C4,B_IV_1A!W:W) -> 0 | V4: =SUMIF(B_IV_1A!$F:$F,$C4,B_IV_1A!X:X) -> 0 | W4: =SUMIF(B_IV_1A!$F:$F,$C4,B_IV_1A!Y:Y) -> 0 | X4: =SUMIF(B_IV_1A!$F:$F,$C4,B_IV_1A!Z:Z) -> 0 | Y4: =SUMIF(B_IV_1A!$F:$F,$C4,B_IV_1A!AA:AA) -> 0 | Z4: =SUMIF(B_IV_1A!$F:$F,$C4,B_IV_1A!AB:AB) -> 0 | AA4: =SUM(P4:Z4) -> 0 | AC4: =SUMIF(B_IV_1A!$F:$F,$C4,B_IV_1A!AF:AF) -> 0 | AD4: =SUMIF(B_IV_1A!$F:$F,$C4,B_IV_1A!AG:AG) -> 0 | AE4: =SUMIF(B_IV_1A!$F:$F,$C4,B_IV_1A!AH:AH) -> 0 | AF4: =SUMIF(B_IV_1A!$F:$F,$C4,B_IV_1A!AI:AI) -> 0 | AG4: =SUMIF(B_IV_1A!$F:$F,$C4,B_IV_1A!AJ:AJ) -> 0 | AH4: =SUMIF(B_IV_1A!$F:$F,$C4,B_IV_1A!AK:AK) -> 0 | AI4: =SUMIF(B_IV_1A!$F:$F,$C4,B_IV_1A!AL:AL) -> 0 | AJ4: =SUMIF(B_IV_1A!$F:$F,$C4,B_IV_1A!AM:AM) -> 0 | AK4: =SUMIF(B_IV_1A!$F:$F,$C4,B_IV_1A!AN:AN) -> 0 | AL4: =SUMIF(B_IV_1A!$F:$F,$C4,B_IV_1A!AO:AO) -> 0 | AM4: =SUMIF(B_IV_1A!$F:$F,$C4,B_IV_1A!AP:AP) -> 0 | AN4: =SUM(AC4:AM4) -> 0 | AT4: =INDEX(B_IV_1A!$G:$G,MATCH($C4,B_IV_1A!$F:$F,0)) -> #N/A | AU4: =COUNTIF(B_IV_1A!$AY$3:$AY$1519,$D4) -> 0 | AV4: =SUMIF(B_IV_1A!$AY$3:$AY$1519,$D4,B_IV_1A!$CF$3:$CF$1519) -> 0 | AW4: =SUMIF(B_IV_1A!$AY:$AY,$D4,B_IV_1A!$CG:$CG) -> 0 | AX4: =SUMIF(B_IV_1A!$AY:$AY,$D4,B_IV_1A!$CG:$CG) -> 0
A5: 894 | B5: Ócsa-IV | C5: 11-04075-1-001-00-05 | D5: 2294 | E5: Ócsa Város Önkormányzat | F5: Ócsa | G5: =IF(ISNA($AT5),"Nincs rögzítve!",IF(AW5=0,"Hiányzik a rövidtávú terv!",IF(AX5=0,"Hiányzik a hosszútávú terv!",IF(AU5=AV5,"Kitöltés rendben!",IF(AU5<>AV5,"Kitöltési hiba!","Kitöltési hiba!"))))) -> Nincs rögzítve! | K5: =L5+M5 -> 0 | L5: =SUMIF(B_IV_1A!$F:$F,$C5,B_IV_1A!$N:$N) -> 0 | M5: =SUMIF(B_IV_1A!$F:$F,$C5,B_IV_1A!$O:$O) -> 0 | N5: =SUMIF(B_IV_1A!$F:$F,$C5,B_IV_1A!$P:$P) -> 0 | P5: =SUMIF(B_IV_1A!$F:$F,$C5,B_IV_1A!R:R) -> 0 | Q5: =SUMIF(B_IV_1A!$F:$F,$C5,B_IV_1A!S:S) -> 0 | R5: =SUMIF(B_IV_1A!$F:$F,$C5,B_IV_1A!T:T) -> 0 | S5: =SUMIF(B_IV_1A!$F:$F,$C5,B_IV_1A!U:U) -> 0 | T5: =SUMIF(B_IV_1A!$F:$F,$C5,B_IV_1A!V:V) -> 0 | U5: =SUMIF(B_IV_1A!$F:$F,$C5,B_IV_1A!W:W) -> 0 | V5: =SUMIF(B_IV_1A!$F:$F,$C5,B_IV_1A!X:X) -> 0 | W5: =SUMIF(B_IV_1A!$F:$F,$C5,B_IV_1A!Y:Y) -> 0 | X5: =SUMIF(B_IV_1A!$F:$F,$C5,B_IV_1A!Z:Z) -> 0 | Y5: =SUMIF(B_IV_1A!$F:$F,$C5,B_IV_1A!AA:AA) -> 0 | Z5: =SUMIF(B_IV_1A!$F:$F,$C5,B_IV_1A!AB:AB) -> 0 | AA5: =SUM(P5:Z5) -> 0 | AC5: =SUMIF(B_IV_1A!$F:$F,$C5,B_IV_1A!AF:AF) -> 0 | AD5: =SUMIF(B_IV_1A!$F:$F,$C5,B_IV_1A!AG:AG) -> 0 | AE5: =SUMIF(B_IV_1A!$F:$F,$C5,B_IV_1A!AH:AH) -> 0 | AF5: =SUMIF(B_IV_1A!$F:$F,$C5,B_IV_1A!AI:AI) -> 0 | AG5: =SUMIF(B_IV_1A!$F:$F,$C5,B_IV_1A!AJ:AJ) -> 0 | AH5: =SUMIF(B_IV_1A!$F:$F,$C5,B_IV_1A!AK:AK) -> 0 | AI5: =SUMIF(B_IV_1A!$F:$F,$C5,B_IV_1A!AL:AL) -> 0 | AJ5: =SUMIF(B_IV_1A!$F:$F,$C5,B_IV_1A!AM:AM) -> 0 | AK5: =SUMIF(B_IV_1A!$F:$F,$C5,B_IV_1A!AN:AN) -> 0 | AL5: =SUMIF(B_IV_1A!$F:$F,$C5,B_IV_1A!AO:AO) -> 0 | AM5: =SUMIF(B_IV_1A!$F:$F,$C5,B_IV_1A!AP:AP) -> 0 | AN5: =SUM(AC5:AM5) -> 0 | AT5: =INDEX(B_IV_1A!$G:$G,MATCH($C5,B_IV_1A!$F:$F,0)) -> #N/A | AU5: =COUNTIF(B_IV_1A!$AY$3:$AY$1519,$D5) -> 0 | AV5: =SUMIF(B_IV_1A!$AY$3:$AY$1519,$D5,B_IV_1A!$CF$3:$CF$1519) -> 0 | AW5: =SUMIF(B_IV_1A!$AY:$AY,$D5,B_IV_1A!$CG:$CG) -> 0 | AX5: =SUMIF(B_IV_1A!$AY:$AY,$D5,B_IV_1A!$CG:$CG) -> 0
A6: 895 | B6: Felsőpakony-IV | C6: 11-06035-1-001-00-11 | D6: 2295 | E6: Felsőpakony Nagyközség Önkormányzata | F6: Felsőpakony | G6: =IF(ISNA($AT6),"Nincs rögzítve!",IF(AW6=0,"Hiányzik a rövidtávú terv!",IF(AX6=0,"Hiányzik a hosszútávú terv!",IF(AU6=AV6,"Kitöltés rendben!",IF(AU6<>AV6,"Kitöltési hiba!","Kitöltési hiba!"))))) -> Nincs rögzítve! | K6: =L6+M6 -> 0 | L6: =SUMIF(B_IV_1A!$F:$F,$C6,B_IV_1A!$N:$N) -> 0 | M6: =SUMIF(B_IV_1A!$F:$F,$C6,B_IV_1A!$O:$O) -> 0 | N6: =SUMIF(B_IV_1A!$F:$F,$C6,B_IV_1A!$P:$P) -> 0 | P6: =SUMIF(B_IV_1A!$F:$F,$C6,B_IV_1A!R:R) -> 0 | Q6: =SUMIF(B_IV_1A!$F:$F,$C6,B_IV_1A!S:S) -> 0 | R6: =SUMIF(B_IV_1A!$F:$F,$C6,B_IV_1A!T:T) -> 0 | S6: =SUMIF(B_IV_1A!$F:$F,$C6,B_IV_1A!U:U) -> 0 | T6: =SUMIF(B_IV_1A!$F:$F,$C6,B_IV_1A!V:V) -> 0 | U6: =SUMIF(B_IV_1A!$F:$F,$C6,B_IV_1A!W:W) -> 0 | V6: =SUMIF(B_IV_1A!$F:$F,$C6,B_IV_1A!X:X) -> 0 | W6: =SUMIF(B_IV_1A!$F:$F,$C6,B_IV_1A!Y:Y) -> 0 | X6: =SUMIF(B_IV_1A!$F:$F,$C6,B_IV_1A!Z:Z) -> 0 | Y6: =SUMIF(B_IV_1A!$F:$F,$C6,B_IV_1A!AA:AA) -> 0 | Z6: =SUMIF(B_IV_1A!$F:$F,$C6,B_IV_1A!AB:AB) -> 0 | AA6: =SUM(P6:Z6) -> 0 | AC6: =SUMIF(B_IV_1A!$F:$F,$C6,B_IV_1A!AF:AF) -> 0 | AD6: =SUMIF(B_IV_1A!$F:$F,$C6,B_IV_1A!AG:AG) -> 0 | AE6: =SUMIF(B_IV_1A!$F:$F,$C6,B_IV_1A!AH:AH) -> 0 | AF6: =SUMIF(B_IV_1A!$F:$F,$C6,B_IV_1A!AI:AI) -> 0 | AG6: =SUMIF(B_IV_1A!$F:$F,$C6,B_IV_1A!AJ:AJ) -> 0 | AH6: =SUMIF(B_IV_1A!$F:$F,$C6,B_IV_1A!AK:AK) -> 0 | AI6: =SUMIF(B_IV_1A!$F:$F,$C6,B_IV_1A!AL:AL) -> 0 | AJ6: =SUMIF(B_IV_1A!$F:$F,$C6,B_IV_1A!AM:AM) -> 0 | AK6: =SUMIF(B_IV_1A!$F:$F,$C6,B_IV_1A!AN:AN) -> 0 | AL6: =SUMIF(B_IV_1A!$F:$F,$C6,B_IV_1A!AO:AO) -> 0 | AM6: =SUMIF(B_IV_1A!$F:$F,$C6,B_IV_1A!AP:AP) -> 0 | AN6: =SUM(AC6:AM6) -> 0 | AT6: =INDEX(B_IV_1A!$G:$G,MATCH($C6,B_IV_1A!$F:$F,0)) -> #N/A | AU6: =COUNTIF(B_IV_1A!$AY$3:$AY$1519,$D6) -> 0 | AV6: =SUMIF(B_IV_1A!$AY$3:$AY$1519,$D6,B_IV_1A!$CF$3:$CF$1519) -> 0 | AW6: =SUMIF(B_IV_1A!$AY:$AY,$D6,B_IV_1A!$CG:$CG) -> 0 | AX6: =SUMIF(B_IV_1A!$AY:$AY,$D6,B_IV_1A!$CG:$CG) -> 0
A7: 896 | B7: Délegyháza-IV | C7: 11-09973-1-001-00-14 | D7: 2296 | E7: Délegyháza Község Önkormányzata | F7: Délegyháza | G7: =IF(ISNA($AT7),"Nincs rögzítve!",IF(AW7=0,"Hiányzik a rövidtávú terv!",IF(AX7=0,"Hiányzik a hosszútávú terv!",IF(AU7=AV7,"Kitöltés rendben!",IF(AU7<>AV7,"Kitöltési hiba!","Kitöltési hiba!"))))) -> Nincs rögzítve! | K7: =L7+M7 -> 0 | L7: =SUMIF(B_IV_1A!$F:$F,$C7,B_IV_1A!$N:$N) -> 0 | M7: =SUMIF(B_IV_1A!$F:$F,$C7,B_IV_1A!$O:$O) -> 0 | N7: =SUMIF(B_IV_1A!$F:$F,$C7,B_IV_1A!$P:$P) -> 0 | P7: =SUMIF(B_IV_1A!$F:$F,$C7,B_IV_1A!R:R) -> 0 | Q7: =SUMIF(B_IV_1A!$F:$F,$C7,B_IV_1A!S:S) -> 0 | R7: =SUMIF(B_IV_1A!$F:$F,$C7,B_IV_1A!T:T) -> 0 | S7: =SUMIF(B_IV_1A!$F:$F,$C7,B_IV_1A!U:U) -> 0 | T7: =SUMIF(B_IV_1A!$F:$F,$C7,B_IV_1A!V:V) -> 0 | U7: =SUMIF(B_IV_1A!$F:$F,$C7,B_IV_1A!W:W) -> 0 | V7: =SUMIF(B_IV_1A!$F:$F,$C7,B_IV_1A!X:X) -> 0 | W7: =SUMIF(B_IV_1A!$F:$F,$C7,B_IV_1A!Y:Y) -> 0 | X7: =SUMIF(B_IV_1A!$F:$F,$C7,B_IV_1A!Z:Z) -> 0 | Y7: =SUMIF(B_IV_1A!$F:$F,$C7,B_IV_1A!AA:AA) -> 0 | Z7: =SUMIF(B_IV_1A!$F:$F,$C7,B_IV_1A!AB:AB) -> 0 | AA7: =SUM(P7:Z7) -> 0 | AC7: =SUMIF(B_IV_1A!$F:$F,$C7,B_IV_1A!AF:AF) -> 0 | AD7: =SUMIF(B_IV_1A!$F:$F,$C7,B_IV_1A!AG:AG) -> 0 | AE7: =SUMIF(B_IV_1A!$F:$F,$C7,B_IV_1A!AH:AH) -> 0 | AF7: =SUMIF(B_IV_1A!$F:$F,$C7,B_IV_1A!AI:AI) -> 0 | AG7: =SUMIF(B_IV_1A!$F:$F,$C7,B_IV_1A!AJ:AJ) -> 0 | AH7: =SUMIF(B_IV_1A!$F:$F,$C7,B_IV_1A!AK:AK) -> 0 | AI7: =SUMIF(B_IV_1A!$F:$F,$C7,B_IV_1A!AL:AL) -> 0 | AJ7: =SUMIF(B_IV_1A!$F:$F,$C7,B_IV_1A!AM:AM) -> 0 | AK7: =SUMIF(B_IV_1A!$F:$F,$C7,B_IV_1A!AN:AN) -> 0 | AL7: =SUMIF(B_IV_1A!$F:$F,$C7,B_IV_1A!AO:AO) -> 0 | AM7: =SUMIF(B_IV_1A!$F:$F,$C7,B_IV_1A!AP:AP) -> 0 | AN7: =SUM(AC7:AM7) -> 0 | AT7: =INDEX(B_IV_1A!$G:$G,MATCH($C7,B_IV_1A!$F:$F,0)) -> #N/A | AU7: =COUNTIF(B_IV_1A!$AY$3:$AY$1519,$D7) -> 0 | AV7: =SUMIF(B_IV_1A!$AY$3:$AY$1519,$D7,B_IV_1A!$CF$3:$CF$1519) -> 0 | AW7: =SUMIF(B_IV_1A!$AY:$AY,$D7,B_IV_1A!$CG:$CG) -> 0 | AX7: =SUMIF(B_IV_1A!$AY:$AY,$D7,B_IV_1A!$CG:$CG) -> 0
A8: 897 | B8: Áporka-IV | C8: 11-10108-1-001-00-14 | D8: 2297 | E8: Áporka Község Önkormányzata | F8: Áporka | G8: =IF(ISNA($AT8),"Nincs rögzítve!",IF(AW8=0,"Hiányzik a rövidtávú terv!",IF(AX8=0,"Hiányzik a hosszútávú terv!",IF(AU8=AV8,"Kitöltés rendben!",IF(AU8<>AV8,"Kitöltési hiba!","Kitöltési hiba!"))))) -> Nincs rögzítve! | K8: =L8+M8 -> 0 | L8: =SUMIF(B_IV_1A!$F:$F,$C8,B_IV_1A!$N:$N) -> 0 | M8: =SUMIF(B_IV_1A!$F:$F,$C8,B_IV_1A!$O:$O) -> 0 | N8: =SUMIF(B_IV_1A!$F:$F,$C8,B_IV_1A!$P:$P) -> 0 | P8: =SUMIF(B_IV_1A!$F:$F,$C8,B_IV_1A!R:R) -> 0 | Q8: =SUMIF(B_IV_1A!$F:$F,$C8,B_IV_1A!S:S) -> 0 | R8: =SUMIF(B_IV_1A!$F:$F,$C8,B_IV_1A!T:T) -> 0 | S8: =SUMIF(B_IV_1A!$F:$F,$C8,B_IV_1A!U:U) -> 0 | T8: =SUMIF(B_IV_1A!$F:$F,$C8,B_IV_1A!V:V) -> 0 | U8: =SUMIF(B_IV_1A!$F:$F,$C8,B_IV_1A!W:W) -> 0 | V8: =SUMIF(B_IV_1A!$F:$F,$C8,B_IV_1A!X:X) -> 0 | W8: =SUMIF(B_IV_1A!$F:$F,$C8,B_IV_1A!Y:Y) -> 0 | X8: =SUMIF(B_IV_1A!$F:$F,$C8,B_IV_1A!Z:Z) -> 0 | Y8: =SUMIF(B_IV_1A!$F:$F,$C8,B_IV_1A!AA:AA) -> 0 | Z8: =SUMIF(B_IV_1A!$F:$F,$C8,B_IV_1A!AB:AB) -> 0 | AA8: =SUM(P8:Z8) -> 0 | AC8: =SUMIF(B_IV_1A!$F:$F,$C8,B_IV_1A!AF:AF) -> 0 | AD8: =SUMIF(B_IV_1A!$F:$F,$C8,B_IV_1A!AG:AG) -> 0 | AE8: =SUMIF(B_IV_1A!$F:$F,$C8,B_IV_1A!AH:AH) -> 0 | AF8: =SUMIF(B_IV_1A!$F:$F,$C8,B_IV_1A!AI:AI) -> 0 | AG8: =SUMIF(B_IV_1A!$F:$F,$C8,B_IV_1A!AJ:AJ) -> 0 | AH8: =SUMIF(B_IV_1A!$F:$F,$C8,B_IV_1A!AK:AK) -> 0 | AI8: =SUMIF(B_IV_1A!$F:$F,$C8,B_IV_1A!AL:AL) -> 0 | AJ8: =SUMIF(B_IV_1A!$F:$F,$C8,B_IV_1A!AM:AM) -> 0 | AK8: =SUMIF(B_IV_1A!$F:$F,$C8,B_IV_1A!AN:AN) -> 0 | AL8: =SUMIF(B_IV_1A!$F:$F,$C8,B_IV_1A!AO:AO) -> 0 | AM8: =SUMIF(B_IV_1A!$F:$F,$C8,B_IV_1A!AP:AP) -> 0 | AN8: =SUM(AC8:AM8) -> 0 | AT8: =INDEX(B_IV_1A!$G:$G,MATCH($C8,B_IV_1A!$F:$F,0)) -> #N/A | AU8: =COUNTIF(B_IV_1A!$AY$3:$AY$1519,$D8) -> 0 | AV8: =SUMIF(B_IV_1A!$AY$3:$AY$1519,$D8,B_IV_1A!$CF$3:$CF$1519) -> 0 | AW8: =SUMIF(B_IV_1A!$AY:$AY,$D8,B_IV_1A!$CG:$CG) -> 0 | AX8: =SUMIF(B_IV_1A!$AY:$AY,$D8,B_IV_1A!$CG:$CG) -> 0
A9: 898 | B9: Majosháza-IV | C9: 11-10755-1-001-00-07 | D9: 2298 | E9: Majosháza Község Önkormányzata | F9: Majosháza | G9: =IF(ISNA($AT9),"Nincs rögzítve!",IF(AW9=0,"Hiányzik a rövidtávú terv!",IF(AX9=0,"Hiányzik a hosszútávú terv!",IF(AU9=AV9,"Kitöltés rendben!",IF(AU9<>AV9,"Kitöltési hiba!","Kitöltési hiba!"))))) -> Nincs rögzítve! | K9: =L9+M9 -> 0 | L9: =SUMIF(B_IV_1A!$F:$F,$C9,B_IV_1A!$N:$N) -> 0 | M9: =SUMIF(B_IV_1A!$F:$F,$C9,B_IV_1A!$O:$O) -> 0 | N9: =SUMIF(B_IV_1A!$F:$F,$C9,B_IV_1A!$P:$P) -> 0 | P9: =SUMIF(B_IV_1A!$F:$F,$C9,B_IV_1A!R:R) -> 0 | Q9: =SUMIF(B_IV_1A!$F:$F,$C9,B_IV_1A!S:S) -> 0 | R9: =SUMIF(B_IV_1A!$F:$F,$C9,B_IV_1A!T:T) -> 0 | S9: =SUMIF(B_IV_1A!$F:$F,$C9,B_IV_1A!U:U) -> 0 | T9: =SUMIF(B_IV_1A!$F:$F,$C9,B_IV_1A!V:V) -> 0 | U9: =SUMIF(B_IV_1A!$F:$F,$C9,B_IV_1A!W:W) -> 0 | V9: =SUMIF(B_IV_1A!$F:$F,$C9,B_IV_1A!X:X) -> 0 | W9: =SUMIF(B_IV_1A!$F:$F,$C9,B_IV_1A!Y:Y) -> 0 | X9: =SUMIF(B_IV_1A!$F:$F,$C9,B_IV_1A!Z:Z) -> 0 | Y9: =SUMIF(B_IV_1A!$F:$F,$C9,B_IV_1A!AA:AA) -> 0 | Z9: =SUMIF(B_IV_1A!$F:$F,$C9,B_IV_1A!AB:AB) -> 0 | AA9: =SUM(P9:Z9) -> 0 | AC9: =SUMIF(B_IV_1A!$F:$F,$C9,B_IV_1A!AF:AF) -> 0 | AD9: =SUMIF(B_IV_1A!$F:$F,$C9,B_IV_1A!AG:AG) -> 0 | AE9: =SUMIF(B_IV_1A!$F:$F,$C9,B_IV_1A!AH:AH) -> 0 | AF9: =SUMIF(B_IV_1A!$F:$F,$C9,B_IV_1A!AI:AI) -> 0 | AG9: =SUMIF(B_IV_1A!$F:$F,$C9,B_IV_1A!AJ:AJ) -> 0 | AH9: =SUMIF(B_IV_1A!$F:$F,$C9,B_IV_1A!AK:AK) -> 0 | AI9: =SUMIF(B_IV_1A!$F:$F,$C9,B_IV_1A!AL:AL) -> 0 | AJ9: =SUMIF(B_IV_1A!$F:$F,$C9,B_IV_1A!AM:AM) -> 0 | AK9: =SUMIF(B_IV_1A!$F:$F,$C9,B_IV_1A!AN:AN) -> 0 | AL9: =SUMIF(B_IV_1A!$F:$F,$C9,B_IV_1A!AO:AO) -> 0 | AM9: =SUMIF(B_IV_1A!$F:$F,$C9,B_IV_1A!AP:AP) -> 0 | AN9: =SUM(AC9:AM9) -> 0 | AT9: =INDEX(B_IV_1A!$G:$G,MATCH($C9,B_IV_1A!$F:$F,0)) -> #N/A | AU9: =COUNTIF(B_IV_1A!$AY$3:$AY$1519,$D9) -> 0 | AV9: =SUMIF(B_IV_1A!$AY$3:$AY$1519,$D9,B_IV_1A!$CF$3:$CF$1519) -> 0 | AW9: =SUMIF(B_IV_1A!$AY:$AY,$D9,B_IV_1A!$CG:$CG) -> 0 | AX9: =SUMIF(B_IV_1A!$AY:$AY,$D9,B_IV_1A!$CG:$CG) -> 0
A10: 899 | B10: K.k.lacháza--IV | C10: 11-10816-1-001-01-10 | D10: 2299 | E10: Kiskunlacháza Város Önkormányzat | F10: Kiskunlacháza | G10: =IF(ISNA($AT10),"Nincs rögzítve!",IF(AW10=0,"Hiányzik a rövidtávú terv!",IF(AX10=0,"Hiányzik a hosszútávú terv!",IF(AU10=AV10,"Kitöltés rendben!",IF(AU10<>AV10,"Kitöltési hiba!","Kitöltési hiba!"))))) -> Nincs rögzítve! | K10: =L10+M10 -> 0 | L10: =SUMIF(B_IV_1A!$F:$F,$C10,B_IV_1A!$N:$N) -> 0 | M10: =SUMIF(B_IV_1A!$F:$F,$C10,B_IV_1A!$O:$O) -> 0 | N10: =SUMIF(B_IV_1A!$F:$F,$C10,B_IV_1A!$P:$P) -> 0 | P10: =SUMIF(B_IV_1A!$F:$F,$C10,B_IV_1A!R:R) -> 0 | Q10: =SUMIF(B_IV_1A!$F:$F,$C10,B_IV_1A!S:S) -> 0 | R10: =SUMIF(B_IV_1A!$F:$F,$C10,B_IV_1A!T:T) -> 0 | S10: =SUMIF(B_IV_1A!$F:$F,$C10,B_IV_1A!U:U) -> 0 | T10: =SUMIF(B_IV_1A!$F:$F,$C10,B_IV_1A!V:V) -> 0 | U10: =SUMIF(B_IV_1A!$F:$F,$C10,B_IV_1A!W:W) -> 0 | V10: =SUMIF(B_IV_1A!$F:$F,$C10,B_IV_1A!X:X) -> 0 | W10: =SUMIF(B_IV_1A!$F:$F,$C10,B_IV_1A!Y:Y) -> 0 | X10: =SUMIF(B_IV_1A!$F:$F,$C10,B_IV_1A!Z:Z) -> 0 | Y10: =SUMIF(B_IV_1A!$F:$F,$C10,B_IV_1A!AA:AA) -> 0 | Z10: =SUMIF(B_IV_1A!$F:$F,$C10,B_IV_1A!AB:AB) -> 0 | AA10: =SUM(P10:Z10) -> 0 | AC10: =SUMIF(B_IV_1A!$F:$F,$C10,B_IV_1A!AF:AF) -> 0 | AD10: =SUMIF(B_IV_1A!$F:$F,$C10,B_IV_1A!AG:AG) -> 0 | AE10: =SUMIF(B_IV_1A!$F:$F,$C10,B_IV_1A!AH:AH) -> 0 | AF10: =SUMIF(B_IV_1A!$F:$F,$C10,B_IV_1A!AI:AI) -> 0 | AG10: =SUMIF(B_IV_1A!$F:$F,$C10,B_IV_1A!AJ:AJ) -> 0 | AH10: =SUMIF(B_IV_1A!$F:$F,$C10,B_IV_1A!AK:AK) -> 0 | AI10: =SUMIF(B_IV_1A!$F:$F,$C10,B_IV_1A!AL:AL) -> 0 | AJ10: =SUMIF(B_IV_1A!$F:$F,$C10,B_IV_1A!AM:AM) -> 0 | AK10: =SUMIF(B_IV_1A!$F:$F,$C10,B_IV_1A!AN:AN) -> 0 | AL10: =SUMIF(B_IV_1A!$F:$F,$C10,B_IV_1A!AO:AO) -> 0 | AM10: =SUMIF(B_IV_1A!$F:$F,$C10,B_IV_1A!AP:AP) -> 0 | AN10: =SUM(AC10:AM10) -> 0 | AT10: =INDEX(B_IV_1A!$G:$G,MATCH($C10,B_IV_1A!$F:$F,0)) -> #N/A | AU10: =COUNTIF(B_IV_1A!$AY$3:$AY$1519,$D10) -> 0 | AV10: =SUMIF(B_IV_1A!$AY$3:$AY$1519,$D10,B_IV_1A!$CF$3:$CF$1519) -> 0 | AW10: =SUMIF(B_IV_1A!$AY:$AY,$D10,B_IV_1A!$CG:$CG) -> 0 | AX10: =SUMIF(B_IV_1A!$AY:$AY,$D10,B_IV_1A!$CG:$CG) -> 0
A11: 900 | B11: Maglód-IV | C11: 11-10922-1-001-00-14 | D11: 2300 | E11: Maglód Város Önkormányzata | F11: Maglód | G11: =IF(ISNA($AT11),"Nincs rögzítve!",IF(AW11=0,"Hiányzik a rövidtávú terv!",IF(AX11=0,"Hiányzik a hosszútávú terv!",IF(AU11=AV11,"Kitöltés rendben!",IF(AU11<>AV11,"Kitöltési hiba!","Kitöltési hiba!"))))) -> Nincs rögzítve! | K11: =L11+M11 -> 0 | L11: =SUMIF(B_IV_1A!$F:$F,$C11,B_IV_1A!$N:$N) -> 0 | M11: =SUMIF(B_IV_1A!$F:$F,$C11,B_IV_1A!$O:$O) -> 0 | N11: =SUMIF(B_IV_1A!$F:$F,$C11,B_IV_1A!$P:$P) -> 0 | P11: =SUMIF(B_IV_1A!$F:$F,$C11,B_IV_1A!R:R) -> 0 | Q11: =SUMIF(B_IV_1A!$F:$F,$C11,B_IV_1A!S:S) -> 0 | R11: =SUMIF(B_IV_1A!$F:$F,$C11,B_IV_1A!T:T) -> 0 | S11: =SUMIF(B_IV_1A!$F:$F,$C11,B_IV_1A!U:U) -> 0 | T11: =SUMIF(B_IV_1A!$F:$F,$C11,B_IV_1A!V:V) -> 0 | U11: =SUMIF(B_IV_1A!$F:$F,$C11,B_IV_1A!W:W) -> 0 | V11: =SUMIF(B_IV_1A!$F:$F,$C11,B_IV_1A!X:X) -> 0 | W11: =SUMIF(B_IV_1A!$F:$F,$C11,B_IV_1A!Y:Y) -> 0 | X11: =SUMIF(B_IV_1A!$F:$F,$C11,B_IV_1A!Z:Z) -> 0 | Y11: =SUMIF(B_IV_1A!$F:$F,$C11,B_IV_1A!AA:AA) -> 0 | Z11: =SUMIF(B_IV_1A!$F:$F,$C11,B_IV_1A!AB:AB) -> 0 | AA11: =SUM(P11:Z11) -> 0 | AC11: =SUMIF(B_IV_1A!$F:$F,$C11,B_IV_1A!AF:AF) -> 0 | AD11: =SUMIF(B_IV_1A!$F:$F,$C11,B_IV_1A!AG:AG) -> 0 | AE11: =SUMIF(B_IV_1A!$F:$F,$C11,B_IV_1A!AH:AH) -> 0 | AF11: =SUMIF(B_IV_1A!$F:$F,$C11,B_IV_1A!AI:AI) -> 0 | AG11: =SUMIF(B_IV_1A!$F:$F,$C11,B_IV_1A!AJ:AJ) -> 0 | AH11: =SUMIF(B_IV_1A!$F:$F,$C11,B_IV_1A!AK:AK) -> 0 | AI11: =SUMIF(B_IV_1A!$F:$F,$C11,B_IV_1A!AL:AL) -> 0 | AJ11: =SUMIF(B_IV_1A!$F:$F,$C11,B_IV_1A!AM:AM) -> 0 | AK11: =SUMIF(B_IV_1A!$F:$F,$C11,B_IV_1A!AN:AN) -> 0 | AL11: =SUMIF(B_IV_1A!$F:$F,$C11,B_IV_1A!AO:AO) -> 0 | AM11: =SUMIF(B_IV_1A!$F:$F,$C11,B_IV_1A!AP:AP) -> 0 | AN11: =SUM(AC11:AM11) -> 0 | AT11: =INDEX(B_IV_1A!$G:$G,MATCH($C11,B_IV_1A!$F:$F,0)) -> #N/A | AU11: =COUNTIF(B_IV_1A!$AY$3:$AY$1519,$D11) -> 0 | AV11: =SUMIF(B_IV_1A!$AY$3:$AY$1519,$D11,B_IV_1A!$CF$3:$CF$1519) -> 0 | AW11: =SUMIF(B_IV_1A!$AY:$AY,$D11,B_IV_1A!$CG:$CG) -> 0 | AX11: =SUMIF(B_IV_1A!$AY:$AY,$D11,B_IV_1A!$CG:$CG) -> 0
A12: 901 | B12: Üllő-IV | C12: 11-12894-1-001-00-15 | D12: 2301 | E12: Üllő Város Önkormányzata | F12: Üllő | G12: =IF(ISNA($AT12),"Nincs rögzítve!",IF(AW12=0,"Hiányzik a rövidtávú terv!",IF(AX12=0,"Hiányzik a hosszútávú terv!",IF(AU12=AV12,"Kitöltés rendben!",IF(AU12<>AV12,"Kitöltési hiba!","Kitöltési hiba!"))))) -> Nincs rögzítve! | K12: =L12+M12 -> 0 | L12: =SUMIF(B_IV_1A!$F:$F,$C12,B_IV_1A!$N:$N) -> 0 | M12: =SUMIF(B_IV_1A!$F:$F,$C12,B_IV_1A!$O:$O) -> 0 | N12: =SUMIF(B_IV_1A!$F:$F,$C12,B_IV_1A!$P:$P) -> 0 | P12: =SUMIF(B_IV_1A!$F:$F,$C12,B_IV_1A!R:R) -> 0 | Q12: =SUMIF(B_IV_1A!$F:$F,$C12,B_IV_1A!S:S) -> 0 | R12: =SUMIF(B_IV_1A!$F:$F,$C12,B_IV_1A!T:T) -> 0 | S12: =SUMIF(B_IV_1A!$F:$F,$C12,B_IV_1A!U:U) -> 0 | T12: =SUMIF(B_IV_1A!$F:$F,$C12,B_IV_1A!V:V) -> 0 | U12: =SUMIF(B_IV_1A!$F:$F,$C12,B_IV_1A!W:W) -> 0 | V12: =SUMIF(B_IV_1A!$F:$F,$C12,B_IV_1A!X:X) -> 0 | W12: =SUMIF(B_IV_1A!$F:$F,$C12,B_IV_1A!Y:Y) -> 0 | X12: =SUMIF(B_IV_1A!$F:$F,$C12,B_IV_1A!Z:Z) -> 0 | Y12: =SUMIF(B_IV_1A!$F:$F,$C12,B_IV_1A!AA:AA) -> 0 | Z12: =SUMIF(B_IV_1A!$F:$F,$C12,B_IV_1A!AB:AB) -> 0 | AA12: =SUM(P12:Z12) -> 0 | AC12: =SUMIF(B_IV_1A!$F:$F,$C12,B_IV_1A!AF:AF) -> 0 | AD12: =SUMIF(B_IV_1A!$F:$F,$C12,B_IV_1A!AG:AG) -> 0 | AE12: =SUMIF(B_IV_1A!$F:$F,$C12,B_IV_1A!AH:AH) -> 0 | AF12: =SUMIF(B_IV_1A!$F:$F,$C12,B_IV_1A!AI:AI) -> 0 | AG12: =SUMIF(B_IV_1A!$F:$F,$C12,B_IV_1A!AJ:AJ) -> 0 | AH12: =SUMIF(B_IV_1A!$F:$F,$C12,B_IV_1A!AK:AK) -> 0 | AI12: =SUMIF(B_IV_1A!$F:$F,$C12,B_IV_1A!AL:AL) -> 0 | AJ12: =SUMIF(B_IV_1A!$F:$F,$C12,B_IV_1A!AM:AM) -> 0 | AK12: =SUMIF(B_IV_1A!$F:$F,$C12,B_IV_1A!AN:AN) -> 0 | AL12: =SUMIF(B_IV_1A!$F:$F,$C12,B_IV_1A!AO:AO) -> 0 | AM12: =SUMIF(B_IV_1A!$F:$F,$C12,B_IV_1A!AP:AP) -> 0 | AN12: =SUM(AC12:AM12) -> 0 | AT12: =INDEX(B_IV_1A!$G:$G,MATCH($C12,B_IV_1A!$F:$F,0)) -> #N/A | AU12: =COUNTIF(B_IV_1A!$AY$3:$AY$1519,$D12) -> 0 | AV12: =SUMIF(B_IV_1A!$AY$3:$AY$1519,$D12,B_IV_1A!$CF$3:$CF$1519) -> 0 | AW12: =SUMIF(B_IV_1A!$AY:$AY,$D12,B_IV_1A!$CG:$CG) -> 0 | AX12: =SUMIF(B_IV_1A!$AY:$AY,$D12,B_IV_1A!$CG:$CG) -> 0
A13: 902 | B13: Sz.halom-IV | C13: 11-13277-1-001-00-06 | D13: 2302 | E13: Szigethalom Város Önkormányzat | F13: Szigethalom | G13: =IF(ISNA($AT13),"Nincs rögzítve!",IF(AW13=0,"Hiányzik a rövidtávú terv!",IF(AX13=0,"Hiányzik a hosszútávú terv!",IF(AU13=AV13,"Kitöltés rendben!",IF(AU13<>AV13,"Kitöltési hiba!","Kitöltési hiba!"))))) -> Nincs rögzítve! | K13: =L13+M13 -> 0 | L13: =SUMIF(B_IV_1A!$F:$F,$C13,B_IV_1A!$N:$N) -> 0 | M13: =SUMIF(B_IV_1A!$F:$F,$C13,B_IV_1A!$O:$O) -> 0 | N13: =SUMIF(B_IV_1A!$F:$F,$C13,B_IV_1A!$P:$P) -> 0 | P13: =SUMIF(B_IV_1A!$F:$F,$C13,B_IV_1A!R:R) -> 0 | Q13: =SUMIF(B_IV_1A!$F:$F,$C13,B_IV_1A!S:S) -> 0 | R13: =SUMIF(B_IV_1A!$F:$F,$C13,B_IV_1A!T:T) -> 0 | S13: =SUMIF(B_IV_1A!$F:$F,$C13,B_IV_1A!U:U) -> 0 | T13: =SUMIF(B_IV_1A!$F:$F,$C13,B_IV_1A!V:V) -> 0 | U13: =SUMIF(B_IV_1A!$F:$F,$C13,B_IV_1A!W:W) -> 0 | V13: =SUMIF(B_IV_1A!$F:$F,$C13,B_IV_1A!X:X) -> 0 | W13: =SUMIF(B_IV_1A!$F:$F,$C13,B_IV_1A!Y:Y) -> 0 | X13: =SUMIF(B_IV_1A!$F:$F,$C13,B_IV_1A!Z:Z) -> 0 | Y13: =SUMIF(B_IV_1A!$F:$F,$C13,B_IV_1A!AA:AA) -> 0 | Z13: =SUMIF(B_IV_1A!$F:$F,$C13,B_IV_1A!AB:AB) -> 0 | AA13: =SUM(P13:Z13) -> 0 | AC13: =SUMIF(B_IV_1A!$F:$F,$C13,B_IV_1A!AF:AF) -> 0 | AD13: =SUMIF(B_IV_1A!$F:$F,$C13,B_IV_1A!AG:AG) -> 0 | AE13: =SUMIF(B_IV_1A!$F:$F,$C13,B_IV_1A!AH:AH) -> 0 | AF13: =SUMIF(B_IV_1A!$F:$F,$C13,B_IV_1A!AI:AI) -> 0 | AG13: =SUMIF(B_IV_1A!$F:$F,$C13,B_IV_1A!AJ:AJ) -> 0 | AH13: =SUMIF(B_IV_1A!$F:$F,$C13,B_IV_1A!AK:AK) -> 0 | AI13: =SUMIF(B_IV_1A!$F:$F,$C13,B_IV_1A!AL:AL) -> 0 | AJ13: =SUMIF(B_IV_1A!$F:$F,$C13,B_IV_1A!AM:AM) -> 0 | AK13: =SUMIF(B_IV_1A!$F:$F,$C13,B_IV_1A!AN:AN) -> 0 | AL13: =SUMIF(B_IV_1A!$F:$F,$C13,B_IV_1A!AO:AO) -> 0 | AM13: =SUMIF(B_IV_1A!$F:$F,$C13,B_IV_1A!AP:AP) -> 0 | AN13: =SUM(AC13:AM13) -> 0 | AT13: =INDEX(B_IV_1A!$G:$G,MATCH($C13,B_IV_1A!$F:$F,0)) -> #N/A | AU13: =COUNTIF(B_IV_1A!$AY$3:$AY$1519,$D13) -> 0 | AV13: =SUMIF(B_IV_1A!$AY$3:$AY$1519,$D13,B_IV_1A!$CF$3:$CF$1519) -> 0 | AW13: =SUMIF(B_IV_1A!$AY:$AY,$D13,B_IV_1A!$CG:$CG) -> 0 | AX13: =SUMIF(B_IV_1A!$AY:$AY,$D13,B_IV_1A!$CG:$CG) -> 0
A14: 903 | B14: Szigetszent- márton-IV | C14: 11-15185-1-001-00-13 | D14: 2303 | E14: Szigetszentmárton Község Önkormányzata | F14: Szigetszentmárton | G14: =IF(ISNA($AT14),"Nincs rögzítve!",IF(AW14=0,"Hiányzik a rövidtávú terv!",IF(AX14=0,"Hiányzik a hosszútávú terv!",IF(AU14=AV14,"Kitöltés rendben!",IF(AU14<>AV14,"Kitöltési hiba!","Kitöltési hiba!"))))) -> Nincs rögzítve! | K14: =L14+M14 -> 0 | L14: =SUMIF(B_IV_1A!$F:$F,$C14,B_IV_1A!$N:$N) -> 0 | M14: =SUMIF(B_IV_1A!$F:$F,$C14,B_IV_1A!$O:$O) -> 0 | N14: =SUMIF(B_IV_1A!$F:$F,$C14,B_IV_1A!$P:$P) -> 0 | P14: =SUMIF(B_IV_1A!$F:$F,$C14,B_IV_1A!R:R) -> 0 | Q14: =SUMIF(B_IV_1A!$F:$F,$C14,B_IV_1A!S:S) -> 0 | R14: =SUMIF(B_IV_1A!$F:$F,$C14,B_IV_1A!T:T) -> 0 | S14: =SUMIF(B_IV_1A!$F:$F,$C14,B_IV_1A!U:U) -> 0 | T14: =SUMIF(B_IV_1A!$F:$F,$C14,B_IV_1A!V:V) -> 0 | U14: =SUMIF(B_IV_1A!$F:$F,$C14,B_IV_1A!W:W) -> 0 | V14: =SUMIF(B_IV_1A!$F:$F,$C14,B_IV_1A!X:X) -> 0 | W14: =SUMIF(B_IV_1A!$F:$F,$C14,B_IV_1A!Y:Y) -> 0 | X14: =SUMIF(B_IV_1A!$F:$F,$C14,B_IV_1A!Z:Z) -> 0 | Y14: =SUMIF(B_IV_1A!$F:$F,$C14,B_IV_1A!AA:AA) -> 0 | Z14: =SUMIF(B_IV_1A!$F:$F,$C14,B_IV_1A!AB:AB) -> 0 | AA14: =SUM(P14:Z14) -> 0 | AC14: =SUMIF(B_IV_1A!$F:$F,$C14,B_IV_1A!AF:AF) -> 0 | AD14: =SUMIF(B_IV_1A!$F:$F,$C14,B_IV_1A!AG:AG) -> 0 | AE14: =SUMIF(B_IV_1A!$F:$F,$C14,B_IV_1A!AH:AH) -> 0 | AF14: =SUMIF(B_IV_1A!$F:$F,$C14,B_IV_1A!AI:AI) -> 0 | AG14: =SUMIF(B_IV_1A!$F:$F,$C14,B_IV_1A!AJ:AJ) -> 0 | AH14: =SUMIF(B_IV_1A!$F:$F,$C14,B_IV_1A!AK:AK) -> 0 | AI14: =SUMIF(B_IV_1A!$F:$F,$C14,B_IV_1A!AL:AL) -> 0 | AJ14: =SUMIF(B_IV_1A!$F:$F,$C14,B_IV_1A!AM:AM) -> 0 | AK14: =SUMIF(B_IV_1A!$F:$F,$C14,B_IV_1A!AN:AN) -> 0 | AL14: =SUMIF(B_IV_1A!$F:$F,$C14,B_IV_1A!AO:AO) -> 0 | AM14: =SUMIF(B_IV_1A!$F:$F,$C14,B_IV_1A!AP:AP) -> 0 | AN14: =SUM(AC14:AM14) -> 0 | AT14: =INDEX(B_IV_1A!$G:$G,MATCH($C14,B_IV_1A!$F:$F,0)) -> #N/A | AU14: =COUNTIF(B_IV_1A!$AY$3:$AY$1519,$D14) -> 0 | AV14: =SUMIF(B_IV_1A!$AY$3:$AY$1519,$D14,B_IV_1A!$CF$3:$CF$1519) -> 0 | AW14: =SUMIF(B_IV_1A!$AY:$AY,$D14,B_IV_1A!$CG:$CG) -> 0 | AX14: =SUMIF(B_IV_1A!$AY:$AY,$D14,B_IV_1A!$CG:$CG) -> 0
A15: 904 | B15: Dunavarsány-IV | C15: 11-20534-1-001-00-11 | D15: 2304 | E15: Dunavarsány Város Önkormányzata | F15: Dunavarsány | G15: =IF(ISNA($AT15),"Nincs rögzítve!",IF(AW15=0,"Hiányzik a rövidtávú terv!",IF(AX15=0,"Hiányzik a hosszútávú terv!",IF(AU15=AV15,"Kitöltés rendben!",IF(AU15<>AV15,"Kitöltési hiba!","Kitöltési hiba!"))))) -> Nincs rögzítve! | K15: =L15+M15 -> 0 | L15: =SUMIF(B_IV_1A!$F:$F,$C15,B_IV_1A!$N:$N) -> 0 | M15: =SUMIF(B_IV_1A!$F:$F,$C15,B_IV_1A!$O:$O) -> 0 | N15: =SUMIF(B_IV_1A!$F:$F,$C15,B_IV_1A!$P:$P) -> 0 | P15: =SUMIF(B_IV_1A!$F:$F,$C15,B_IV_1A!R:R) -> 0 | Q15: =SUMIF(B_IV_1A!$F:$F,$C15,B_IV_1A!S:S) -> 0 | R15: =SUMIF(B_IV_1A!$F:$F,$C15,B_IV_1A!T:T) -> 0 | S15: =SUMIF(B_IV_1A!$F:$F,$C15,B_IV_1A!U:U) -> 0 | T15: =SUMIF(B_IV_1A!$F:$F,$C15,B_IV_1A!V:V) -> 0 | U15: =SUMIF(B_IV_1A!$F:$F,$C15,B_IV_1A!W:W) -> 0 | V15: =SUMIF(B_IV_1A!$F:$F,$C15,B_IV_1A!X:X) -> 0 | W15: =SUMIF(B_IV_1A!$F:$F,$C15,B_IV_1A!Y:Y) -> 0 | X15: =SUMIF(B_IV_1A!$F:$F,$C15,B_IV_1A!Z:Z) -> 0 | Y15: =SUMIF(B_IV_1A!$F:$F,$C15,B_IV_1A!AA:AA) -> 0 | Z15: =SUMIF(B_IV_1A!$F:$F,$C15,B_IV_1A!AB:AB) -> 0 | AA15: =SUM(P15:Z15) -> 0 | AC15: =SUMIF(B_IV_1A!$F:$F,$C15,B_IV_1A!AF:AF) -> 0 | AD15: =SUMIF(B_IV_1A!$F:$F,$C15,B_IV_1A!AG:AG) -> 0 | AE15: =SUMIF(B_IV_1A!$F:$F,$C15,B_IV_1A!AH:AH) -> 0 | AF15: =SUMIF(B_IV_1A!$F:$F,$C15,B_IV_1A!AI:AI) -> 0 | AG15: =SUMIF(B_IV_1A!$F:$F,$C15,B_IV_1A!AJ:AJ) -> 0 | AH15: =SUMIF(B_IV_1A!$F:$F,$C15,B_IV_1A!AK:AK) -> 0 | AI15: =SUMIF(B_IV_1A!$F:$F,$C15,B_IV_1A!AL:AL) -> 0 | AJ15: =SUMIF(B_IV_1A!$F:$F,$C15,B_IV_1A!AM:AM) -> 0 | AK15: =SUMIF(B_IV_1A!$F:$F,$C15,B_IV_1A!AN:AN) -> 0 | AL15: =SUMIF(B_IV_1A!$F:$F,$C15,B_IV_1A!AO:AO) -> 0 | AM15: =SUMIF(B_IV_1A!$F:$F,$C15,B_IV_1A!AP:AP) -> 0 | AN15: =SUM(AC15:AM15) -> 0 | AT15: =INDEX(B_IV_1A!$G:$G,MATCH($C15,B_IV_1A!$F:$F,0)) -> #N/A | AU15: =COUNTIF(B_IV_1A!$AY$3:$AY$1519,$D15) -> 0 | AV15: =SUMIF(B_IV_1A!$AY$3:$AY$1519,$D15,B_IV_1A!$CF$3:$CF$1519) -> 0 | AW15: =SUMIF(B_IV_1A!$AY:$AY,$D15,B_IV_1A!$CG:$CG) -> 0 | AX15: =SUMIF(B_IV_1A!$AY:$AY,$D15,B_IV_1A!$CG:$CG) -> 0
... A22: 911 | B22: Ecser-IV | C22: 12-24518-1-001-00-12 | D22: 2312 | E22: Ecser Nagyközség Önkormányzata | F22: Ecser | G22: =IF(ISNA($AT22),"Nincs rögzítve!",IF(AW22=0,"Hiányzik a rövidtávú terv!",IF(AX22=0,"Hiányzik a hosszútávú terv!",IF(AU22=AV22,"Kitöltés rendben!",IF(AU22<>AV22,"Kitöltési hiba!","Kitöltési hiba!"))))) -> Nincs rögzítve! | K22: =L22+M22 -> 0 | L22: =SUMIF(B_IV_1A!$F:$F,$C22,B_IV_1A!$N:$N) -> 0 | M22: =SUMIF(B_IV_1A!$F:$F,$C22,B_IV_1A!$O:$O) -> 0 | N22: =SUMIF(B_IV_1A!$F:$F,$C22,B_IV_1A!$P:$P) -> 0 | P22: =SUMIF(B_IV_1A!$F:$F,$C22,B_IV_1A!R:R) -> 0 | Q22: =SUMIF(B_IV_1A!$F:$F,$C22,B_IV_1A!S:S) -> 0 | R22: =SUMIF(B_IV_1A!$F:$F,$C22,B_IV_1A!T:T) -> 0 | S22: =SUMIF(B_IV_1A!$F:$F,$C22,B_IV_1A!U:U) -> 0 | T22: =SUMIF(B_IV_1A!$F:$F,$C22,B_IV_1A!V:V) -> 0 | U22: =SUMIF(B_IV_1A!$F:$F,$C22,B_IV_1A!W:W) -> 0 | V22: =SUMIF(B_IV_1A!$F:$F,$C22,B_IV_1A!X:X) -> 0 | W22: =SUMIF(B_IV_1A!$F:$F,$C22,B_IV_1A!Y:Y) -> 0 | X22: =SUMIF(B_IV_1A!$F:$F,$C22,B_IV_1A!Z:Z) -> 0 | Y22: =SUMIF(B_IV_1A!$F:$F,$C22,B_IV_1A!AA:AA) -> 0 | Z22: =SUMIF(B_IV_1A!$F:$F,$C22,B_IV_1A!AB:AB) -> 0 | AA22: =SUM(P22:Z22) -> 0 | AC22: =SUMIF(B_IV_1A!$F:$F,$C22,B_IV_1A!AF:AF) -> 0 | AD22: =SUMIF(B_IV_1A!$F:$F,$C22,B_IV_1A!AG:AG) -> 0 | AE22: =SUMIF(B_IV_1A!$F:$F,$C22,B_IV_1A!AH:AH) -> 0 | AF22: =SUMIF(B_IV_1A!$F:$F,$C22,B_IV_1A!AI:AI) -> 0 | AG22: =SUMIF(B_IV_1A!$F:$F,$C22,B_IV_1A!AJ:AJ) -> 0 | AH22: =SUMIF(B_IV_1A!$F:$F,$C22,B_IV_1A!AK:AK) -> 0 | AI22: =SUMIF(B_IV_1A!$F:$F,$C22,B_IV_1A!AL:AL) -> 0 | AJ22: =SUMIF(B_IV_1A!$F:$F,$C22,B_IV_1A!AM:AM) -> 0 | AK22: =SUMIF(B_IV_1A!$F:$F,$C22,B_IV_1A!AN:AN) -> 0 | AL22: =SUMIF(B_IV_1A!$F:$F,$C22,B_IV_1A!AO:AO) -> 0 | AM22: =SUMIF(B_IV_1A!$F:$F,$C22,B_IV_1A!AP:AP) -> 0 | AN22: =SUM(AC22:AM22) -> 0 | AT22: =INDEX(B_IV_1A!$G:$G,MATCH($C22,B_IV_1A!$F:$F,0)) -> #N/A | AU22: =COUNTIF(B_IV_1A!$AY$3:$AY$1519,$D22) -> 0 | AV22: =SUMIF(B_IV_1A!$AY$3:$AY$1519,$D22,B_IV_1A!$CF$3:$CF$1519) -> 0 | AW22: =SUMIF(B_IV_1A!$AY:$AY,$D22,B_IV_1A!$CG:$CG) -> 0 | AX22: =SUMIF(B_IV_1A!$AY:$AY,$D22,B_IV_1A!$CG:$CG) -> 0

Sheet B_IV_1A
B1: A | C1: B | D1: C | E1: D | F1: E/1 | G1: E/2 | H1: fx | I1: VKEFFO | J1: F | K1: G | L1: I/1 | M1: I/2 | N1: J/1 | O1: J/2 | P1: VKEFFO | R1: H/1 -- Forrás megnevezése (I. ütem) | AD1: fx | AF1: H/2 -- Forrás megnevezése (II. ütem) | AS1: fx | AU1: VKEFFO | AV1: VKEFFO | AY1: fx | AZ1: fx | BA1: fx | BB1: fx | BC1: fx | BD1: fx | BE1: fx | BF1: fx | BG1: fx | BH1: fx | BI1: fx | BJ1: fx | BK1: fx | BL1: fx | BM1: fx | BN1: fx | BO1: fx | BP1: fx | BQ1: fx | BR1: fx | BS1: fx | BT1: fx | BU1: fx | BV1: fx | BW1: fx | BX1: fx | BY1: fx | BZ1: fx | CA1: fx | CB1: fx | CC1: fx | CD1: fx | CE1: fx | CF1: fx | CG1: fx | CH1: fx
A2: Ellenőrzés | B2: Fontossági sorrend | C2: A beruházási feladat kategóriája | D2: beruházás megnevezése | E2: Vízjogi létesítési/ elvi engedély száma (amennyiben rendelkezésre áll) | F2: Víziközmű-rendszer hivatali kódja | G2: Víziközmű-rendszer megnevezése | H2: FELADAT-AZONOSITO | I2: Ellátási terület | J2: Az érintett ellátásért felelős(ök) megnevezése | K2: Tervezett nettó költség [eFt] | L2: Megvalósítás várható időtartama - KEZDÉS | M2: Megvalósítás várható időtartama - BEFEJEZÉS | N2: A beruházás tervezett nettó költsége a tervezési időszak ütemezése szerint [eFt] - I. ütem | O2: A beruházás tervezett nettó költsége a tervezési időszak ütemezése szerint [eFt] - II. ütem | P2: Az EM rendelet 2. melléklet terhére elszámolni tervezett költség | R2: Használati díj [eFt] | S2: ÉCS [eFt] | T2: Közműfejlesztési hozzájárulás [eFt] | U2: Egyéb saját forrás [eFt] | V2: Díj [eFt] | W2: VFEA - EM rendelet 1. melléklet | X2: Egyéb állami támogatás [eFt] | Y2: Önkormányzati támogatás [eFt] | Z2: EU-s támogatás [eFt] | AA2: Egyéb támogatás [eFt] | AB2: Banki hitel, kötvénykibocsátás [eFt] | AC2: Összesítés [eFt] | AD2: Forrás (I. ütem) - ELLENŐRZÉS | AF2: Használati díj [eFt] | AG2: ÉCS [eFt] | AH2: Közműfejlesztési hozzájárulás [eFt] | AI2: Egyéb saját forrás [eFt] | AJ2: Díj [eFt] | AK2: VFEA - EM rendelet 1. melléklet | AL2: Egyéb állami támogatás [eFt] | AM2: Önkormányzati támogatás [eFt] | AN2: EU-s támogatás [eFt] | AO2: Egyéb támogatás [eFt] | AP2: Banki hitel, kötvénykibocsátás [eFt] | AQ2: Összesítés [eFt] | AR2: Forráshiányos a feladat (II. ütem)? | AS2: Forrás (II. ütem) - ELLENŐRZÉS | AU2: INDOKLÁS | AV2: MEGJEGYZÉS | AW2: Feladat sorszáma | AY2: ISA | AZ2: Indoklás hossza | BA2: Minden kitöltve? (kivéve a forrás) 1-igen;0-nem | BB2: 2027-2027: R 2027-x: RH 2028-x: H | BC2: Van rövid távú feladat | BD2: Ütem költségek hibásak? --- 1-igen; 0-nem | BE2: 1.ütem FORRÁS --- forráshiányos? 1-igen;0-nem | BF2: 1.ütem FORRÁS --- Összesítés | BG2: 1.ütem FORRÁS kitöltve? 1-igen, 0-nem | BH2: 1.ütem FORRÁS jól kitöltve? 1-igen;0-nem | BI2: 2.ütem FORRÁS --- forráshiányos? 1-igen;0-nem | BJ2: 2.ütem FORRÁS kitöltve? 1-igen, 0-nem | BK2: 2.ütem FORRÁS jól kitöltve? 1-igen;0-nem | BL2: 2.FORRÁS ütem --- Összesítés | BM2: Van feladat 1.ütem? 1-igen;0-nem | BN2: Van feladat 2.ütem? 1-igen;0-nem | BO2: 1.ütem nullás a terv? 1-igen;0-nem | BP2: 2.ütem nullás a terv? 1-igen;0-nem | BQ2: Nullás és van indoklás rövidtáv 1-igen; 0-nem | BR2: Nincs hosszútávú terv (ktg) indoklás? | BS2: Nullás és van idnoklás rövidtáv 1-igen; 0-nem | BT2: Nullás és van indoklás hosszútáv 1-igen; 0-nem | BU2: Fontossági sorrend | BV2: A beruházási feladat kategóriája | BW2: beruházás megnevezése | BX2: Vízjogi létesítési/ elvi engedély száma (amennyiben rendelkezésre áll) | BY2: Megvalósítás várható időtartama - KEZDÉS | BZ2: Megvalósítás várható időtartama - BEFEJEZÉS | CA2: A beruházás tervezett nettó költsége a tervezési időszak ütemezése szerint [eFt] - I. ütem | CB2: A beruházás tervezett nettó költsége a tervezési időszak ütemezése szerint [eFt] - II. ütem | CC2: VFEA - EM rendelet 2. melléklet (fenntartására fordítandó) | CD2: HIÁNYOS kitöltés?! | CE2: ÖSSZESÍTŐ szöveggel | CF2: Kitöltés rendben! >> 1; Egyébként >> 0 | CG2: Rövid és jó | CH2: Hosszú és jó
A3: =IF($G3="","Nincs VKR kiválasztva!",CE3) -> Kitöltés rendben! | B3: 1. | C3: 1411_NAPELEM | D3: Napelem telepítése | E3: - | F3: =VLOOKUP($G3,Összesítő!$B:$F,2,FALSE) -> 11-34157-1-002-00-01 | G3: Kerepes-Kistarcsa-IV | H3: =AY3&"_"&AW3&"_FIV_"&LEFT(Előlap!$B$6,4) -> 2311_1_FIV_2026 | I3: =VLOOKUP($G3,Összesítő!$B:$F,5,FALSE) -> Kerepes, Kistarcsa | J3: =VLOOKUP($G3,Összesítő!$B:$F,4,FALSE) -> Kerepes Város Önkormányzata, Kistarcsa Város Önkormányzata | K3: 25000 | L3: 2027 | M3: 2027 | N3: 25000 | O3: 0 | P3: 0 | R3: 0 | S3: 0 | T3: 0 | U3: 0 | V3: 0 | W3: 25000 | X3: 0 | Y3: 0 | Z3: 0 | AA3: 0 | AB3: 0 | AC3: =SUM(R3:AB3) -> 25000 | AD3: =IF($G3="","Nincs VKR kiválasztva!",IF(BA3=0,"Hiányos kitöltés!",BF3)) -> A forrás egyenlő a költséggel (I.ütem). | AF3: 0 | AG3: 0 | AH3: 0 | AI3: 0 | AJ3: 0 | AK3: 0 | AL3: 0 | AM3: 0 | AN3: 0 | AO3: 0 | AP3: 0 | AQ3: =SUM(AF3:AP3) -> 0 | AS3: =IF($G3="","Nincs VKR kiválasztva!",IF($BA3=0,"Hiányos kitöltés!",IF($BN3=0,"Nem hosszútávú a feladat.",$BL3))) -> Nem hosszútávú a feladat. | AU3: Tulajdonosi hozzájárulás hiányában a beruházás megvalósulása a 2027-es évre várható. | AW3: =COUNTA($G$3:G3) -> 1 | AY3: =VLOOKUP($G3,Összesítő!$B:$F,3,FALSE) -> 2311 | AZ3: =LEN($AU3) -> 84 | BA3: =IF(OR($B3="",$C3="",$D3="",$E3="",$F3="",$L3="",$M3="",$N3="",$O3="",$P3=""),0,1) -> 1 | BB3: =IF($F3="",0,IF(AND($L3=2027,$M3=2027),"R",IF(AND($L3=2027,$M3>2027),"RH",IF(AND($L3>2027,$M3>2027),"H","x")))) -> R | BC3: =IF(OR(BB3="R",BB3="RH"),1,0) -> 1 | BD3: =IF(AND($BB3="R",$O3>0),1,IF(AND($BB3="H",$N3>0),1,0)) -> 0 | BE3: =IF($AC3<$N3,1,IF($AC3=$N3,0)) -> 0 | BF3: =IF($L3>2027,"Nem rövidtávú a feladat.",IF($BE3=1,"Az I. ütem nem lehet forráshiányos!",IF($AC3>$N3,"Többlet forrást jelölt meg az I.ütemnél! Kérjük, a többletet az 'Osszesito' fülön tüntesse fel!",IF($AC3=$N3,"A forrás egyenlő a költséggel (I.ütem).",0)))) -> A forrás egyenlő a költséggel (I.ütem). | BG3: =IF(AND($R3<>"",$S3<>"",$T3<>"",$U3<>"",$V3<>"",$W3<>"",$X3<>"",$Y3<>"",$Z3<>"",$AA3<>"",$AB3<>""),1,0) -> 1 | BH3: =IF(AND($BG3=1,$N3=$AC3),1,0) -> 1 | BI3: =IF($AQ3<$O3,1,0) -> 0 | BJ3: =IF(AND($AF3<>"",$AG3<>"",$AH3<>"",$AI3<>"",$AJ3<>"",$AK3<>"",$AL3<>"",$AM3<>"",$AN3<>"",$AO3<>"",$AP3<>""),1,0) -> 1 | BK3: =IF(AND($BJ3=1,$O3=$AQ3),1,IF(AND($BJ3=1,$O3>$AQ3,AR3="igen"),1,0)) -> 1 | BL3: =IF($M3<2028,"Nem hosszútávú a feladat.",IF(AND($BI3=1,$AR3="nem"),"Forráshiányos a feladat? Jelölje az AR-oszlopban!",IF(AND($BI3=0,$AR3="igen"),"Forráshiányosnak jelölte a feladat az AR-oszlopban, de a forrás költség adatok alapnján nem az!",IF(AND($BI3=1,$AR3="igen"),"Forráshiányos a feladat!",IF($AQ3>$O3,"Többlet forrást jelölt meg az II.ütemnél! Kérjük, a többletet az 'Osszesito' fülön tüntesse fel!",IF($AQ3=$O3,"A forrás egyenlő a költséggel (II.ütem).",0)))))) -> Nem hosszútávú a feladat. | BM3: =IF($M3<2028,1,0) -> 1 | BN3: =IF($M3>2027,1,0) -> 0 | BO3: =IF(AND($BM3=1,$N3=0),1,0) -> 0 | BP3: =IF(AND($BN3=1,$O3=0),1,0) -> 0 | BQ3: =IF(AND($BB3="R",$N3=0,$AZ3>29),1,IF(AND($BB3="RH",$N3=0,$AZ3>29),1,0)) -> 0 | BR3: =IF($BN3=0,"Nincs hosszútávú terv!",IF(AND($BB3="H",$O3=0,$AZ3=0),"Nullás a hosszútávú feladat és nincs hozzá indoklás!",IF(AND($BB3="RH",$O3=0,$AZ3=0),"Nullás a hosszútávú feladat és nincs hozzá indoklás!",IF(AND($BB3="R",$O3=0,$AZ3<300),"Nullás a hosszútávú feladat és rövid hozzá az indoklás!",IF(AND($BB3="RH",$O3=0,$AZ3<300),"Nullás a hosszútávú feladat és rövid hozzá az indoklás!",0))))) -> Nincs hosszútávú terv! | BS3: =IF(AND($BB3="R",$N3=0,$AZ3>29),1,IF(AND($BB3="RH",$N3=0,$AZ3>29),1,0)) -> 0 | BT3: =IF(AND($BB3="H",$O3=0,$AZ3>29),1,IF(AND($BB3="RH",$O3=0,$AZ3>29),1,0)) -> 0 | BU3: =IF($B3="",0,1) -> 1 | BV3: =IF($C3="",0,1) -> 1 | BW3: =IF($D3="",0,1) -> 1 | BX3: =IF($E3="",0,1) -> 1 | BY3: =IF($L3="",0,1) -> 1 | BZ3: =IF($M3="",0,1) -> 1 | CA3: =IF($N3="",0,1) -> 1 | CB3: =IF($O3="",0,1) -> 1 | CC3: =IF($P3="",0,1) -> 1 | CD3: =IF(AND($BA3=0,$BU3=0),"Hiányos kitöltés! (B-oszlop üres)",IF(AND($BA3=0,$BV3=0),"Hiányos kitöltés! (C-oszlop üres)",IF(AND($BA3=0,$BW3=0),"Hiányos kitöltés! (D-oszlop üres)",IF(AND($BA3=0,$BX3=0),"Hiányos kitöltés! (E-oszlop üres)",IF(AND($BA3=0,$BY3=0),"Hiányos kitöltés! (L-oszlop üres)",IF(AND($BA3=0,$BZ3=0),"Hiányos kitöltés! (M-oszlop üres)",IF(AND($BA3=0,$CA3=0),"Hiányos kitöltés! (N-oszlop üres)",IF(AND($BA3=0,$CB3=0),"Hiányos kitöltés! (O-oszlop üres)",IF(AND($BA3=0,$CC3=0),"Hiányos kitöltés! (P-oszlop üres)",IF(AND($BA3=0,$BG3=0),"Hiányos kitöltés! (I.ütem forrása hiányos!","?")))))))))) -> ? | CE3: =IF($BA3=0,$CD3,IF($BG3=0,"I. ütem forrása nincs kitöltve!",IF($BJ3=0,"II. ütem forrása nincs kitöltve!",IF($BD3=1,"Költségek üteme nem megfelelő (az időtartam és a költség üteme eltér)!",IF(AND(BH3=0,$BA3=1,$BJ3=1,$BD3=1),"Kötelező cellák kitöltve, de az I. ütem forrása hibás!",IF(AND(BJ3=0,$BA3=1,$BJ3=1,$BD3=1),"Kötelező cellák kitöltve, de a II. ütem forrása hibás!",IF(AND($BO3=1,$AZ3<30),"Nullás a rövidtávú feladat és rövid (hiányzik) a hozzá tartozó indoklás!",IF(AND($BP3=1,$AZ3<30),"Nullás a hosszútávú feladat és rövid (hiányzik) a hozzá tartozó indoklás!",IF(AND(BN3=1,C3="1811_RENDKÍVÜLI"),"II. ütemre nem tervezhet Rendkívüli feladatot!",IF(BH3=0,AD3,IF(BK3=0,AS3,IF(AND(BC3=1,$P3>$N3),"EM rendelet 2. melléklet terhére elszámolt költség nem lehet nagyobb az I. ütemre tervezett tényleges költségnél!",IF($AC3>$N3,"Többlet forrást jelölt meg az I. ütemnél! Kérjük, a többletet az 'Osszesito' fülön tüntesse fel!",IF($AQ3>$O3,"Többlet forrást jelölt meg a II. ütemnél! Kérjük, a többletet az 'Osszesito' fülön tüntesse fel!","Kitöltés rendben!")))))))))))))) -> Kitöltés rendben! | CF3: =IF(A3="Kitöltés rendben!",1,0) -> 1 | CG3: =IF(AND($BB3="R",$CF3=1),1,IF(AND($BB3="RH",$CF3=1),1,0)) -> 1 | CH3: =IF(AND($BB3="H",$CF3=1),1,IF(AND($BB3="RH",$CF3=1),1,0)) -> 0
A4: =IF($G4="","Nincs VKR kiválasztva!",CE4) -> Kitöltés rendben! | B4: 2. | C4: 1211_TELEP_TÁROLÁS | D4: Kerepesi víztoronynál puffer kapacitás bővítése víztároló létesítésével, új nyomásövezet kialakításával (kivitelezés) | E4: - | F4: =VLOOKUP($G4,[1]Összesítő!$B:$F,2,FALSE) -> 11-34157-1-002-00-01 | G4: Kerepes-Kistarcsa-IV | H4: =AY4&"_"&AW4&"_FIV_"&LEFT([1]Előlap!$B$6,4) -> 2311_2_FIV_2026 | I4: =VLOOKUP($G4,[1]Összesítő!$B:$F,5,FALSE) -> Kerepes, Kistarcsa | J4: =VLOOKUP($G4,[1]Összesítő!$B:$F,4,FALSE) -> Kerepes Város Önkormányzata, Kistarcsa Város Önkormányzata | K4: =N4+O4 -> 500000 | L4: 2028 | M4: 2029 | N4: 0 | O4: 500000 | P4: 0 | R4: 0 | S4: 0 | T4: 0 | U4: 0 | V4: 0 | W4: 0 | X4: 0 | Y4: 0 | Z4: 0 | AA4: 0 | AB4: 0 | AC4: =SUM(R4:AB4) -> 0 | AD4: =IF($G4="","Nincs VKR kiválasztva!",IF(BA4=0,"Hiányos kitöltés!",BF4)) -> Nem rövidtávú a feladat. | AF4: 0 | AG4: 0 | AH4: 0 | AI4: 0 | AJ4: 0 | AK4: 0 | AL4: 0 | AM4: 0 | AN4: 0 | AO4: 0 | AP4: 0 | AQ4: =SUM(AF4:AP4) -> 0 | AR4: igen | AS4: =IF($G4="","Nincs VKR kiválasztva!",IF($BA4=0,"Hiányos kitöltés!",IF($BN4=0,"Nem hosszútávú a feladat.",$BL4))) -> Forráshiányos a feladat! | AW4: =COUNTA($G$3:G4) -> 2 | AY4: =VLOOKUP($G4,[1]Összesítő!$B:$F,3,FALSE) -> 2311 | AZ4: =LEN($AU4) -> 0 | BA4: =IF(OR($B4="",$C4="",$D4="",$E4="",$F4="",$L4="",$M4="",$N4="",$O4="",$P4=""),0,1) -> 1 | BB4: =IF($F4="",0,IF(AND($L4=2027,$M4=2027),"R",IF(AND($L4=2027,$M4>2027),"RH",IF(AND($L4>2027,$M4>2027),"H","x")))) -> H | BC4: =IF(OR(BB4="R",BB4="RH"),1,0) -> 0 | BD4: =IF(AND($BB4="R",$O4>0),1,IF(AND($BB4="H",$N4>0),1,0)) -> 0 | BE4: =IF($AC4<$N4,1,IF($AC4=$N4,0)) -> 0 | BF4: =IF($L4>2027,"Nem rövidtávú a feladat.",IF($BE4=1,"Az I. ütem nem lehet forráshiányos!",IF($AC4>$N4,"Többlet forrást jelölt meg az I.ütemnél! Kérjük, a többletet az 'Osszesito' fülön tüntesse fel!",IF($AC4=$N4,"A forrás egyenlő a költséggel (I.ütem).",0)))) -> Nem rövidtávú a feladat. | BG4: =IF(AND($R4<>"",$S4<>"",$T4<>"",$U4<>"",$V4<>"",$W4<>"",$X4<>"",$Y4<>"",$Z4<>"",$AA4<>"",$AB4<>""),1,0) -> 1 | BH4: =IF(AND($BG4=1,$N4=$AC4),1,0) -> 1 | BI4: =IF($AQ4<$O4,1,0) -> 1 | BJ4: =IF(AND($AF4<>"",$AG4<>"",$AH4<>"",$AI4<>"",$AJ4<>"",$AK4<>"",$AL4<>"",$AM4<>"",$AN4<>"",$AO4<>"",$AP4<>""),1,0) -> 1 | BK4: =IF(AND($BJ4=1,$O4=$AQ4),1,IF(AND($BJ4=1,$O4>$AQ4,AR4="igen"),1,0)) -> 1 | BL4: =IF($M4<2028,"Nem hosszútávú a feladat.",IF(AND($BI4=1,$AR4="nem"),"Forráshiányos a feladat? Jelölje az AR-oszlopban!",IF(AND($BI4=0,$AR4="igen"),"Forráshiányosnak jelölte a feladat az AR-oszlopban, de a forrás költség adatok alapnján nem az!",IF(AND($BI4=1,$AR4="igen"),"Forráshiányos a feladat!",IF($AQ4>$O4,"Többlet forrást jelölt meg az II.ütemnél! Kérjük, a többletet az 'Osszesito' fülön tüntesse fel!",IF($AQ4=$O4,"A forrás egyenlő a költséggel (II.ütem).",0)))))) -> Forráshiányos a feladat! | BM4: =IF($M4<2028,1,0) -> 0 | BN4: =IF($M4>2027,1,0) -> 1 | BO4: =IF(AND($BM4=1,$N4=0),1,0) -> 0 | BP4: =IF(AND($BN4=1,$O4=0),1,0) -> 0 | BQ4: =IF(AND($BB4="R",$N4=0,$AZ4>29),1,IF(AND($BB4="RH",$N4=0,$AZ4>29),1,0)) -> 0 | BR4: =IF($BN4=0,"Nincs hosszútávú terv!",IF(AND($BB4="H",$O4=0,$AZ4=0),"Nullás a hosszútávú feladat és nincs hozzá indoklás!",IF(AND($BB4="RH",$O4=0,$AZ4=0),"Nullás a hosszútávú feladat és nincs hozzá indoklás!",IF(AND($BB4="R",$O4=0,$AZ4<300),"Nullás a hosszútávú feladat és rövid hozzá az indoklás!",IF(AND($BB4="RH",$O4=0,$AZ4<300),"Nullás a hosszútávú feladat és rövid hozzá az indoklás!",0))))) -> 0 | BS4: =IF(AND($BB4="R",$N4=0,$AZ4>29),1,IF(AND($BB4="RH",$N4=0,$AZ4>29),1,0)) -> 0 | BT4: =IF(AND($BB4="H",$O4=0,$AZ4>29),1,IF(AND($BB4="RH",$O4=0,$AZ4>29),1,0)) -> 0 | BU4: =IF($B4="",0,1) -> 1 | BV4: =IF($C4="",0,1) -> 1 | BW4: =IF($D4="",0,1) -> 1 | BX4: =IF($E4="",0,1) -> 1 | BY4: =IF($L4="",0,1) -> 1 | BZ4: =IF($M4="",0,1) -> 1 | CA4: =IF($N4="",0,1) -> 1 | CB4: =IF($O4="",0,1) -> 1 | CC4: =IF($P4="",0,1) -> 1 | CD4: =IF(AND($BA4=0,$BU4=0),"Hiányos kitöltés! (B-oszlop üres)",IF(AND($BA4=0,$BV4=0),"Hiányos kitöltés! (C-oszlop üres)",IF(AND($BA4=0,$BW4=0),"Hiányos kitöltés! (D-oszlop üres)",IF(AND($BA4=0,$BX4=0),"Hiányos kitöltés! (E-oszlop üres)",IF(AND($BA4=0,$BY4=0),"Hiányos kitöltés! (L-oszlop üres)",IF(AND($BA4=0,$BZ4=0),"Hiányos kitöltés! (M-oszlop üres)",IF(AND($BA4=0,$CA4=0),"Hiányos kitöltés! (N-oszlop üres)",IF(AND($BA4=0,$CB4=0),"Hiányos kitöltés! (O-oszlop üres)",IF(AND($BA4=0,$CC4=0),"Hiányos kitöltés! (P-oszlop üres)",IF(AND($BA4=0,$BG4=0),"Hiányos kitöltés! (I.ütem forrása hiányos!","?")))))))))) -> ? | CE4: =IF($BA4=0,$CD4,IF($BG4=0,"I. ütem forrása nincs kitöltve!",IF($BJ4=0,"II. ütem forrása nincs kitöltve!",IF($BD4=1,"Költségek üteme nem megfelelő (az időtartam és a költség üteme eltér)!",IF(AND(BH4=0,$BA4=1,$BJ4=1,$BD4=1),"Kötelező cellák kitöltve, de az I. ütem forrása hibás!",IF(AND(BJ4=0,$BA4=1,$BJ4=1,$BD4=1),"Kötelező cellák kitöltve, de a II. ütem forrása hibás!",IF(AND($BO4=1,$AZ4<30),"Nullás a rövidtávú feladat és rövid (hiányzik) a hozzá tartozó indoklás!",IF(AND($BP4=1,$AZ4<30),"Nullás a hosszútávú feladat és rövid (hiányzik) a hozzá tartozó indoklás!",IF(AND(BN4=1,C4="1811_RENDKÍVÜLI"),"II. ütemre nem tervezhet Rendkívüli feladatot!",IF(BH4=0,AD4,IF(BK4=0,AS4,IF(AND(BC4=1,$P4>$N4),"EM rendelet 2. melléklet terhére elszámolt költség nem lehet nagyobb az I. ütemre tervezett tényleges költségnél!",IF($AC4>$N4,"Többlet forrást jelölt meg az I. ütemnél! Kérjük, a többletet az 'Osszesito' fülön tüntesse fel!",IF($AQ4>$O4,"Többlet forrást jelölt meg a II. ütemnél! Kérjük, a többletet az 'Osszesito' fülön tüntesse fel!","Kitöltés rendben!")))))))))))))) -> Kitöltés rendben! | CF4: =IF(A4="Kitöltés rendben!",1,0) -> 1 | CG4: =IF(AND($BB4="R",$CF4=1),1,IF(AND($BB4="RH",$CF4=1),1,0)) -> 0 | CH4: =IF(AND($BB4="H",$CF4=1),1,IF(AND($BB4="RH",$CF4=1),1,0)) -> 1
A5: =IF($G5="","Nincs VKR kiválasztva!",CE5) -> Kitöltés rendben! | B5: 3. | C5: 1312_ELOSZT_VEZETÉK_GERINC | D5: Kistarcsa, Móra utca -páratlan oldali- vízvezeték kiépítés a Burillák és a Fitos utcák között | E5: - | F5: =VLOOKUP($G5,Összesítő!$B:$F,2,FALSE) -> 11-34157-1-002-00-01 | G5: Kerepes-Kistarcsa-IV | H5: =AY5&"_"&AW5&"_FIV_"&LEFT(Előlap!$B$6,4) -> 2311_3_FIV_2026 | I5: =VLOOKUP($G5,Összesítő!$B:$F,5,FALSE) -> Kerepes, Kistarcsa | J5: =VLOOKUP($G5,Összesítő!$B:$F,4,FALSE) -> Kerepes Város Önkormányzata, Kistarcsa Város Önkormányzata | K5: =N5+O5 -> 8000 | L5: 2028 | M5: 2028 | N5: 0 | O5: 8000 | P5: 0 | R5: 0 | S5: 0 | T5: 0 | U5: 0 | V5: 0 | W5: 0 | X5: 0 | Y5: 0 | Z5: 0 | AA5: 0 | AB5: 0 | AC5: =SUM(R5:AB5) -> 0 | AD5: =IF($G5="","Nincs VKR kiválasztva!",IF(BA5=0,"Hiányos kitöltés!",BF5)) -> Nem rövidtávú a feladat. | AF5: 0 | AG5: 0 | AH5: 0 | AI5: 0 | AJ5: 0 | AK5: 0 | AL5: 0 | AM5: 0 | AN5: 0 | AO5: 0 | AP5: 0 | AQ5: =SUM(AF5:AP5) -> 0 | AR5: igen | AS5: =IF($G5="","Nincs VKR kiválasztva!",IF($BA5=0,"Hiányos kitöltés!",IF($BN5=0,"Nem hosszútávú a feladat.",$BL5))) -> Forráshiányos a feladat! | AW5: =COUNTA($G$3:G5) -> 3 | AY5: =VLOOKUP($G5,Összesítő!$B:$F,3,FALSE) -> 2311 | AZ5: =LEN($AU5) -> 0 | BA5: =IF(OR($B5="",$C5="",$D5="",$E5="",$F5="",$L5="",$M5="",$N5="",$O5="",$P5=""),0,1) -> 1 | BB5: =IF($F5="",0,IF(AND($L5=2027,$M5=2027),"R",IF(AND($L5=2027,$M5>2027),"RH",IF(AND($L5>2027,$M5>2027),"H","x")))) -> H | BC5: =IF(OR(BB5="R",BB5="RH"),1,0) -> 0 | BD5: =IF(AND($BB5="R",$O5>0),1,IF(AND($BB5="H",$N5>0),1,0)) -> 0 | BE5: =IF($AC5<$N5,1,IF($AC5=$N5,0)) -> 0 | BF5: =IF($L5>2027,"Nem rövidtávú a feladat.",IF($BE5=1,"Az I. ütem nem lehet forráshiányos!",IF($AC5>$N5,"Többlet forrást jelölt meg az I.ütemnél! Kérjük, a többletet az 'Osszesito' fülön tüntesse fel!",IF($AC5=$N5,"A forrás egyenlő a költséggel (I.ütem).",0)))) -> Nem rövidtávú a feladat. | BG5: =IF(AND($R5<>"",$S5<>"",$T5<>"",$U5<>"",$V5<>"",$W5<>"",$X5<>"",$Y5<>"",$Z5<>"",$AA5<>"",$AB5<>""),1,0) -> 1 | BH5: =IF(AND($BG5=1,$N5=$AC5),1,0) -> 1 | BI5: =IF($AQ5<$O5,1,0) -> 1 | BJ5: =IF(AND($AF5<>"",$AG5<>"",$AH5<>"",$AI5<>"",$AJ5<>"",$AK5<>"",$AL5<>"",$AM5<>"",$AN5<>"",$AO5<>"",$AP5<>""),1,0) -> 1 | BK5: =IF(AND($BJ5=1,$O5=$AQ5),1,IF(AND($BJ5=1,$O5>$AQ5,AR5="igen"),1,0)) -> 1 | BL5: =IF($M5<2028,"Nem hosszútávú a feladat.",IF(AND($BI5=1,$AR5="nem"),"Forráshiányos a feladat? Jelölje az AR-oszlopban!",IF(AND($BI5=0,$AR5="igen"),"Forráshiányosnak jelölte a feladat az AR-oszlopban, de a forrás költség adatok alapnján nem az!",IF(AND($BI5=1,$AR5="igen"),"Forráshiányos a feladat!",IF($AQ5>$O5,"Többlet forrást jelölt meg az II.ütemnél! Kérjük, a többletet az 'Osszesito' fülön tüntesse fel!",IF($AQ5=$O5,"A forrás egyenlő a költséggel (II.ütem).",0)))))) -> Forráshiányos a feladat! | BM5: =IF($M5<2028,1,0) -> 0 | BN5: =IF($M5>2027,1,0) -> 1 | BO5: =IF(AND($BM5=1,$N5=0),1,0) -> 0 | BP5: =IF(AND($BN5=1,$O5=0),1,0) -> 0 | BQ5: =IF(AND($BB5="R",$N5=0,$AZ5>29),1,IF(AND($BB5="RH",$N5=0,$AZ5>29),1,0)) -> 0 | BR5: =IF($BN5=0,"Nincs hosszútávú terv!",IF(AND($BB5="H",$O5=0,$AZ5=0),"Nullás a hosszútávú feladat és nincs hozzá indoklás!",IF(AND($BB5="RH",$O5=0,$AZ5=0),"Nullás a hosszútávú feladat és nincs hozzá indoklás!",IF(AND($BB5="R",$O5=0,$AZ5<300),"Nullás a hosszútávú feladat és rövid hozzá az indoklás!",IF(AND($BB5="RH",$O5=0,$AZ5<300),"Nullás a hosszútávú feladat és rövid hozzá az indoklás!",0))))) -> 0 | BS5: =IF(AND($BB5="R",$N5=0,$AZ5>29),1,IF(AND($BB5="RH",$N5=0,$AZ5>29),1,0)) -> 0 | BT5: =IF(AND($BB5="H",$O5=0,$AZ5>29),1,IF(AND($BB5="RH",$O5=0,$AZ5>29),1,0)) -> 0 | BU5: =IF($B5="",0,1) -> 1 | BV5: =IF($C5="",0,1) -> 1 | BW5: =IF($D5="",0,1) -> 1 | BX5: =IF($E5="",0,1) -> 1 | BY5: =IF($L5="",0,1) -> 1 | BZ5: =IF($M5="",0,1) -> 1 | CA5: =IF($N5="",0,1) -> 1 | CB5: =IF($O5="",0,1) -> 1 | CC5: =IF($P5="",0,1) -> 1 | CD5: =IF(AND($BA5=0,$BU5=0),"Hiányos kitöltés! (B-oszlop üres)",IF(AND($BA5=0,$BV5=0),"Hiányos kitöltés! (C-oszlop üres)",IF(AND($BA5=0,$BW5=0),"Hiányos kitöltés! (D-oszlop üres)",IF(AND($BA5=0,$BX5=0),"Hiányos kitöltés! (E-oszlop üres)",IF(AND($BA5=0,$BY5=0),"Hiányos kitöltés! (L-oszlop üres)",IF(AND($BA5=0,$BZ5=0),"Hiányos kitöltés! (M-oszlop üres)",IF(AND($BA5=0,$CA5=0),"Hiányos kitöltés! (N-oszlop üres)",IF(AND($BA5=0,$CB5=0),"Hiányos kitöltés! (O-oszlop üres)",IF(AND($BA5=0,$CC5=0),"Hiányos kitöltés! (P-oszlop üres)",IF(AND($BA5=0,$BG5=0),"Hiányos kitöltés! (I.ütem forrása hiányos!","?")))))))))) -> ? | CE5: =IF($BA5=0,$CD5,IF($BG5=0,"I. ütem forrása nincs kitöltve!",IF($BJ5=0,"II. ütem forrása nincs kitöltve!",IF($BD5=1,"Költségek üteme nem megfelelő (az időtartam és a költség üteme eltér)!",IF(AND(BH5=0,$BA5=1,$BJ5=1,$BD5=1),"Kötelező cellák kitöltve, de az I. ütem forrása hibás!",IF(AND(BJ5=0,$BA5=1,$BJ5=1,$BD5=1),"Kötelező cellák kitöltve, de a II. ütem forrása hibás!",IF(AND($BO5=1,$AZ5<30),"Nullás a rövidtávú feladat és rövid (hiányzik) a hozzá tartozó indoklás!",IF(AND($BP5=1,$AZ5<30),"Nullás a hosszútávú feladat és rövid (hiányzik) a hozzá tartozó indoklás!",IF(AND(BN5=1,C5="1811_RENDKÍVÜLI"),"II. ütemre nem tervezhet Rendkívüli feladatot!",IF(BH5=0,AD5,IF(BK5=0,AS5,IF(AND(BC5=1,$P5>$N5),"EM rendelet 2. melléklet terhére elszámolt költség nem lehet nagyobb az I. ütemre tervezett tényleges költségnél!",IF($AC5>$N5,"Többlet forrást jelölt meg az I. ütemnél! Kérjük, a többletet az 'Osszesito' fülön tüntesse fel!",IF($AQ5>$O5,"Többlet forrást jelölt meg a II. ütemnél! Kérjük, a többletet az 'Osszesito' fülön tüntesse fel!","Kitöltés rendben!")))))))))))))) -> Kitöltés rendben! | CF5: =IF(A5="Kitöltés rendben!",1,0) -> 1 | CG5: =IF(AND($BB5="R",$CF5=1),1,IF(AND($BB5="RH",$CF5=1),1,0)) -> 0 | CH5: =IF(AND($BB5="H",$CF5=1),1,IF(AND($BB5="RH",$CF5=1),1,0)) -> 1
A6: =IF($G6="","Nincs VKR kiválasztva!",CE6) -> Kitöltés rendben! | B6: 4. | C6: 1611_EGYÉB | D6: Kerepes, Széphegyi köz vízvezeték elosztóhálózat kiépítése (tervezés) | E6: - | F6: =VLOOKUP($G6,Összesítő!$B:$F,2,FALSE) -> 11-34157-1-002-00-01 | G6: Kerepes-Kistarcsa-IV | H6: =AY6&"_"&AW6&"_FIV_"&LEFT(Előlap!$B$6,4) -> 2311_4_FIV_2026 | I6: =VLOOKUP($G6,Összesítő!$B:$F,5,FALSE) -> Kerepes, Kistarcsa | J6: =VLOOKUP($G6,Összesítő!$B:$F,4,FALSE) -> Kerepes Város Önkormányzata, Kistarcsa Város Önkormányzata | K6: =N6+O6 -> 2000 | L6: 2028 | M6: 2028 | N6: 0 | O6: 2000 | P6: 0 | R6: 0 | S6: 0 | T6: 0 | U6: 0 | V6: 0 | W6: 0 | X6: 0 | Y6: 0 | Z6: 0 | AA6: 0 | AB6: 0 | AC6: =SUM(R6:AB6) -> 0 | AD6: =IF($G6="","Nincs VKR kiválasztva!",IF(BA6=0,"Hiányos kitöltés!",BF6)) -> Nem rövidtávú a feladat. | AF6: 0 | AG6: 0 | AH6: 0 | AI6: 0 | AJ6: 0 | AK6: 0 | AL6: 0 | AM6: 0 | AN6: 0 | AO6: 0 | AP6: 0 | AQ6: =SUM(AF6:AP6) -> 0 | AR6: igen | AS6: =IF($G6="","Nincs VKR kiválasztva!",IF($BA6=0,"Hiányos kitöltés!",IF($BN6=0,"Nem hosszútávú a feladat.",$BL6))) -> Forráshiányos a feladat! | AW6: =COUNTA($G$3:G6) -> 4 | AY6: =VLOOKUP($G6,Összesítő!$B:$F,3,FALSE) -> 2311 | AZ6: =LEN($AU6) -> 0 | BA6: =IF(OR($B6="",$C6="",$D6="",$E6="",$F6="",$L6="",$M6="",$N6="",$O6="",$P6=""),0,1) -> 1 | BB6: =IF($F6="",0,IF(AND($L6=2027,$M6=2027),"R",IF(AND($L6=2027,$M6>2027),"RH",IF(AND($L6>2027,$M6>2027),"H","x")))) -> H | BC6: =IF(OR(BB6="R",BB6="RH"),1,0) -> 0 | BD6: =IF(AND($BB6="R",$O6>0),1,IF(AND($BB6="H",$N6>0),1,0)) -> 0 | BE6: =IF($AC6<$N6,1,IF($AC6=$N6,0)) -> 0 | BF6: =IF($L6>2027,"Nem rövidtávú a feladat.",IF($BE6=1,"Az I. ütem nem lehet forráshiányos!",IF($AC6>$N6,"Többlet forrást jelölt meg az I.ütemnél! Kérjük, a többletet az 'Osszesito' fülön tüntesse fel!",IF($AC6=$N6,"A forrás egyenlő a költséggel (I.ütem).",0)))) -> Nem rövidtávú a feladat. | BG6: =IF(AND($R6<>"",$S6<>"",$T6<>"",$U6<>"",$V6<>"",$W6<>"",$X6<>"",$Y6<>"",$Z6<>"",$AA6<>"",$AB6<>""),1,0) -> 1 | BH6: =IF(AND($BG6=1,$N6=$AC6),1,0) -> 1 | BI6: =IF($AQ6<$O6,1,0) -> 1 | BJ6: =IF(AND($AF6<>"",$AG6<>"",$AH6<>"",$AI6<>"",$AJ6<>"",$AK6<>"",$AL6<>"",$AM6<>"",$AN6<>"",$AO6<>"",$AP6<>""),1,0) -> 1 | BK6: =IF(AND($BJ6=1,$O6=$AQ6),1,IF(AND($BJ6=1,$O6>$AQ6,AR6="igen"),1,0)) -> 1 | BL6: =IF($M6<2028,"Nem hosszútávú a feladat.",IF(AND($BI6=1,$AR6="nem"),"Forráshiányos a feladat? Jelölje az AR-oszlopban!",IF(AND($BI6=0,$AR6="igen"),"Forráshiányosnak jelölte a feladat az AR-oszlopban, de a forrás költség adatok alapnján nem az!",IF(AND($BI6=1,$AR6="igen"),"Forráshiányos a feladat!",IF($AQ6>$O6,"Többlet forrást jelölt meg az II.ütemnél! Kérjük, a többletet az 'Osszesito' fülön tüntesse fel!",IF($AQ6=$O6,"A forrás egyenlő a költséggel (II.ütem).",0)))))) -> Forráshiányos a feladat! | BM6: =IF($M6<2028,1,0) -> 0 | BN6: =IF($M6>2027,1,0) -> 1 | BO6: =IF(AND($BM6=1,$N6=0),1,0) -> 0 | BP6: =IF(AND($BN6=1,$O6=0),1,0) -> 0 | BQ6: =IF(AND($BB6="R",$N6=0,$AZ6>29),1,IF(AND($BB6="RH",$N6=0,$AZ6>29),1,0)) -> 0 | BR6: =IF($BN6=0,"Nincs hosszútávú terv!",IF(AND($BB6="H",$O6=0,$AZ6=0),"Nullás a hosszútávú feladat és nincs hozzá indoklás!",IF(AND($BB6="RH",$O6=0,$AZ6=0),"Nullás a hosszútávú feladat és nincs hozzá indoklás!",IF(AND($BB6="R",$O6=0,$AZ6<300),"Nullás a hosszútávú feladat és rövid hozzá az indoklás!",IF(AND($BB6="RH",$O6=0,$AZ6<300),"Nullás a hosszútávú feladat és rövid hozzá az indoklás!",0))))) -> 0 | BS6: =IF(AND($BB6="R",$N6=0,$AZ6>29),1,IF(AND($BB6="RH",$N6=0,$AZ6>29),1,0)) -> 0 | BT6: =IF(AND($BB6="H",$O6=0,$AZ6>29),1,IF(AND($BB6="RH",$O6=0,$AZ6>29),1,0)) -> 0 | BU6: =IF($B6="",0,1) -> 1 | BV6: =IF($C6="",0,1) -> 1 | BW6: =IF($D6="",0,1) -> 1 | BX6: =IF($E6="",0,1) -> 1 | BY6: =IF($L6="",0,1) -> 1 | BZ6: =IF($M6="",0,1) -> 1 | CA6: =IF($N6="",0,1) -> 1 | CB6: =IF($O6="",0,1) -> 1 | CC6: =IF($P6="",0,1) -> 1 | CD6: =IF(AND($BA6=0,$BU6=0),"Hiányos kitöltés! (B-oszlop üres)",IF(AND($BA6=0,$BV6=0),"Hiányos kitöltés! (C-oszlop üres)",IF(AND($BA6=0,$BW6=0),"Hiányos kitöltés! (D-oszlop üres)",IF(AND($BA6=0,$BX6=0),"Hiányos kitöltés! (E-oszlop üres)",IF(AND($BA6=0,$BY6=0),"Hiányos kitöltés! (L-oszlop üres)",IF(AND($BA6=0,$BZ6=0),"Hiányos kitöltés! (M-oszlop üres)",IF(AND($BA6=0,$CA6=0),"Hiányos kitöltés! (N-oszlop üres)",IF(AND($BA6=0,$CB6=0),"Hiányos kitöltés! (O-oszlop üres)",IF(AND($BA6=0,$CC6=0),"Hiányos kitöltés! (P-oszlop üres)",IF(AND($BA6=0,$BG6=0),"Hiányos kitöltés! (I.ütem forrása hiányos!","?")))))))))) -> ? | CE6: =IF($BA6=0,$CD6,IF($BG6=0,"I. ütem forrása nincs kitöltve!",IF($BJ6=0,"II. ütem forrása nincs kitöltve!",IF($BD6=1,"Költségek üteme nem megfelelő (az időtartam és a költség üteme eltér)!",IF(AND(BH6=0,$BA6=1,$BJ6=1,$BD6=1),"Kötelező cellák kitöltve, de az I. ütem forrása hibás!",IF(AND(BJ6=0,$BA6=1,$BJ6=1,$BD6=1),"Kötelező cellák kitöltve, de a II. ütem forrása hibás!",IF(AND($BO6=1,$AZ6<30),"Nullás a rövidtávú feladat és rövid (hiányzik) a hozzá tartozó indoklás!",IF(AND($BP6=1,$AZ6<30),"Nullás a hosszútávú feladat és rövid (hiányzik) a hozzá tartozó indoklás!",IF(AND(BN6=1,C6="1811_RENDKÍVÜLI"),"II. ütemre nem tervezhet Rendkívüli feladatot!",IF(BH6=0,AD6,IF(BK6=0,AS6,IF(AND(BC6=1,$P6>$N6),"EM rendelet 2. melléklet terhére elszámolt költség nem lehet nagyobb az I. ütemre tervezett tényleges költségnél!",IF($AC6>$N6,"Többlet forrást jelölt meg az I. ütemnél! Kérjük, a többletet az 'Osszesito' fülön tüntesse fel!",IF($AQ6>$O6,"Többlet forrást jelölt meg a II. ütemnél! Kérjük, a többletet az 'Osszesito' fülön tüntesse fel!","Kitöltés rendben!")))))))))))))) -> Kitöltés rendben! | CF6: =IF(A6="Kitöltés rendben!",1,0) -> 1 | CG6: =IF(AND($BB6="R",$CF6=1),1,IF(AND($BB6="RH",$CF6=1),1,0)) -> 0 | CH6: =IF(AND($BB6="H",$CF6=1),1,IF(AND($BB6="RH",$CF6=1),1,0)) -> 1
A7: =IF($G7="","Nincs VKR kiválasztva!",CE7) -> Kitöltés rendben! | B7: 5. | C7: 1312_ELOSZT_VEZETÉK_GERINC | D7: Kerepes, Széphegyi köz vízvezeték elosztóhálózat kiépítése (kivitelezés) | E7: - | F7: =VLOOKUP($G7,Összesítő!$B:$F,2,FALSE) -> 11-34157-1-002-00-01 | G7: Kerepes-Kistarcsa-IV | H7: =AY7&"_"&AW7&"_FIV_"&LEFT(Előlap!$B$6,4) -> 2311_5_FIV_2026 | I7: =VLOOKUP($G7,Összesítő!$B:$F,5,FALSE) -> Kerepes, Kistarcsa | J7: =VLOOKUP($G7,Összesítő!$B:$F,4,FALSE) -> Kerepes Város Önkormányzata, Kistarcsa Város Önkormányzata | K7: =N7+O7 -> 25000 | L7: 2029 | M7: 2029 | N7: 0 | O7: 25000 | P7: 0 | R7: 0 | S7: 0 | T7: 0 | U7: 0 | V7: 0 | W7: 0 | X7: 0 | Y7: 0 | Z7: 0 | AA7: 0 | AB7: 0 | AC7: =SUM(R7:AB7) -> 0 | AD7: =IF($G7="","Nincs VKR kiválasztva!",IF(BA7=0,"Hiányos kitöltés!",BF7)) -> Nem rövidtávú a feladat. | AF7: 0 | AG7: 0 | AH7: 0 | AI7: 0 | AJ7: 0 | AK7: 0 | AL7: 0 | AM7: 0 | AN7: 0 | AO7: 0 | AP7: 0 | AQ7: =SUM(AF7:AP7) -> 0 | AR7: igen | AS7: =IF($G7="","Nincs VKR kiválasztva!",IF($BA7=0,"Hiányos kitöltés!",IF($BN7=0,"Nem hosszútávú a feladat.",$BL7))) -> Forráshiányos a feladat! | AW7: =COUNTA($G$3:G7) -> 5 | AY7: =VLOOKUP($G7,Összesítő!$B:$F,3,FALSE) -> 2311 | AZ7: =LEN($AU7) -> 0 | BA7: =IF(OR($B7="",$C7="",$D7="",$E7="",$F7="",$L7="",$M7="",$N7="",$O7="",$P7=""),0,1) -> 1 | BB7: =IF($F7="",0,IF(AND($L7=2027,$M7=2027),"R",IF(AND($L7=2027,$M7>2027),"RH",IF(AND($L7>2027,$M7>2027),"H","x")))) -> H | BC7: =IF(OR(BB7="R",BB7="RH"),1,0) -> 0 | BD7: =IF(AND($BB7="R",$O7>0),1,IF(AND($BB7="H",$N7>0),1,0)) -> 0 | BE7: =IF($AC7<$N7,1,IF($AC7=$N7,0)) -> 0 | BF7: =IF($L7>2027,"Nem rövidtávú a feladat.",IF($BE7=1,"Az I. ütem nem lehet forráshiányos!",IF($AC7>$N7,"Többlet forrást jelölt meg az I.ütemnél! Kérjük, a többletet az 'Osszesito' fülön tüntesse fel!",IF($AC7=$N7,"A forrás egyenlő a költséggel (I.ütem).",0)))) -> Nem rövidtávú a feladat. | BG7: =IF(AND($R7<>"",$S7<>"",$T7<>"",$U7<>"",$V7<>"",$W7<>"",$X7<>"",$Y7<>"",$Z7<>"",$AA7<>"",$AB7<>""),1,0) -> 1 | BH7: =IF(AND($BG7=1,$N7=$AC7),1,0) -> 1 | BI7: =IF($AQ7<$O7,1,0) -> 1 | BJ7: =IF(AND($AF7<>"",$AG7<>"",$AH7<>"",$AI7<>"",$AJ7<>"",$AK7<>"",$AL7<>"",$AM7<>"",$AN7<>"",$AO7<>"",$AP7<>""),1,0) -> 1 | BK7: =IF(AND($BJ7=1,$O7=$AQ7),1,IF(AND($BJ7=1,$O7>$AQ7,AR7="igen"),1,0)) -> 1 | BL7: =IF($M7<2028,"Nem hosszútávú a feladat.",IF(AND($BI7=1,$AR7="nem"),"Forráshiányos a feladat? Jelölje az AR-oszlopban!",IF(AND($BI7=0,$AR7="igen"),"Forráshiányosnak jelölte a feladat az AR-oszlopban, de a forrás költség adatok alapnján nem az!",IF(AND($BI7=1,$AR7="igen"),"Forráshiányos a feladat!",IF($AQ7>$O7,"Többlet forrást jelölt meg az II.ütemnél! Kérjük, a többletet az 'Osszesito' fülön tüntesse fel!",IF($AQ7=$O7,"A forrás egyenlő a költséggel (II.ütem).",0)))))) -> Forráshiányos a feladat! | BM7: =IF($M7<2028,1,0) -> 0 | BN7: =IF($M7>2027,1,0) -> 1 | BO7: =IF(AND($BM7=1,$N7=0),1,0) -> 0 | BP7: =IF(AND($BN7=1,$O7=0),1,0) -> 0 | BQ7: =IF(AND($BB7="R",$N7=0,$AZ7>29),1,IF(AND($BB7="RH",$N7=0,$AZ7>29),1,0)) -> 0 | BR7: =IF($BN7=0,"Nincs hosszútávú terv!",IF(AND($BB7="H",$O7=0,$AZ7=0),"Nullás a hosszútávú feladat és nincs hozzá indoklás!",IF(AND($BB7="RH",$O7=0,$AZ7=0),"Nullás a hosszútávú feladat és nincs hozzá indoklás!",IF(AND($BB7="R",$O7=0,$AZ7<300),"Nullás a hosszútávú feladat és rövid hozzá az indoklás!",IF(AND($BB7="RH",$O7=0,$AZ7<300),"Nullás a hosszútávú feladat és rövid hozzá az indoklás!",0))))) -> 0 | BS7: =IF(AND($BB7="R",$N7=0,$AZ7>29),1,IF(AND($BB7="RH",$N7=0,$AZ7>29),1,0)) -> 0 | BT7: =IF(AND($BB7="H",$O7=0,$AZ7>29),1,IF(AND($BB7="RH",$O7=0,$AZ7>29),1,0)) -> 0 | BU7: =IF($B7="",0,1) -> 1 | BV7: =IF($C7="",0,1) -> 1 | BW7: =IF($D7="",0,1) -> 1 | BX7: =IF($E7="",0,1) -> 1 | BY7: =IF($L7="",0,1) -> 1 | BZ7: =IF($M7="",0,1) -> 1 | CA7: =IF($N7="",0,1) -> 1 | CB7: =IF($O7="",0,1) -> 1 | CC7: =IF($P7="",0,1) -> 1 | CD7: =IF(AND($BA7=0,$BU7=0),"Hiányos kitöltés! (B-oszlop üres)",IF(AND($BA7=0,$BV7=0),"Hiányos kitöltés! (C-oszlop üres)",IF(AND($BA7=0,$BW7=0),"Hiányos kitöltés! (D-oszlop üres)",IF(AND($BA7=0,$BX7=0),"Hiányos kitöltés! (E-oszlop üres)",IF(AND($BA7=0,$BY7=0),"Hiányos kitöltés! (L-oszlop üres)",IF(AND($BA7=0,$BZ7=0),"Hiányos kitöltés! (M-oszlop üres)",IF(AND($BA7=0,$CA7=0),"Hiányos kitöltés! (N-oszlop üres)",IF(AND($BA7=0,$CB7=0),"Hiányos kitöltés! (O-oszlop üres)",IF(AND($BA7=0,$CC7=0),"Hiányos kitöltés! (P-oszlop üres)",IF(AND($BA7=0,$BG7=0),"Hiányos kitöltés! (I.ütem forrása hiányos!","?")))))))))) -> ? | CE7: =IF($BA7=0,$CD7,IF($BG7=0,"I. ütem forrása nincs kitöltve!",IF($BJ7=0,"II. ütem forrása nincs kitöltve!",IF($BD7=1,"Költségek üteme nem megfelelő (az időtartam és a költség üteme eltér)!",IF(AND(BH7=0,$BA7=1,$BJ7=1,$BD7=1),"Kötelező cellák kitöltve, de az I. ütem forrása hibás!",IF(AND(BJ7=0,$BA7=1,$BJ7=1,$BD7=1),"Kötelező cellák kitöltve, de a II. ütem forrása hibás!",IF(AND($BO7=1,$AZ7<30),"Nullás a rövidtávú feladat és rövid (hiányzik) a hozzá tartozó indoklás!",IF(AND($BP7=1,$AZ7<30),"Nullás a hosszútávú feladat és rövid (hiányzik) a hozzá tartozó indoklás!",IF(AND(BN7=1,C7="1811_RENDKÍVÜLI"),"II. ütemre nem tervezhet Rendkívüli feladatot!",IF(BH7=0,AD7,IF(BK7=0,AS7,IF(AND(BC7=1,$P7>$N7),"EM rendelet 2. melléklet terhére elszámolt költség nem lehet nagyobb az I. ütemre tervezett tényleges költségnél!",IF($AC7>$N7,"Többlet forrást jelölt meg az I. ütemnél! Kérjük, a többletet az 'Osszesito' fülön tüntesse fel!",IF($AQ7>$O7,"Többlet forrást jelölt meg a II. ütemnél! Kérjük, a többletet az 'Osszesito' fülön tüntesse fel!","Kitöltés rendben!")))))))))))))) -> Kitöltés rendben! | CF7: =IF(A7="Kitöltés rendben!",1,0) -> 1 | CG7: =IF(AND($BB7="R",$CF7=1),1,IF(AND($BB7="RH",$CF7=1),1,0)) -> 0 | CH7: =IF(AND($BB7="H",$CF7=1),1,IF(AND($BB7="RH",$CF7=1),1,0)) -> 1
A8: =IF($G8="","Nincs VKR kiválasztva!",CE8) -> Nincs VKR kiválasztva! | F8: =VLOOKUP($G8,Összesítő!$B:$F,2,FALSE) -> #N/A | H8: =AY8&"_"&AW8&"_FIV_"&LEFT(Előlap!$B$6,4) -> #N/A | I8: =VLOOKUP($G8,Összesítő!$B:$F,5,FALSE) -> #N/A | J8: =VLOOKUP($G8,Összesítő!$B:$F,4,FALSE) -> #N/A | K8: =N8+O8 -> 0 | AC8: =SUM(R8:AB8) -> 0 | AD8: =IF($G8="","Nincs VKR kiválasztva!",IF(BA8=0,"Hiányos kitöltés!",BF8)) -> Nincs VKR kiválasztva! | AQ8: =SUM(AF8:AP8) -> 0 | AS8: =IF($G8="","Nincs VKR kiválasztva!",IF($BA8=0,"Hiányos kitöltés!",IF($BN8=0,"Nem hosszútávú a feladat.",$BL8))) -> Nincs VKR kiválasztva! | AW8: =COUNTA($G$3:G8) -> 5 | AY8: =VLOOKUP($G8,Összesítő!$B:$F,3,FALSE) -> #N/A | AZ8: =LEN($AU8) -> 0 | BA8: =IF(OR($B8="",$C8="",$D8="",$E8="",$F8="",$L8="",$M8="",$N8="",$O8="",$P8=""),0,1) -> #N/A | BB8: =IF($F8="",0,IF(AND($L8=2027,$M8=2027),"R",IF(AND($L8=2027,$M8>2027),"RH",IF(AND($L8>2027,$M8>2027),"H","x")))) -> #N/A | BC8: =IF(OR(BB8="R",BB8="RH"),1,0) -> #N/A | BD8: =IF(AND($BB8="R",$O8>0),1,IF(AND($BB8="H",$N8>0),1,0)) -> #N/A | BE8: =IF($AC8<$N8,1,IF($AC8=$N8,0)) -> 0 | BF8: =IF($L8>2027,"Nem rövidtávú a feladat.",IF($BE8=1,"Az I. ütem nem lehet forráshiányos!",IF($AC8>$N8,"Többlet forrást jelölt meg az I.ütemnél! Kérjük, a többletet az 'Osszesito' fülön tüntesse fel!",IF($AC8=$N8,"A forrás egyenlő a költséggel (I.ütem).",0)))) -> A forrás egyenlő a költséggel (I.ütem). | BG8: =IF(AND($R8<>"",$S8<>"",$T8<>"",$U8<>"",$V8<>"",$W8<>"",$X8<>"",$Y8<>"",$Z8<>"",$AA8<>"",$AB8<>""),1,0) -> 0 | BH8: =IF(AND($BG8=1,$N8=$AC8),1,0) -> 0 | BI8: =IF($AQ8<$O8,1,0) -> 0 | BJ8: =IF(AND($AF8<>"",$AG8<>"",$AH8<>"",$AI8<>"",$AJ8<>"",$AK8<>"",$AL8<>"",$AM8<>"",$AN8<>"",$AO8<>"",$AP8<>""),1,0) -> 0 | BK8: =IF(AND($BJ8=1,$O8=$AQ8),1,IF(AND($BJ8=1,$O8>$AQ8,AR8="igen"),1,0)) -> 0 | BL8: =IF($M8<2028,"Nem hosszútávú a feladat.",IF(AND($BI8=1,$AR8="nem"),"Forráshiányos a feladat? Jelölje az AR-oszlopban!",IF(AND($BI8=0,$AR8="igen"),"Forráshiányosnak jelölte a feladat az AR-oszlopban, de a forrás költség adatok alapnján nem az!",IF(AND($BI8=1,$AR8="igen"),"Forráshiányos a feladat!",IF($AQ8>$O8,"Többlet forrást jelölt meg az II.ütemnél! Kérjük, a többletet az 'Osszesito' fülön tüntesse fel!",IF($AQ8=$O8,"A forrás egyenlő a költséggel (II.ütem).",0)))))) -> Nem hosszútávú a feladat. | BM8: =IF($M8<2028,1,0) -> 1 | BN8: =IF($M8>2027,1,0) -> 0 | BO8: =IF(AND($BM8=1,$N8=0),1,0) -> 1 | BP8: =IF(AND($BN8=1,$O8=0),1,0) -> 0 | BQ8: =IF(AND($BB8="R",$N8=0,$AZ8>29),1,IF(AND($BB8="RH",$N8=0,$AZ8>29),1,0)) -> #N/A | BR8: =IF($BN8=0,"Nincs hosszútávú terv!",IF(AND($BB8="H",$O8=0,$AZ8=0),"Nullás a hosszútávú feladat és nincs hozzá indoklás!",IF(AND($BB8="RH",$O8=0,$AZ8=0),"Nullás a hosszútávú feladat és nincs hozzá indoklás!",IF(AND($BB8="R",$O8=0,$AZ8<300),"Nullás a hosszútávú feladat és rövid hozzá az indoklás!",IF(AND($BB8="RH",$O8=0,$AZ8<300),"Nullás a hosszútávú feladat és rövid hozzá az indoklás!",0))))) -> Nincs hosszútávú terv! | BS8: =IF(AND($BB8="R",$N8=0,$AZ8>29),1,IF(AND($BB8="RH",$N8=0,$AZ8>29),1,0)) -> #N/A | BT8: =IF(AND($BB8="H",$O8=0,$AZ8>29),1,IF(AND($BB8="RH",$O8=0,$AZ8>29),1,0)) -> #N/A | BU8: =IF($B8="",0,1) -> 0 | BV8: =IF($C8="",0,1) -> 0 | BW8: =IF($D8="",0,1) -> 0 | BX8: =IF($E8="",0,1) -> 0 | BY8: =IF($L8="",0,1) -> 0 | BZ8: =IF($M8="",0,1) -> 0 | CA8: =IF($N8="",0,1) -> 0 | CB8: =IF($O8="",0,1) -> 0 | CC8: =IF($P8="",0,1) -> 0 | CD8: =IF(AND($BA8=0,$BU8=0),"Hiányos kitöltés! (B-oszlop üres)",IF(AND($BA8=0,$BV8=0),"Hiányos kitöltés! (C-oszlop üres)",IF(AND($BA8=0,$BW8=0),"Hiányos kitöltés! (D-oszlop üres)",IF(AND($BA8=0,$BX8=0),"Hiányos kitöltés! (E-oszlop üres)",IF(AND($BA8=0,$BY8=0),"Hiányos kitöltés! (L-oszlop üres)",IF(AND($BA8=0,$BZ8=0),"Hiányos kitöltés! (M-oszlop üres)",IF(AND($BA8=0,$CA8=0),"Hiányos kitöltés! (N-oszlop üres)",IF(AND($BA8=0,$CB8=0),"Hiányos kitöltés! (O-oszlop üres)",IF(AND($BA8=0,$CC8=0),"Hiányos kitöltés! (P-oszlop üres)",IF(AND($BA8=0,$BG8=0),"Hiányos kitöltés! (I.ütem forrása hiányos!","?")))))))))) -> #N/A | CE8: =IF($BA8=0,$CD8,IF($BG8=0,"I. ütem forrása nincs kitöltve!",IF($BJ8=0,"II. ütem forrása nincs kitöltve!",IF($BD8=1,"Költségek üteme nem megfelelő (az időtartam és a költség üteme eltér)!",IF(AND(BH8=0,$BA8=1,$BJ8=1,$BD8=1),"Kötelező cellák kitöltve, de az I. ütem forrása hibás!",IF(AND(BJ8=0,$BA8=1,$BJ8=1,$BD8=1),"Kötelező cellák kitöltve, de a II. ütem forrása hibás!",IF(AND($BO8=1,$AZ8<30),"Nullás a rövidtávú feladat és rövid (hiányzik) a hozzá tartozó indoklás!",IF(AND($BP8=1,$AZ8<30),"Nullás a hosszútávú feladat és rövid (hiányzik) a hozzá tartozó indoklás!",IF(AND(BN8=1,C8="1811_RENDKÍVÜLI"),"II. ütemre nem tervezhet Rendkívüli feladatot!",IF(BH8=0,AD8,IF(BK8=0,AS8,IF(AND(BC8=1,$P8>$N8),"EM rendelet 2. melléklet terhére elszámolt költség nem lehet nagyobb az I. ütemre tervezett tényleges költségnél!",IF($AC8>$N8,"Többlet forrást jelölt meg az I. ütemnél! Kérjük, a többletet az 'Osszesito' fülön tüntesse fel!",IF($AQ8>$O8,"Többlet forrást jelölt meg a II. ütemnél! Kérjük, a többletet az 'Osszesito' fülön tüntesse fel!","Kitöltés rendben!")))))))))))))) -> #N/A | CF8: =IF(A8="Kitöltés rendben!",1,0) -> 0 | CG8: =IF(AND($BB8="R",$CF8=1),1,IF(AND($BB8="RH",$CF8=1),1,0)) -> #N/A | CH8: =IF(AND($BB8="H",$CF8=1),1,IF(AND($BB8="RH",$CF8=1),1,0)) -> #N/A
A9: =IF($G9="","Nincs VKR kiválasztva!",CE9) -> Nincs VKR kiválasztva! | F9: =VLOOKUP($G9,Összesítő!$B:$F,2,FALSE) -> #N/A | H9: =AY9&"_"&AW9&"_FIV_"&LEFT(Előlap!$B$6,4) -> #N/A | I9: =VLOOKUP($G9,Összesítő!$B:$F,5,FALSE) -> #N/A | J9: =VLOOKUP($G9,Összesítő!$B:$F,4,FALSE) -> #N/A | K9: =N9+O9 -> 0 | AC9: =SUM(R9:AB9) -> 0 | AD9: =IF($G9="","Nincs VKR kiválasztva!",IF(BA9=0,"Hiányos kitöltés!",BF9)) -> Nincs VKR kiválasztva! | AQ9: =SUM(AF9:AP9) -> 0 | AS9: =IF($G9="","Nincs VKR kiválasztva!",IF($BA9=0,"Hiányos kitöltés!",IF($BN9=0,"Nem hosszútávú a feladat.",$BL9))) -> Nincs VKR kiválasztva! | AW9: =COUNTA($G$3:G9) -> 5 | AY9: =VLOOKUP($G9,Összesítő!$B:$F,3,FALSE) -> #N/A | AZ9: =LEN($AU9) -> 0 | BA9: =IF(OR($B9="",$C9="",$D9="",$E9="",$F9="",$L9="",$M9="",$N9="",$O9="",$P9=""),0,1) -> #N/A | BB9: =IF($F9="",0,IF(AND($L9=2027,$M9=2027),"R",IF(AND($L9=2027,$M9>2027),"RH",IF(AND($L9>2027,$M9>2027),"H","x")))) -> #N/A | BC9: =IF(OR(BB9="R",BB9="RH"),1,0) -> #N/A | BD9: =IF(AND($BB9="R",$O9>0),1,IF(AND($BB9="H",$N9>0),1,0)) -> #N/A | BE9: =IF($AC9<$N9,1,IF($AC9=$N9,0)) -> 0 | BF9: =IF($L9>2027,"Nem rövidtávú a feladat.",IF($BE9=1,"Az I. ütem nem lehet forráshiányos!",IF($AC9>$N9,"Többlet forrást jelölt meg az I.ütemnél! Kérjük, a többletet az 'Osszesito' fülön tüntesse fel!",IF($AC9=$N9,"A forrás egyenlő a költséggel (I.ütem).",0)))) -> A forrás egyenlő a költséggel (I.ütem). | BG9: =IF(AND($R9<>"",$S9<>"",$T9<>"",$U9<>"",$V9<>"",$W9<>"",$X9<>"",$Y9<>"",$Z9<>"",$AA9<>"",$AB9<>""),1,0) -> 0 | BH9: =IF(AND($BG9=1,$N9=$AC9),1,0) -> 0 | BI9: =IF($AQ9<$O9,1,0) -> 0 | BJ9: =IF(AND($AF9<>"",$AG9<>"",$AH9<>"",$AI9<>"",$AJ9<>"",$AK9<>"",$AL9<>"",$AM9<>"",$AN9<>"",$AO9<>"",$AP9<>""),1,0) -> 0 | BK9: =IF(AND($BJ9=1,$O9=$AQ9),1,IF(AND($BJ9=1,$O9>$AQ9,AR9="igen"),1,0)) -> 0 | BL9: =IF($M9<2028,"Nem hosszútávú a feladat.",IF(AND($BI9=1,$AR9="nem"),"Forráshiányos a feladat? Jelölje az AR-oszlopban!",IF(AND($BI9=0,$AR9="igen"),"Forráshiányosnak jelölte a feladat az AR-oszlopban, de a forrás költség adatok alapnján nem az!",IF(AND($BI9=1,$AR9="igen"),"Forráshiányos a feladat!",IF($AQ9>$O9,"Többlet forrást jelölt meg az II.ütemnél! Kérjük, a többletet az 'Osszesito' fülön tüntesse fel!",IF($AQ9=$O9,"A forrás egyenlő a költséggel (II.ütem).",0)))))) -> Nem hosszútávú a feladat. | BM9: =IF($M9<2028,1,0) -> 1 | BN9: =IF($M9>2027,1,0) -> 0 | BO9: =IF(AND($BM9=1,$N9=0),1,0) -> 1 | BP9: =IF(AND($BN9=1,$O9=0),1,0) -> 0 | BQ9: =IF(AND($BB9="R",$N9=0,$AZ9>29),1,IF(AND($BB9="RH",$N9=0,$AZ9>29),1,0)) -> #N/A | BR9: =IF($BN9=0,"Nincs hosszútávú terv!",IF(AND($BB9="H",$O9=0,$AZ9=0),"Nullás a hosszútávú feladat és nincs hozzá indoklás!",IF(AND($BB9="RH",$O9=0,$AZ9=0),"Nullás a hosszútávú feladat és nincs hozzá indoklás!",IF(AND($BB9="R",$O9=0,$AZ9<300),"Nullás a hosszútávú feladat és rövid hozzá az indoklás!",IF(AND($BB9="RH",$O9=0,$AZ9<300),"Nullás a hosszútávú feladat és rövid hozzá az indoklás!",0))))) -> Nincs hosszútávú terv! | BS9: =IF(AND($BB9="R",$N9=0,$AZ9>29),1,IF(AND($BB9="RH",$N9=0,$AZ9>29),1,0)) -> #N/A | BT9: =IF(AND($BB9="H",$O9=0,$AZ9>29),1,IF(AND($BB9="RH",$O9=0,$AZ9>29),1,0)) -> #N/A | BU9: =IF($B9="",0,1) -> 0 | BV9: =IF($C9="",0,1) -> 0 | BW9: =IF($D9="",0,1) -> 0 | BX9: =IF($E9="",0,1) -> 0 | BY9: =IF($L9="",0,1) -> 0 | BZ9: =IF($M9="",0,1) -> 0 | CA9: =IF($N9="",0,1) -> 0 | CB9: =IF($O9="",0,1) -> 0 | CC9: =IF($P9="",0,1) -> 0 | CD9: =IF(AND($BA9=0,$BU9=0),"Hiányos kitöltés! (B-oszlop üres)",IF(AND($BA9=0,$BV9=0),"Hiányos kitöltés! (C-oszlop üres)",IF(AND($BA9=0,$BW9=0),"Hiányos kitöltés! (D-oszlop üres)",IF(AND($BA9=0,$BX9=0),"Hiányos kitöltés! (E-oszlop üres)",IF(AND($BA9=0,$BY9=0),"Hiányos kitöltés! (L-oszlop üres)",IF(AND($BA9=0,$BZ9=0),"Hiányos kitöltés! (M-oszlop üres)",IF(AND($BA9=0,$CA9=0),"Hiányos kitöltés! (N-oszlop üres)",IF(AND($BA9=0,$CB9=0),"Hiányos kitöltés! (O-oszlop üres)",IF(AND($BA9=0,$CC9=0),"Hiányos kitöltés! (P-oszlop üres)",IF(AND($BA9=0,$BG9=0),"Hiányos kitöltés! (I.ütem forrása hiányos!","?")))))))))) -> #N/A | CE9: =IF($BA9=0,$CD9,IF($BG9=0,"I. ütem forrása nincs kitöltve!",IF($BJ9=0,"II. ütem forrása nincs kitöltve!",IF($BD9=1,"Költségek üteme nem megfelelő (az időtartam és a költség üteme eltér)!",IF(AND(BH9=0,$BA9=1,$BJ9=1,$BD9=1),"Kötelező cellák kitöltve, de az I. ütem forrása hibás!",IF(AND(BJ9=0,$BA9=1,$BJ9=1,$BD9=1),"Kötelező cellák kitöltve, de a II. ütem forrása hibás!",IF(AND($BO9=1,$AZ9<30),"Nullás a rövidtávú feladat és rövid (hiányzik) a hozzá tartozó indoklás!",IF(AND($BP9=1,$AZ9<30),"Nullás a hosszútávú feladat és rövid (hiányzik) a hozzá tartozó indoklás!",IF(AND(BN9=1,C9="1811_RENDKÍVÜLI"),"II. ütemre nem tervezhet Rendkívüli feladatot!",IF(BH9=0,AD9,IF(BK9=0,AS9,IF(AND(BC9=1,$P9>$N9),"EM rendelet 2. melléklet terhére elszámolt költség nem lehet nagyobb az I. ütemre tervezett tényleges költségnél!",IF($AC9>$N9,"Többlet forrást jelölt meg az I. ütemnél! Kérjük, a többletet az 'Osszesito' fülön tüntesse fel!",IF($AQ9>$O9,"Többlet forrást jelölt meg a II. ütemnél! Kérjük, a többletet az 'Osszesito' fülön tüntesse fel!","Kitöltés rendben!")))))))))))))) -> #N/A | CF9: =IF(A9="Kitöltés rendben!",1,0) -> 0 | CG9: =IF(AND($BB9="R",$CF9=1),1,IF(AND($BB9="RH",$CF9=1),1,0)) -> #N/A | CH9: =IF(AND($BB9="H",$CF9=1),1,IF(AND($BB9="RH",$CF9=1),1,0)) -> #N/A
A10: =IF($G10="","Nincs VKR kiválasztva!",CE10) -> Nincs VKR kiválasztva! | F10: =VLOOKUP($G10,Összesítő!$B:$F,2,FALSE) -> #N/A | H10: =AY10&"_"&AW10&"_FIV_"&LEFT(Előlap!$B$6,4) -> #N/A | I10: =VLOOKUP($G10,Összesítő!$B:$F,5,FALSE) -> #N/A | J10: =VLOOKUP($G10,Összesítő!$B:$F,4,FALSE) -> #N/A | K10: =N10+O10 -> 0 | AC10: =SUM(R10:AB10) -> 0 | AD10: =IF($G10="","Nincs VKR kiválasztva!",IF(BA10=0,"Hiányos kitöltés!",BF10)) -> Nincs VKR kiválasztva! | AQ10: =SUM(AF10:AP10) -> 0 | AS10: =IF($G10="","Nincs VKR kiválasztva!",IF($BA10=0,"Hiányos kitöltés!",IF($BN10=0,"Nem hosszútávú a feladat.",$BL10))) -> Nincs VKR kiválasztva! | AW10: =COUNTA($G$3:G10) -> 5 | AY10: =VLOOKUP($G10,Összesítő!$B:$F,3,FALSE) -> #N/A | AZ10: =LEN($AU10) -> 0 | BA10: =IF(OR($B10="",$C10="",$D10="",$E10="",$F10="",$L10="",$M10="",$N10="",$O10="",$P10=""),0,1) -> #N/A | BB10: =IF($F10="",0,IF(AND($L10=2027,$M10=2027),"R",IF(AND($L10=2027,$M10>2027),"RH",IF(AND($L10>2027,$M10>2027),"H","x")))) -> #N/A | BC10: =IF(OR(BB10="R",BB10="RH"),1,0) -> #N/A | BD10: =IF(AND($BB10="R",$O10>0),1,IF(AND($BB10="H",$N10>0),1,0)) -> #N/A | BE10: =IF($AC10<$N10,1,IF($AC10=$N10,0)) -> 0 | BF10: =IF($L10>2027,"Nem rövidtávú a feladat.",IF($BE10=1,"Az I. ütem nem lehet forráshiányos!",IF($AC10>$N10,"Többlet forrást jelölt meg az I.ütemnél! Kérjük, a többletet az 'Osszesito' fülön tüntesse fel!",IF($AC10=$N10,"A forrás egyenlő a költséggel (I.ütem).",0)))) -> A forrás egyenlő a költséggel (I.ütem). | BG10: =IF(AND($R10<>"",$S10<>"",$T10<>"",$U10<>"",$V10<>"",$W10<>"",$X10<>"",$Y10<>"",$Z10<>"",$AA10<>"",$AB10<>""),1,0) -> 0 | BH10: =IF(AND($BG10=1,$N10=$AC10),1,0) -> 0 | BI10: =IF($AQ10<$O10,1,0) -> 0 | BJ10: =IF(AND($AF10<>"",$AG10<>"",$AH10<>"",$AI10<>"",$AJ10<>"",$AK10<>"",$AL10<>"",$AM10<>"",$AN10<>"",$AO10<>"",$AP10<>""),1,0) -> 0 | BK10: =IF(AND($BJ10=1,$O10=$AQ10),1,IF(AND($BJ10=1,$O10>$AQ10,AR10="igen"),1,0)) -> 0 | BL10: =IF($M10<2028,"Nem hosszútávú a feladat.",IF(AND($BI10=1,$AR10="nem"),"Forráshiányos a feladat? Jelölje az AR-oszlopban!",IF(AND($BI10=0,$AR10="igen"),"Forráshiányosnak jelölte a feladat az AR-oszlopban, de a forrás költség adatok alapnján nem az!",IF(AND($BI10=1,$AR10="igen"),"Forráshiányos a feladat!",IF($AQ10>$O10,"Többlet forrást jelölt meg az II.ütemnél! Kérjük, a többletet az 'Osszesito' fülön tüntesse fel!",IF($AQ10=$O10,"A forrás egyenlő a költséggel (II.ütem).",0)))))) -> Nem hosszútávú a feladat. | BM10: =IF($M10<2028,1,0) -> 1 | BN10: =IF($M10>2027,1,0) -> 0 | BO10: =IF(AND($BM10=1,$N10=0),1,0) -> 1 | BP10: =IF(AND($BN10=1,$O10=0),1,0) -> 0 | BQ10: =IF(AND($BB10="R",$N10=0,$AZ10>29),1,IF(AND($BB10="RH",$N10=0,$AZ10>29),1,0)) -> #N/A | BR10: =IF($BN10=0,"Nincs hosszútávú terv!",IF(AND($BB10="H",$O10=0,$AZ10=0),"Nullás a hosszútávú feladat és nincs hozzá indoklás!",IF(AND($BB10="RH",$O10=0,$AZ10=0),"Nullás a hosszútávú feladat és nincs hozzá indoklás!",IF(AND($BB10="R",$O10=0,$AZ10<300),"Nullás a hosszútávú feladat és rövid hozzá az indoklás!",IF(AND($BB10="RH",$O10=0,$AZ10<300),"Nullás a hosszútávú feladat és rövid hozzá az indoklás!",0))))) -> Nincs hosszútávú terv! | BS10: =IF(AND($BB10="R",$N10=0,$AZ10>29),1,IF(AND($BB10="RH",$N10=0,$AZ10>29),1,0)) -> #N/A | BT10: =IF(AND($BB10="H",$O10=0,$AZ10>29),1,IF(AND($BB10="RH",$O10=0,$AZ10>29),1,0)) -> #N/A | BU10: =IF($B10="",0,1) -> 0 | BV10: =IF($C10="",0,1) -> 0 | BW10: =IF($D10="",0,1) -> 0 | BX10: =IF($E10="",0,1) -> 0 | BY10: =IF($L10="",0,1) -> 0 | BZ10: =IF($M10="",0,1) -> 0 | CA10: =IF($N10="",0,1) -> 0 | CB10: =IF($O10="",0,1) -> 0 | CC10: =IF($P10="",0,1) -> 0 | CD10: =IF(AND($BA10=0,$BU10=0),"Hiányos kitöltés! (B-oszlop üres)",IF(AND($BA10=0,$BV10=0),"Hiányos kitöltés! (C-oszlop üres)",IF(AND($BA10=0,$BW10=0),"Hiányos kitöltés! (D-oszlop üres)",IF(AND($BA10=0,$BX10=0),"Hiányos kitöltés! (E-oszlop üres)",IF(AND($BA10=0,$BY10=0),"Hiányos kitöltés! (L-oszlop üres)",IF(AND($BA10=0,$BZ10=0),"Hiányos kitöltés! (M-oszlop üres)",IF(AND($BA10=0,$CA10=0),"Hiányos kitöltés! (N-oszlop üres)",IF(AND($BA10=0,$CB10=0),"Hiányos kitöltés! (O-oszlop üres)",IF(AND($BA10=0,$CC10=0),"Hiányos kitöltés! (P-oszlop üres)",IF(AND($BA10=0,$BG10=0),"Hiányos kitöltés! (I.ütem forrása hiányos!","?")))))))))) -> #N/A | CE10: =IF($BA10=0,$CD10,IF($BG10=0,"I. ütem forrása nincs kitöltve!",IF($BJ10=0,"II. ütem forrása nincs kitöltve!",IF($BD10=1,"Költségek üteme nem megfelelő (az időtartam és a költség üteme eltér)!",IF(AND(BH10=0,$BA10=1,$BJ10=1,$BD10=1),"Kötelező cellák kitöltve, de az I. ütem forrása hibás!",IF(AND(BJ10=0,$BA10=1,$BJ10=1,$BD10=1),"Kötelező cellák kitöltve, de a II. ütem forrása hibás!",IF(AND($BO10=1,$AZ10<30),"Nullás a rövidtávú feladat és rövid (hiányzik) a hozzá tartozó indoklás!",IF(AND($BP10=1,$AZ10<30),"Nullás a hosszútávú feladat és rövid (hiányzik) a hozzá tartozó indoklás!",IF(AND(BN10=1,C10="1811_RENDKÍVÜLI"),"II. ütemre nem tervezhet Rendkívüli feladatot!",IF(BH10=0,AD10,IF(BK10=0,AS10,IF(AND(BC10=1,$P10>$N10),"EM rendelet 2. melléklet terhére elszámolt költség nem lehet nagyobb az I. ütemre tervezett tényleges költségnél!",IF($AC10>$N10,"Többlet forrást jelölt meg az I. ütemnél! Kérjük, a többletet az 'Osszesito' fülön tüntesse fel!",IF($AQ10>$O10,"Többlet forrást jelölt meg a II. ütemnél! Kérjük, a többletet az 'Osszesito' fülön tüntesse fel!","Kitöltés rendben!")))))))))))))) -> #N/A | CF10: =IF(A10="Kitöltés rendben!",1,0) -> 0 | CG10: =IF(AND($BB10="R",$CF10=1),1,IF(AND($BB10="RH",$CF10=1),1,0)) -> #N/A | CH10: =IF(AND($BB10="H",$CF10=1),1,IF(AND($BB10="RH",$CF10=1),1,0)) -> #N/A
A11: =IF($G11="","Nincs VKR kiválasztva!",CE11) -> Nincs VKR kiválasztva! | F11: =VLOOKUP($G11,Összesítő!$B:$F,2,FALSE) -> #N/A | H11: =AY11&"_"&AW11&"_FIV_"&LEFT(Előlap!$B$6,4) -> #N/A | I11: =VLOOKUP($G11,Összesítő!$B:$F,5,FALSE) -> #N/A | J11: =VLOOKUP($G11,Összesítő!$B:$F,4,FALSE) -> #N/A | K11: =N11+O11 -> 0 | AC11: =SUM(R11:AB11) -> 0 | AD11: =IF($G11="","Nincs VKR kiválasztva!",IF(BA11=0,"Hiányos kitöltés!",BF11)) -> Nincs VKR kiválasztva! | AQ11: =SUM(AF11:AP11) -> 0 | AS11: =IF($G11="","Nincs VKR kiválasztva!",IF($BA11=0,"Hiányos kitöltés!",IF($BN11=0,"Nem hosszútávú a feladat.",$BL11))) -> Nincs VKR kiválasztva! | AW11: =COUNTA($G$3:G11) -> 5 | AY11: =VLOOKUP($G11,Összesítő!$B:$F,3,FALSE) -> #N/A | AZ11: =LEN($AU11) -> 0 | BA11: =IF(OR($B11="",$C11="",$D11="",$E11="",$F11="",$L11="",$M11="",$N11="",$O11="",$P11=""),0,1) -> #N/A | BB11: =IF($F11="",0,IF(AND($L11=2027,$M11=2027),"R",IF(AND($L11=2027,$M11>2027),"RH",IF(AND($L11>2027,$M11>2027),"H","x")))) -> #N/A | BC11: =IF(OR(BB11="R",BB11="RH"),1,0) -> #N/A | BD11: =IF(AND($BB11="R",$O11>0),1,IF(AND($BB11="H",$N11>0),1,0)) -> #N/A | BE11: =IF($AC11<$N11,1,IF($AC11=$N11,0)) -> 0 | BF11: =IF($L11>2027,"Nem rövidtávú a feladat.",IF($BE11=1,"Az I. ütem nem lehet forráshiányos!",IF($AC11>$N11,"Többlet forrást jelölt meg az I.ütemnél! Kérjük, a többletet az 'Osszesito' fülön tüntesse fel!",IF($AC11=$N11,"A forrás egyenlő a költséggel (I.ütem).",0)))) -> A forrás egyenlő a költséggel (I.ütem). | BG11: =IF(AND($R11<>"",$S11<>"",$T11<>"",$U11<>"",$V11<>"",$W11<>"",$X11<>"",$Y11<>"",$Z11<>"",$AA11<>"",$AB11<>""),1,0) -> 0 | BH11: =IF(AND($BG11=1,$N11=$AC11),1,0) -> 0 | BI11: =IF($AQ11<$O11,1,0) -> 0 | BJ11: =IF(AND($AF11<>"",$AG11<>"",$AH11<>"",$AI11<>"",$AJ11<>"",$AK11<>"",$AL11<>"",$AM11<>"",$AN11<>"",$AO11<>"",$AP11<>""),1,0) -> 0 | BK11: =IF(AND($BJ11=1,$O11=$AQ11),1,IF(AND($BJ11=1,$O11>$AQ11,AR11="igen"),1,0)) -> 0 | BL11: =IF($M11<2028,"Nem hosszútávú a feladat.",IF(AND($BI11=1,$AR11="nem"),"Forráshiányos a feladat? Jelölje az AR-oszlopban!",IF(AND($BI11=0,$AR11="igen"),"Forráshiányosnak jelölte a feladat az AR-oszlopban, de a forrás költség adatok alapnján nem az!",IF(AND($BI11=1,$AR11="igen"),"Forráshiányos a feladat!",IF($AQ11>$O11,"Többlet forrást jelölt meg az II.ütemnél! Kérjük, a többletet az 'Osszesito' fülön tüntesse fel!",IF($AQ11=$O11,"A forrás egyenlő a költséggel (II.ütem).",0)))))) -> Nem hosszútávú a feladat. | BM11: =IF($M11<2028,1,0) -> 1 | BN11: =IF($M11>2027,1,0) -> 0 | BO11: =IF(AND($BM11=1,$N11=0),1,0) -> 1 | BP11: =IF(AND($BN11=1,$O11=0),1,0) -> 0 | BQ11: =IF(AND($BB11="R",$N11=0,$AZ11>29),1,IF(AND($BB11="RH",$N11=0,$AZ11>29),1,0)) -> #N/A | BR11: =IF($BN11=0,"Nincs hosszútávú terv!",IF(AND($BB11="H",$O11=0,$AZ11=0),"Nullás a hosszútávú feladat és nincs hozzá indoklás!",IF(AND($BB11="RH",$O11=0,$AZ11=0),"Nullás a hosszútávú feladat és nincs hozzá indoklás!",IF(AND($BB11="R",$O11=0,$AZ11<300),"Nullás a hosszútávú feladat és rövid hozzá az indoklás!",IF(AND($BB11="RH",$O11=0,$AZ11<300),"Nullás a hosszútávú feladat és rövid hozzá az indoklás!",0))))) -> Nincs hosszútávú terv! | BS11: =IF(AND($BB11="R",$N11=0,$AZ11>29),1,IF(AND($BB11="RH",$N11=0,$AZ11>29),1,0)) -> #N/A | BT11: =IF(AND($BB11="H",$O11=0,$AZ11>29),1,IF(AND($BB11="RH",$O11=0,$AZ11>29),1,0)) -> #N/A | BU11: =IF($B11="",0,1) -> 0 | BV11: =IF($C11="",0,1) -> 0 | BW11: =IF($D11="",0,1) -> 0 | BX11: =IF($E11="",0,1) -> 0 | BY11: =IF($L11="",0,1) -> 0 | BZ11: =IF($M11="",0,1) -> 0 | CA11: =IF($N11="",0,1) -> 0 | CB11: =IF($O11="",0,1) -> 0 | CC11: =IF($P11="",0,1) -> 0 | CD11: =IF(AND($BA11=0,$BU11=0),"Hiányos kitöltés! (B-oszlop üres)",IF(AND($BA11=0,$BV11=0),"Hiányos kitöltés! (C-oszlop üres)",IF(AND($BA11=0,$BW11=0),"Hiányos kitöltés! (D-oszlop üres)",IF(AND($BA11=0,$BX11=0),"Hiányos kitöltés! (E-oszlop üres)",IF(AND($BA11=0,$BY11=0),"Hiányos kitöltés! (L-oszlop üres)",IF(AND($BA11=0,$BZ11=0),"Hiányos kitöltés! (M-oszlop üres)",IF(AND($BA11=0,$CA11=0),"Hiányos kitöltés! (N-oszlop üres)",IF(AND($BA11=0,$CB11=0),"Hiányos kitöltés! (O-oszlop üres)",IF(AND($BA11=0,$CC11=0),"Hiányos kitöltés! (P-oszlop üres)",IF(AND($BA11=0,$BG11=0),"Hiányos kitöltés! (I.ütem forrása hiányos!","?")))))))))) -> #N/A | CE11: =IF($BA11=0,$CD11,IF($BG11=0,"I. ütem forrása nincs kitöltve!",IF($BJ11=0,"II. ütem forrása nincs kitöltve!",IF($BD11=1,"Költségek üteme nem megfelelő (az időtartam és a költség üteme eltér)!",IF(AND(BH11=0,$BA11=1,$BJ11=1,$BD11=1),"Kötelező cellák kitöltve, de az I. ütem forrása hibás!",IF(AND(BJ11=0,$BA11=1,$BJ11=1,$BD11=1),"Kötelező cellák kitöltve, de a II. ütem forrása hibás!",IF(AND($BO11=1,$AZ11<30),"Nullás a rövidtávú feladat és rövid (hiányzik) a hozzá tartozó indoklás!",IF(AND($BP11=1,$AZ11<30),"Nullás a hosszútávú feladat és rövid (hiányzik) a hozzá tartozó indoklás!",IF(AND(BN11=1,C11="1811_RENDKÍVÜLI"),"II. ütemre nem tervezhet Rendkívüli feladatot!",IF(BH11=0,AD11,IF(BK11=0,AS11,IF(AND(BC11=1,$P11>$N11),"EM rendelet 2. melléklet terhére elszámolt költség nem lehet nagyobb az I. ütemre tervezett tényleges költségnél!",IF($AC11>$N11,"Többlet forrást jelölt meg az I. ütemnél! Kérjük, a többletet az 'Osszesito' fülön tüntesse fel!",IF($AQ11>$O11,"Többlet forrást jelölt meg a II. ütemnél! Kérjük, a többletet az 'Osszesito' fülön tüntesse fel!","Kitöltés rendben!")))))))))))))) -> #N/A | CF11: =IF(A11="Kitöltés rendben!",1,0) -> 0 | CG11: =IF(AND($BB11="R",$CF11=1),1,IF(AND($BB11="RH",$CF11=1),1,0)) -> #N/A | CH11: =IF(AND($BB11="H",$CF11=1),1,IF(AND($BB11="RH",$CF11=1),1,0)) -> #N/A
A12: =IF($G12="","Nincs VKR kiválasztva!",CE12) -> Nincs VKR kiválasztva! | F12: =VLOOKUP($G12,Összesítő!$B:$F,2,FALSE) -> #N/A | H12: =AY12&"_"&AW12&"_FIV_"&LEFT(Előlap!$B$6,4) -> #N/A | I12: =VLOOKUP($G12,Összesítő!$B:$F,5,FALSE) -> #N/A | J12: =VLOOKUP($G12,Összesítő!$B:$F,4,FALSE) -> #N/A | K12: =N12+O12 -> 0 | AC12: =SUM(R12:AB12) -> 0 | AD12: =IF($G12="","Nincs VKR kiválasztva!",IF(BA12=0,"Hiányos kitöltés!",BF12)) -> Nincs VKR kiválasztva! | AQ12: =SUM(AF12:AP12) -> 0 | AS12: =IF($G12="","Nincs VKR kiválasztva!",IF($BA12=0,"Hiányos kitöltés!",IF($BN12=0,"Nem hosszútávú a feladat.",$BL12))) -> Nincs VKR kiválasztva! | AW12: =COUNTA($G$3:G12) -> 5 | AY12: =VLOOKUP($G12,Összesítő!$B:$F,3,FALSE) -> #N/A | AZ12: =LEN($AU12) -> 0 | BA12: =IF(OR($B12="",$C12="",$D12="",$E12="",$F12="",$L12="",$M12="",$N12="",$O12="",$P12=""),0,1) -> #N/A | BB12: =IF($F12="",0,IF(AND($L12=2027,$M12=2027),"R",IF(AND($L12=2027,$M12>2027),"RH",IF(AND($L12>2027,$M12>2027),"H","x")))) -> #N/A | BC12: =IF(OR(BB12="R",BB12="RH"),1,0) -> #N/A | BD12: =IF(AND($BB12="R",$O12>0),1,IF(AND($BB12="H",$N12>0),1,0)) -> #N/A | BE12: =IF($AC12<$N12,1,IF($AC12=$N12,0)) -> 0 | BF12: =IF($L12>2027,"Nem rövidtávú a feladat.",IF($BE12=1,"Az I. ütem nem lehet forráshiányos!",IF($AC12>$N12,"Többlet forrást jelölt meg az I.ütemnél! Kérjük, a többletet az 'Osszesito' fülön tüntesse fel!",IF($AC12=$N12,"A forrás egyenlő a költséggel (I.ütem).",0)))) -> A forrás egyenlő a költséggel (I.ütem). | BG12: =IF(AND($R12<>"",$S12<>"",$T12<>"",$U12<>"",$V12<>"",$W12<>"",$X12<>"",$Y12<>"",$Z12<>"",$AA12<>"",$AB12<>""),1,0) -> 0 | BH12: =IF(AND($BG12=1,$N12=$AC12),1,0) -> 0 | BI12: =IF($AQ12<$O12,1,0) -> 0 | BJ12: =IF(AND($AF12<>"",$AG12<>"",$AH12<>"",$AI12<>"",$AJ12<>"",$AK12<>"",$AL12<>"",$AM12<>"",$AN12<>"",$AO12<>"",$AP12<>""),1,0) -> 0 | BK12: =IF(AND($BJ12=1,$O12=$AQ12),1,IF(AND($BJ12=1,$O12>$AQ12,AR12="igen"),1,0)) -> 0 | BL12: =IF($M12<2028,"Nem hosszútávú a feladat.",IF(AND($BI12=1,$AR12="nem"),"Forráshiányos a feladat? Jelölje az AR-oszlopban!",IF(AND($BI12=0,$AR12="igen"),"Forráshiányosnak jelölte a feladat az AR-oszlopban, de a forrás költség adatok alapnján nem az!",IF(AND($BI12=1,$AR12="igen"),"Forráshiányos a feladat!",IF($AQ12>$O12,"Többlet forrást jelölt meg az II.ütemnél! Kérjük, a többletet az 'Osszesito' fülön tüntesse fel!",IF($AQ12=$O12,"A forrás egyenlő a költséggel (II.ütem).",0)))))) -> Nem hosszútávú a feladat. | BM12: =IF($M12<2028,1,0) -> 1 | BN12: =IF($M12>2027,1,0) -> 0 | BO12: =IF(AND($BM12=1,$N12=0),1,0) -> 1 | BP12: =IF(AND($BN12=1,$O12=0),1,0) -> 0 | BQ12: =IF(AND($BB12="R",$N12=0,$AZ12>29),1,IF(AND($BB12="RH",$N12=0,$AZ12>29),1,0)) -> #N/A | BR12: =IF($BN12=0,"Nincs hosszútávú terv!",IF(AND($BB12="H",$O12=0,$AZ12=0),"Nullás a hosszútávú feladat és nincs hozzá indoklás!",IF(AND($BB12="RH",$O12=0,$AZ12=0),"Nullás a hosszútávú feladat és nincs hozzá indoklás!",IF(AND($BB12="R",$O12=0,$AZ12<300),"Nullás a hosszútávú feladat és rövid hozzá az indoklás!",IF(AND($BB12="RH",$O12=0,$AZ12<300),"Nullás a hosszútávú feladat és rövid hozzá az indoklás!",0))))) -> Nincs hosszútávú terv! | BS12: =IF(AND($BB12="R",$N12=0,$AZ12>29),1,IF(AND($BB12="RH",$N12=0,$AZ12>29),1,0)) -> #N/A | BT12: =IF(AND($BB12="H",$O12=0,$AZ12>29),1,IF(AND($BB12="RH",$O12=0,$AZ12>29),1,0)) -> #N/A | BU12: =IF($B12="",0,1) -> 0 | BV12: =IF($C12="",0,1) -> 0 | BW12: =IF($D12="",0,1) -> 0 | BX12: =IF($E12="",0,1) -> 0 | BY12: =IF($L12="",0,1) -> 0 | BZ12: =IF($M12="",0,1) -> 0 | CA12: =IF($N12="",0,1) -> 0 | CB12: =IF($O12="",0,1) -> 0 | CC12: =IF($P12="",0,1) -> 0 | CD12: =IF(AND($BA12=0,$BU12=0),"Hiányos kitöltés! (B-oszlop üres)",IF(AND($BA12=0,$BV12=0),"Hiányos kitöltés! (C-oszlop üres)",IF(AND($BA12=0,$BW12=0),"Hiányos kitöltés! (D-oszlop üres)",IF(AND($BA12=0,$BX12=0),"Hiányos kitöltés! (E-oszlop üres)",IF(AND($BA12=0,$BY12=0),"Hiányos kitöltés! (L-oszlop üres)",IF(AND($BA12=0,$BZ12=0),"Hiányos kitöltés! (M-oszlop üres)",IF(AND($BA12=0,$CA12=0),"Hiányos kitöltés! (N-oszlop üres)",IF(AND($BA12=0,$CB12=0),"Hiányos kitöltés! (O-oszlop üres)",IF(AND($BA12=0,$CC12=0),"Hiányos kitöltés! (P-oszlop üres)",IF(AND($BA12=0,$BG12=0),"Hiányos kitöltés! (I.ütem forrása hiányos!","?")))))))))) -> #N/A | CE12: =IF($BA12=0,$CD12,IF($BG12=0,"I. ütem forrása nincs kitöltve!",IF($BJ12=0,"II. ütem forrása nincs kitöltve!",IF($BD12=1,"Költségek üteme nem megfelelő (az időtartam és a költség üteme eltér)!",IF(AND(BH12=0,$BA12=1,$BJ12=1,$BD12=1),"Kötelező cellák kitöltve, de az I. ütem forrása hibás!",IF(AND(BJ12=0,$BA12=1,$BJ12=1,$BD12=1),"Kötelező cellák kitöltve, de a II. ütem forrása hibás!",IF(AND($BO12=1,$AZ12<30),"Nullás a rövidtávú feladat és rövid (hiányzik) a hozzá tartozó indoklás!",IF(AND($BP12=1,$AZ12<30),"Nullás a hosszútávú feladat és rövid (hiányzik) a hozzá tartozó indoklás!",IF(AND(BN12=1,C12="1811_RENDKÍVÜLI"),"II. ütemre nem tervezhet Rendkívüli feladatot!",IF(BH12=0,AD12,IF(BK12=0,AS12,IF(AND(BC12=1,$P12>$N12),"EM rendelet 2. melléklet terhére elszámolt költség nem lehet nagyobb az I. ütemre tervezett tényleges költségnél!",IF($AC12>$N12,"Többlet forrást jelölt meg az I. ütemnél! Kérjük, a többletet az 'Osszesito' fülön tüntesse fel!",IF($AQ12>$O12,"Többlet forrást jelölt meg a II. ütemnél! Kérjük, a többletet az 'Osszesito' fülön tüntesse fel!","Kitöltés rendben!")))))))))))))) -> #N/A | CF12: =IF(A12="Kitöltés rendben!",1,0) -> 0 | CG12: =IF(AND($BB12="R",$CF12=1),1,IF(AND($BB12="RH",$CF12=1),1,0)) -> #N/A | CH12: =IF(AND($BB12="H",$CF12=1),1,IF(AND($BB12="RH",$CF12=1),1,0)) -> #N/A
A13: =IF($G13="","Nincs VKR kiválasztva!",CE13) -> Nincs VKR kiválasztva! | F13: =VLOOKUP($G13,Összesítő!$B:$F,2,FALSE) -> #N/A | H13: =AY13&"_"&AW13&"_FIV_"&LEFT(Előlap!$B$6,4) -> #N/A | I13: =VLOOKUP($G13,Összesítő!$B:$F,5,FALSE) -> #N/A | J13: =VLOOKUP($G13,Összesítő!$B:$F,4,FALSE) -> #N/A | K13: =N13+O13 -> 0 | AC13: =SUM(R13:AB13) -> 0 | AD13: =IF($G13="","Nincs VKR kiválasztva!",IF(BA13=0,"Hiányos kitöltés!",BF13)) -> Nincs VKR kiválasztva! | AQ13: =SUM(AF13:AP13) -> 0 | AS13: =IF($G13="","Nincs VKR kiválasztva!",IF($BA13=0,"Hiányos kitöltés!",IF($BN13=0,"Nem hosszútávú a feladat.",$BL13))) -> Nincs VKR kiválasztva! | AW13: =COUNTA($G$3:G13) -> 5 | AY13: =VLOOKUP($G13,Összesítő!$B:$F,3,FALSE) -> #N/A | AZ13: =LEN($AU13) -> 0 | BA13: =IF(OR($B13="",$C13="",$D13="",$E13="",$F13="",$L13="",$M13="",$N13="",$O13="",$P13=""),0,1) -> #N/A | BB13: =IF($F13="",0,IF(AND($L13=2027,$M13=2027),"R",IF(AND($L13=2027,$M13>2027),"RH",IF(AND($L13>2027,$M13>2027),"H","x")))) -> #N/A | BC13: =IF(OR(BB13="R",BB13="RH"),1,0) -> #N/A | BD13: =IF(AND($BB13="R",$O13>0),1,IF(AND($BB13="H",$N13>0),1,0)) -> #N/A | BE13: =IF($AC13<$N13,1,IF($AC13=$N13,0)) -> 0 | BF13: =IF($L13>2027,"Nem rövidtávú a feladat.",IF($BE13=1,"Az I. ütem nem lehet forráshiányos!",IF($AC13>$N13,"Többlet forrást jelölt meg az I.ütemnél! Kérjük, a többletet az 'Osszesito' fülön tüntesse fel!",IF($AC13=$N13,"A forrás egyenlő a költséggel (I.ütem).",0)))) -> A forrás egyenlő a költséggel (I.ütem). | BG13: =IF(AND($R13<>"",$S13<>"",$T13<>"",$U13<>"",$V13<>"",$W13<>"",$X13<>"",$Y13<>"",$Z13<>"",$AA13<>"",$AB13<>""),1,0) -> 0 | BH13: =IF(AND($BG13=1,$N13=$AC13),1,0) -> 0 | BI13: =IF($AQ13<$O13,1,0) -> 0 | BJ13: =IF(AND($AF13<>"",$AG13<>"",$AH13<>"",$AI13<>"",$AJ13<>"",$AK13<>"",$AL13<>"",$AM13<>"",$AN13<>"",$AO13<>"",$AP13<>""),1,0) -> 0 | BK13: =IF(AND($BJ13=1,$O13=$AQ13),1,IF(AND($BJ13=1,$O13>$AQ13,AR13="igen"),1,0)) -> 0 | BL13: =IF($M13<2028,"Nem hosszútávú a feladat.",IF(AND($BI13=1,$AR13="nem"),"Forráshiányos a feladat? Jelölje az AR-oszlopban!",IF(AND($BI13=0,$AR13="igen"),"Forráshiányosnak jelölte a feladat az AR-oszlopban, de a forrás költség adatok alapnján nem az!",IF(AND($BI13=1,$AR13="igen"),"Forráshiányos a feladat!",IF($AQ13>$O13,"Többlet forrást jelölt meg az II.ütemnél! Kérjük, a többletet az 'Osszesito' fülön tüntesse fel!",IF($AQ13=$O13,"A forrás egyenlő a költséggel (II.ütem).",0)))))) -> Nem hosszútávú a feladat. | BM13: =IF($M13<2028,1,0) -> 1 | BN13: =IF($M13>2027,1,0) -> 0 | BO13: =IF(AND($BM13=1,$N13=0),1,0) -> 1 | BP13: =IF(AND($BN13=1,$O13=0),1,0) -> 0 | BQ13: =IF(AND($BB13="R",$N13=0,$AZ13>29),1,IF(AND($BB13="RH",$N13=0,$AZ13>29),1,0)) -> #N/A | BR13: =IF($BN13=0,"Nincs hosszútávú terv!",IF(AND($BB13="H",$O13=0,$AZ13=0),"Nullás a hosszútávú feladat és nincs hozzá indoklás!",IF(AND($BB13="RH",$O13=0,$AZ13=0),"Nullás a hosszútávú feladat és nincs hozzá indoklás!",IF(AND($BB13="R",$O13=0,$AZ13<300),"Nullás a hosszútávú feladat és rövid hozzá az indoklás!",IF(AND($BB13="RH",$O13=0,$AZ13<300),"Nullás a hosszútávú feladat és rövid hozzá az indoklás!",0))))) -> Nincs hosszútávú terv! | BS13: =IF(AND($BB13="R",$N13=0,$AZ13>29),1,IF(AND($BB13="RH",$N13=0,$AZ13>29),1,0)) -> #N/A | BT13: =IF(AND($BB13="H",$O13=0,$AZ13>29),1,IF(AND($BB13="RH",$O13=0,$AZ13>29),1,0)) -> #N/A | BU13: =IF($B13="",0,1) -> 0 | BV13: =IF($C13="",0,1) -> 0 | BW13: =IF($D13="",0,1) -> 0 | BX13: =IF($E13="",0,1) -> 0 | BY13: =IF($L13="",0,1) -> 0 | BZ13: =IF($M13="",0,1) -> 0 | CA13: =IF($N13="",0,1) -> 0 | CB13: =IF($O13="",0,1) -> 0 | CC13: =IF($P13="",0,1) -> 0 | CD13: =IF(AND($BA13=0,$BU13=0),"Hiányos kitöltés! (B-oszlop üres)",IF(AND($BA13=0,$BV13=0),"Hiányos kitöltés! (C-oszlop üres)",IF(AND($BA13=0,$BW13=0),"Hiányos kitöltés! (D-oszlop üres)",IF(AND($BA13=0,$BX13=0),"Hiányos kitöltés! (E-oszlop üres)",IF(AND($BA13=0,$BY13=0),"Hiányos kitöltés! (L-oszlop üres)",IF(AND($BA13=0,$BZ13=0),"Hiányos kitöltés! (M-oszlop üres)",IF(AND($BA13=0,$CA13=0),"Hiányos kitöltés! (N-oszlop üres)",IF(AND($BA13=0,$CB13=0),"Hiányos kitöltés! (O-oszlop üres)",IF(AND($BA13=0,$CC13=0),"Hiányos kitöltés! (P-oszlop üres)",IF(AND($BA13=0,$BG13=0),"Hiányos kitöltés! (I.ütem forrása hiányos!","?")))))))))) -> #N/A | CE13: =IF($BA13=0,$CD13,IF($BG13=0,"I. ütem forrása nincs kitöltve!",IF($BJ13=0,"II. ütem forrása nincs kitöltve!",IF($BD13=1,"Költségek üteme nem megfelelő (az időtartam és a költség üteme eltér)!",IF(AND(BH13=0,$BA13=1,$BJ13=1,$BD13=1),"Kötelező cellák kitöltve, de az I. ütem forrása hibás!",IF(AND(BJ13=0,$BA13=1,$BJ13=1,$BD13=1),"Kötelező cellák kitöltve, de a II. ütem forrása hibás!",IF(AND($BO13=1,$AZ13<30),"Nullás a rövidtávú feladat és rövid (hiányzik) a hozzá tartozó indoklás!",IF(AND($BP13=1,$AZ13<30),"Nullás a hosszútávú feladat és rövid (hiányzik) a hozzá tartozó indoklás!",IF(AND(BN13=1,C13="1811_RENDKÍVÜLI"),"II. ütemre nem tervezhet Rendkívüli feladatot!",IF(BH13=0,AD13,IF(BK13=0,AS13,IF(AND(BC13=1,$P13>$N13),"EM rendelet 2. melléklet terhére elszámolt költség nem lehet nagyobb az I. ütemre tervezett tényleges költségnél!",IF($AC13>$N13,"Többlet forrást jelölt meg az I. ütemnél! Kérjük, a többletet az 'Osszesito' fülön tüntesse fel!",IF($AQ13>$O13,"Többlet forrást jelölt meg a II. ütemnél! Kérjük, a többletet az 'Osszesito' fülön tüntesse fel!","Kitöltés rendben!")))))))))))))) -> #N/A | CF13: =IF(A13="Kitöltés rendben!",1,0) -> 0 | CG13: =IF(AND($BB13="R",$CF13=1),1,IF(AND($BB13="RH",$CF13=1),1,0)) -> #N/A | CH13: =IF(AND($BB13="H",$CF13=1),1,IF(AND($BB13="RH",$CF13=1),1,0)) -> #N/A
A14: =IF($G14="","Nincs VKR kiválasztva!",CE14) -> Nincs VKR kiválasztva! | F14: =VLOOKUP($G14,Összesítő!$B:$F,2,FALSE) -> #N/A | H14: =AY14&"_"&AW14&"_FIV_"&LEFT(Előlap!$B$6,4) -> #N/A | I14: =VLOOKUP($G14,Összesítő!$B:$F,5,FALSE) -> #N/A | J14: =VLOOKUP($G14,Összesítő!$B:$F,4,FALSE) -> #N/A | K14: =N14+O14 -> 0 | AC14: =SUM(R14:AB14) -> 0 | AD14: =IF($G14="","Nincs VKR kiválasztva!",IF(BA14=0,"Hiányos kitöltés!",BF14)) -> Nincs VKR kiválasztva! | AQ14: =SUM(AF14:AP14) -> 0 | AS14: =IF($G14="","Nincs VKR kiválasztva!",IF($BA14=0,"Hiányos kitöltés!",IF($BN14=0,"Nem hosszútávú a feladat.",$BL14))) -> Nincs VKR kiválasztva! | AW14: =COUNTA($G$3:G14) -> 5 | AY14: =VLOOKUP($G14,Összesítő!$B:$F,3,FALSE) -> #N/A | AZ14: =LEN($AU14) -> 0 | BA14: =IF(OR($B14="",$C14="",$D14="",$E14="",$F14="",$L14="",$M14="",$N14="",$O14="",$P14=""),0,1) -> #N/A | BB14: =IF($F14="",0,IF(AND($L14=2027,$M14=2027),"R",IF(AND($L14=2027,$M14>2027),"RH",IF(AND($L14>2027,$M14>2027),"H","x")))) -> #N/A | BC14: =IF(OR(BB14="R",BB14="RH"),1,0) -> #N/A | BD14: =IF(AND($BB14="R",$O14>0),1,IF(AND($BB14="H",$N14>0),1,0)) -> #N/A | BE14: =IF($AC14<$N14,1,IF($AC14=$N14,0)) -> 0 | BF14: =IF($L14>2027,"Nem rövidtávú a feladat.",IF($BE14=1,"Az I. ütem nem lehet forráshiányos!",IF($AC14>$N14,"Többlet forrást jelölt meg az I.ütemnél! Kérjük, a többletet az 'Osszesito' fülön tüntesse fel!",IF($AC14=$N14,"A forrás egyenlő a költséggel (I.ütem).",0)))) -> A forrás egyenlő a költséggel (I.ütem). | BG14: =IF(AND($R14<>"",$S14<>"",$T14<>"",$U14<>"",$V14<>"",$W14<>"",$X14<>"",$Y14<>"",$Z14<>"",$AA14<>"",$AB14<>""),1,0) -> 0 | BH14: =IF(AND($BG14=1,$N14=$AC14),1,0) -> 0 | BI14: =IF($AQ14<$O14,1,0) -> 0 | BJ14: =IF(AND($AF14<>"",$AG14<>"",$AH14<>"",$AI14<>"",$AJ14<>"",$AK14<>"",$AL14<>"",$AM14<>"",$AN14<>"",$AO14<>"",$AP14<>""),1,0) -> 0 | BK14: =IF(AND($BJ14=1,$O14=$AQ14),1,IF(AND($BJ14=1,$O14>$AQ14,AR14="igen"),1,0)) -> 0 | BL14: =IF($M14<2028,"Nem hosszútávú a feladat.",IF(AND($BI14=1,$AR14="nem"),"Forráshiányos a feladat? Jelölje az AR-oszlopban!",IF(AND($BI14=0,$AR14="igen"),"Forráshiányosnak jelölte a feladat az AR-oszlopban, de a forrás költség adatok alapnján nem az!",IF(AND($BI14=1,$AR14="igen"),"Forráshiányos a feladat!",IF($AQ14>$O14,"Többlet forrást jelölt meg az II.ütemnél! Kérjük, a többletet az 'Osszesito' fülön tüntesse fel!",IF($AQ14=$O14,"A forrás egyenlő a költséggel (II.ütem).",0)))))) -> Nem hosszútávú a feladat. | BM14: =IF($M14<2028,1,0) -> 1 | BN14: =IF($M14>2027,1,0) -> 0 | BO14: =IF(AND($BM14=1,$N14=0),1,0) -> 1 | BP14: =IF(AND($BN14=1,$O14=0),1,0) -> 0 | BQ14: =IF(AND($BB14="R",$N14=0,$AZ14>29),1,IF(AND($BB14="RH",$N14=0,$AZ14>29),1,0)) -> #N/A | BR14: =IF($BN14=0,"Nincs hosszútávú terv!",IF(AND($BB14="H",$O14=0,$AZ14=0),"Nullás a hosszútávú feladat és nincs hozzá indoklás!",IF(AND($BB14="RH",$O14=0,$AZ14=0),"Nullás a hosszútávú feladat és nincs hozzá indoklás!",IF(AND($BB14="R",$O14=0,$AZ14<300),"Nullás a hosszútávú feladat és rövid hozzá az indoklás!",IF(AND($BB14="RH",$O14=0,$AZ14<300),"Nullás a hosszútávú feladat és rövid hozzá az indoklás!",0))))) -> Nincs hosszútávú terv! | BS14: =IF(AND($BB14="R",$N14=0,$AZ14>29),1,IF(AND($BB14="RH",$N14=0,$AZ14>29),1,0)) -> #N/A | BT14: =IF(AND($BB14="H",$O14=0,$AZ14>29),1,IF(AND($BB14="RH",$O14=0,$AZ14>29),1,0)) -> #N/A | BU14: =IF($B14="",0,1) -> 0 | BV14: =IF($C14="",0,1) -> 0 | BW14: =IF($D14="",0,1) -> 0 | BX14: =IF($E14="",0,1) -> 0 | BY14: =IF($L14="",0,1) -> 0 | BZ14: =IF($M14="",0,1) -> 0 | CA14: =IF($N14="",0,1) -> 0 | CB14: =IF($O14="",0,1) -> 0 | CC14: =IF($P14="",0,1) -> 0 | CD14: =IF(AND($BA14=0,$BU14=0),"Hiányos kitöltés! (B-oszlop üres)",IF(AND($BA14=0,$BV14=0),"Hiányos kitöltés! (C-oszlop üres)",IF(AND($BA14=0,$BW14=0),"Hiányos kitöltés! (D-oszlop üres)",IF(AND($BA14=0,$BX14=0),"Hiányos kitöltés! (E-oszlop üres)",IF(AND($BA14=0,$BY14=0),"Hiányos kitöltés! (L-oszlop üres)",IF(AND($BA14=0,$BZ14=0),"Hiányos kitöltés! (M-oszlop üres)",IF(AND($BA14=0,$CA14=0),"Hiányos kitöltés! (N-oszlop üres)",IF(AND($BA14=0,$CB14=0),"Hiányos kitöltés! (O-oszlop üres)",IF(AND($BA14=0,$CC14=0),"Hiányos kitöltés! (P-oszlop üres)",IF(AND($BA14=0,$BG14=0),"Hiányos kitöltés! (I.ütem forrása hiányos!","?")))))))))) -> #N/A | CE14: =IF($BA14=0,$CD14,IF($BG14=0,"I. ütem forrása nincs kitöltve!",IF($BJ14=0,"II. ütem forrása nincs kitöltve!",IF($BD14=1,"Költségek üteme nem megfelelő (az időtartam és a költség üteme eltér)!",IF(AND(BH14=0,$BA14=1,$BJ14=1,$BD14=1),"Kötelező cellák kitöltve, de az I. ütem forrása hibás!",IF(AND(BJ14=0,$BA14=1,$BJ14=1,$BD14=1),"Kötelező cellák kitöltve, de a II. ütem forrása hibás!",IF(AND($BO14=1,$AZ14<30),"Nullás a rövidtávú feladat és rövid (hiányzik) a hozzá tartozó indoklás!",IF(AND($BP14=1,$AZ14<30),"Nullás a hosszútávú feladat és rövid (hiányzik) a hozzá tartozó indoklás!",IF(AND(BN14=1,C14="1811_RENDKÍVÜLI"),"II. ütemre nem tervezhet Rendkívüli feladatot!",IF(BH14=0,AD14,IF(BK14=0,AS14,IF(AND(BC14=1,$P14>$N14),"EM rendelet 2. melléklet terhére elszámolt költség nem lehet nagyobb az I. ütemre tervezett tényleges költségnél!",IF($AC14>$N14,"Többlet forrást jelölt meg az I. ütemnél! Kérjük, a többletet az 'Osszesito' fülön tüntesse fel!",IF($AQ14>$O14,"Többlet forrást jelölt meg a II. ütemnél! Kérjük, a többletet az 'Osszesito' fülön tüntesse fel!","Kitöltés rendben!")))))))))))))) -> #N/A | CF14: =IF(A14="Kitöltés rendben!",1,0) -> 0 | CG14: =IF(AND($BB14="R",$CF14=1),1,IF(AND($BB14="RH",$CF14=1),1,0)) -> #N/A | CH14: =IF(AND($BB14="H",$CF14=1),1,IF(AND($BB14="RH",$CF14=1),1,0)) -> #N/A
A15: =IF($G15="","Nincs VKR kiválasztva!",CE15) -> Nincs VKR kiválasztva! | F15: =VLOOKUP($G15,Összesítő!$B:$F,2,FALSE) -> #N/A | H15: =AY15&"_"&AW15&"_FIV_"&LEFT(Előlap!$B$6,4) -> #N/A | I15: =VLOOKUP($G15,Összesítő!$B:$F,5,FALSE) -> #N/A | J15: =VLOOKUP($G15,Összesítő!$B:$F,4,FALSE) -> #N/A | K15: =N15+O15 -> 0 | AC15: =SUM(R15:AB15) -> 0 | AD15: =IF($G15="","Nincs VKR kiválasztva!",IF(BA15=0,"Hiányos kitöltés!",BF15)) -> Nincs VKR kiválasztva! | AQ15: =SUM(AF15:AP15) -> 0 | AS15: =IF($G15="","Nincs VKR kiválasztva!",IF($BA15=0,"Hiányos kitöltés!",IF($BN15=0,"Nem hosszútávú a feladat.",$BL15))) -> Nincs VKR kiválasztva! | AW15: =COUNTA($G$3:G15) -> 5 | AY15: =VLOOKUP($G15,Összesítő!$B:$F,3,FALSE) -> #N/A | AZ15: =LEN($AU15) -> 0 | BA15: =IF(OR($B15="",$C15="",$D15="",$E15="",$F15="",$L15="",$M15="",$N15="",$O15="",$P15=""),0,1) -> #N/A | BB15: =IF($F15="",0,IF(AND($L15=2027,$M15=2027),"R",IF(AND($L15=2027,$M15>2027),"RH",IF(AND($L15>2027,$M15>2027),"H","x")))) -> #N/A | BC15: =IF(OR(BB15="R",BB15="RH"),1,0) -> #N/A | BD15: =IF(AND($BB15="R",$O15>0),1,IF(AND($BB15="H",$N15>0),1,0)) -> #N/A | BE15: =IF($AC15<$N15,1,IF($AC15=$N15,0)) -> 0 | BF15: =IF($L15>2027,"Nem rövidtávú a feladat.",IF($BE15=1,"Az I. ütem nem lehet forráshiányos!",IF($AC15>$N15,"Többlet forrást jelölt meg az I.ütemnél! Kérjük, a többletet az 'Osszesito' fülön tüntesse fel!",IF($AC15=$N15,"A forrás egyenlő a költséggel (I.ütem).",0)))) -> A forrás egyenlő a költséggel (I.ütem). | BG15: =IF(AND($R15<>"",$S15<>"",$T15<>"",$U15<>"",$V15<>"",$W15<>"",$X15<>"",$Y15<>"",$Z15<>"",$AA15<>"",$AB15<>""),1,0) -> 0 | BH15: =IF(AND($BG15=1,$N15=$AC15),1,0) -> 0 | BI15: =IF($AQ15<$O15,1,0) -> 0 | BJ15: =IF(AND($AF15<>"",$AG15<>"",$AH15<>"",$AI15<>"",$AJ15<>"",$AK15<>"",$AL15<>"",$AM15<>"",$AN15<>"",$AO15<>"",$AP15<>""),1,0) -> 0 | BK15: =IF(AND($BJ15=1,$O15=$AQ15),1,IF(AND($BJ15=1,$O15>$AQ15,AR15="igen"),1,0)) -> 0 | BL15: =IF($M15<2028,"Nem hosszútávú a feladat.",IF(AND($BI15=1,$AR15="nem"),"Forráshiányos a feladat? Jelölje az AR-oszlopban!",IF(AND($BI15=0,$AR15="igen"),"Forráshiányosnak jelölte a feladat az AR-oszlopban, de a forrás költség adatok alapnján nem az!",IF(AND($BI15=1,$AR15="igen"),"Forráshiányos a feladat!",IF($AQ15>$O15,"Többlet forrást jelölt meg az II.ütemnél! Kérjük, a többletet az 'Osszesito' fülön tüntesse fel!",IF($AQ15=$O15,"A forrás egyenlő a költséggel (II.ütem).",0)))))) -> Nem hosszútávú a feladat. | BM15: =IF($M15<2028,1,0) -> 1 | BN15: =IF($M15>2027,1,0) -> 0 | BO15: =IF(AND($BM15=1,$N15=0),1,0) -> 1 | BP15: =IF(AND($BN15=1,$O15=0),1,0) -> 0 | BQ15: =IF(AND($BB15="R",$N15=0,$AZ15>29),1,IF(AND($BB15="RH",$N15=0,$AZ15>29),1,0)) -> #N/A | BR15: =IF($BN15=0,"Nincs hosszútávú terv!",IF(AND($BB15="H",$O15=0,$AZ15=0),"Nullás a hosszútávú feladat és nincs hozzá indoklás!",IF(AND($BB15="RH",$O15=0,$AZ15=0),"Nullás a hosszútávú feladat és nincs hozzá indoklás!",IF(AND($BB15="R",$O15=0,$AZ15<300),"Nullás a hosszútávú feladat és rövid hozzá az indoklás!",IF(AND($BB15="RH",$O15=0,$AZ15<300),"Nullás a hosszútávú feladat és rövid hozzá az indoklás!",0))))) -> Nincs hosszútávú terv! | BS15: =IF(AND($BB15="R",$N15=0,$AZ15>29),1,IF(AND($BB15="RH",$N15=0,$AZ15>29),1,0)) -> #N/A | BT15: =IF(AND($BB15="H",$O15=0,$AZ15>29),1,IF(AND($BB15="RH",$O15=0,$AZ15>29),1,0)) -> #N/A | BU15: =IF($B15="",0,1) -> 0 | BV15: =IF($C15="",0,1) -> 0 | BW15: =IF($D15="",0,1) -> 0 | BX15: =IF($E15="",0,1) -> 0 | BY15: =IF($L15="",0,1) -> 0 | BZ15: =IF($M15="",0,1) -> 0 | CA15: =IF($N15="",0,1) -> 0 | CB15: =IF($O15="",0,1) -> 0 | CC15: =IF($P15="",0,1) -> 0 | CD15: =IF(AND($BA15=0,$BU15=0),"Hiányos kitöltés! (B-oszlop üres)",IF(AND($BA15=0,$BV15=0),"Hiányos kitöltés! (C-oszlop üres)",IF(AND($BA15=0,$BW15=0),"Hiányos kitöltés! (D-oszlop üres)",IF(AND($BA15=0,$BX15=0),"Hiányos kitöltés! (E-oszlop üres)",IF(AND($BA15=0,$BY15=0),"Hiányos kitöltés! (L-oszlop üres)",IF(AND($BA15=0,$BZ15=0),"Hiányos kitöltés! (M-oszlop üres)",IF(AND($BA15=0,$CA15=0),"Hiányos kitöltés! (N-oszlop üres)",IF(AND($BA15=0,$CB15=0),"Hiányos kitöltés! (O-oszlop üres)",IF(AND($BA15=0,$CC15=0),"Hiányos kitöltés! (P-oszlop üres)",IF(AND($BA15=0,$BG15=0),"Hiányos kitöltés! (I.ütem forrása hiányos!","?")))))))))) -> #N/A | CE15: =IF($BA15=0,$CD15,IF($BG15=0,"I. ütem forrása nincs kitöltve!",IF($BJ15=0,"II. ütem forrása nincs kitöltve!",IF($BD15=1,"Költségek üteme nem megfelelő (az időtartam és a költség üteme eltér)!",IF(AND(BH15=0,$BA15=1,$BJ15=1,$BD15=1),"Kötelező cellák kitöltve, de az I. ütem forrása hibás!",IF(AND(BJ15=0,$BA15=1,$BJ15=1,$BD15=1),"Kötelező cellák kitöltve, de a II. ütem forrása hibás!",IF(AND($BO15=1,$AZ15<30),"Nullás a rövidtávú feladat és rövid (hiányzik) a hozzá tartozó indoklás!",IF(AND($BP15=1,$AZ15<30),"Nullás a hosszútávú feladat és rövid (hiányzik) a hozzá tartozó indoklás!",IF(AND(BN15=1,C15="1811_RENDKÍVÜLI"),"II. ütemre nem tervezhet Rendkívüli feladatot!",IF(BH15=0,AD15,IF(BK15=0,AS15,IF(AND(BC15=1,$P15>$N15),"EM rendelet 2. melléklet terhére elszámolt költség nem lehet nagyobb az I. ütemre tervezett tényleges költségnél!",IF($AC15>$N15,"Többlet forrást jelölt meg az I. ütemnél! Kérjük, a többletet az 'Osszesito' fülön tüntesse fel!",IF($AQ15>$O15,"Többlet forrást jelölt meg a II. ütemnél! Kérjük, a többletet az 'Osszesito' fülön tüntesse fel!","Kitöltés rendben!")))))))))))))) -> #N/A | CF15: =IF(A15="Kitöltés rendben!",1,0) -> 0 | CG15: =IF(AND($BB15="R",$CF15=1),1,IF(AND($BB15="RH",$CF15=1),1,0)) -> #N/A | CH15: =IF(AND($BB15="H",$CF15=1),1,IF(AND($BB15="RH",$CF15=1),1,0)) -> #N/A
A16: =IF($G16="","Nincs VKR kiválasztva!",CE16) -> Nincs VKR kiválasztva! | F16: =VLOOKUP($G16,Összesítő!$B:$F,2,FALSE) -> #N/A | H16: =AY16&"_"&AW16&"_FIV_"&LEFT(Előlap!$B$6,4) -> #N/A | I16: =VLOOKUP($G16,Összesítő!$B:$F,5,FALSE) -> #N/A | J16: =VLOOKUP($G16,Összesítő!$B:$F,4,FALSE) -> #N/A | K16: =N16+O16 -> 0 | AC16: =SUM(R16:AB16) -> 0 | AD16: =IF($G16="","Nincs VKR kiválasztva!",IF(BA16=0,"Hiányos kitöltés!",BF16)) -> Nincs VKR kiválasztva! | AQ16: =SUM(AF16:AP16) -> 0 | AS16: =IF($G16="","Nincs VKR kiválasztva!",IF($BA16=0,"Hiányos kitöltés!",IF($BN16=0,"Nem hosszútávú a feladat.",$BL16))) -> Nincs VKR kiválasztva! | AW16: =COUNTA($G$3:G16) -> 5 | AY16: =VLOOKUP($G16,Összesítő!$B:$F,3,FALSE) -> #N/A | AZ16: =LEN($AU16) -> 0 | BA16: =IF(OR($B16="",$C16="",$D16="",$E16="",$F16="",$L16="",$M16="",$N16="",$O16="",$P16=""),0,1) -> #N/A | BB16: =IF($F16="",0,IF(AND($L16=2027,$M16=2027),"R",IF(AND($L16=2027,$M16>2027),"RH",IF(AND($L16>2027,$M16>2027),"H","x")))) -> #N/A | BC16: =IF(OR(BB16="R",BB16="RH"),1,0) -> #N/A | BD16: =IF(AND($BB16="R",$O16>0),1,IF(AND($BB16="H",$N16>0),1,0)) -> #N/A | BE16: =IF($AC16<$N16,1,IF($AC16=$N16,0)) -> 0 | BF16: =IF($L16>2027,"Nem rövidtávú a feladat.",IF($BE16=1,"Az I. ütem nem lehet forráshiányos!",IF($AC16>$N16,"Többlet forrást jelölt meg az I.ütemnél! Kérjük, a többletet az 'Osszesito' fülön tüntesse fel!",IF($AC16=$N16,"A forrás egyenlő a költséggel (I.ütem).",0)))) -> A forrás egyenlő a költséggel (I.ütem). | BG16: =IF(AND($R16<>"",$S16<>"",$T16<>"",$U16<>"",$V16<>"",$W16<>"",$X16<>"",$Y16<>"",$Z16<>"",$AA16<>"",$AB16<>""),1,0) -> 0 | BH16: =IF(AND($BG16=1,$N16=$AC16),1,0) -> 0 | BI16: =IF($AQ16<$O16,1,0) -> 0 | BJ16: =IF(AND($AF16<>"",$AG16<>"",$AH16<>"",$AI16<>"",$AJ16<>"",$AK16<>"",$AL16<>"",$AM16<>"",$AN16<>"",$AO16<>"",$AP16<>""),1,0) -> 0 | BK16: =IF(AND($BJ16=1,$O16=$AQ16),1,IF(AND($BJ16=1,$O16>$AQ16,AR16="igen"),1,0)) -> 0 | BL16: =IF($M16<2028,"Nem hosszútávú a feladat.",IF(AND($BI16=1,$AR16="nem"),"Forráshiányos a feladat? Jelölje az AR-oszlopban!",IF(AND($BI16=0,$AR16="igen"),"Forráshiányosnak jelölte a feladat az AR-oszlopban, de a forrás költség adatok alapnján nem az!",IF(AND($BI16=1,$AR16="igen"),"Forráshiányos a feladat!",IF($AQ16>$O16,"Többlet forrást jelölt meg az II.ütemnél! Kérjük, a többletet az 'Osszesito' fülön tüntesse fel!",IF($AQ16=$O16,"A forrás egyenlő a költséggel (II.ütem).",0)))))) -> Nem hosszútávú a feladat. | BM16: =IF($M16<2028,1,0) -> 1 | BN16: =IF($M16>2027,1,0) -> 0 | BO16: =IF(AND($BM16=1,$N16=0),1,0) -> 1 | BP16: =IF(AND($BN16=1,$O16=0),1,0) -> 0 | BQ16: =IF(AND($BB16="R",$N16=0,$AZ16>29),1,IF(AND($BB16="RH",$N16=0,$AZ16>29),1,0)) -> #N/A | BR16: =IF($BN16=0,"Nincs hosszútávú terv!",IF(AND($BB16="H",$O16=0,$AZ16=0),"Nullás a hosszútávú feladat és nincs hozzá indoklás!",IF(AND($BB16="RH",$O16=0,$AZ16=0),"Nullás a hosszútávú feladat és nincs hozzá indoklás!",IF(AND($BB16="R",$O16=0,$AZ16<300),"Nullás a hosszútávú feladat és rövid hozzá az indoklás!",IF(AND($BB16="RH",$O16=0,$AZ16<300),"Nullás a hosszútávú feladat és rövid hozzá az indoklás!",0))))) -> Nincs hosszútávú terv! | BS16: =IF(AND($BB16="R",$N16=0,$AZ16>29),1,IF(AND($BB16="RH",$N16=0,$AZ16>29),1,0)) -> #N/A | BT16: =IF(AND($BB16="H",$O16=0,$AZ16>29),1,IF(AND($BB16="RH",$O16=0,$AZ16>29),1,0)) -> #N/A | BU16: =IF($B16="",0,1) -> 0 | BV16: =IF($C16="",0,1) -> 0 | BW16: =IF($D16="",0,1) -> 0 | BX16: =IF($E16="",0,1) -> 0 | BY16: =IF($L16="",0,1) -> 0 | BZ16: =IF($M16="",0,1) -> 0 | CA16: =IF($N16="",0,1) -> 0 | CB16: =IF($O16="",0,1) -> 0 | CC16: =IF($P16="",0,1) -> 0 | CD16: =IF(AND($BA16=0,$BU16=0),"Hiányos kitöltés! (B-oszlop üres)",IF(AND($BA16=0,$BV16=0),"Hiányos kitöltés! (C-oszlop üres)",IF(AND($BA16=0,$BW16=0),"Hiányos kitöltés! (D-oszlop üres)",IF(AND($BA16=0,$BX16=0),"Hiányos kitöltés! (E-oszlop üres)",IF(AND($BA16=0,$BY16=0),"Hiányos kitöltés! (L-oszlop üres)",IF(AND($BA16=0,$BZ16=0),"Hiányos kitöltés! (M-oszlop üres)",IF(AND($BA16=0,$CA16=0),"Hiányos kitöltés! (N-oszlop üres)",IF(AND($BA16=0,$CB16=0),"Hiányos kitöltés! (O-oszlop üres)",IF(AND($BA16=0,$CC16=0),"Hiányos kitöltés! (P-oszlop üres)",IF(AND($BA16=0,$BG16=0),"Hiányos kitöltés! (I.ütem forrása hiányos!","?")))))))))) -> #N/A | CE16: =IF($BA16=0,$CD16,IF($BG16=0,"I. ütem forrása nincs kitöltve!",IF($BJ16=0,"II. ütem forrása nincs kitöltve!",IF($BD16=1,"Költségek üteme nem megfelelő (az időtartam és a költség üteme eltér)!",IF(AND(BH16=0,$BA16=1,$BJ16=1,$BD16=1),"Kötelező cellák kitöltve, de az I. ütem forrása hibás!",IF(AND(BJ16=0,$BA16=1,$BJ16=1,$BD16=1),"Kötelező cellák kitöltve, de a II. ütem forrása hibás!",IF(AND($BO16=1,$AZ16<30),"Nullás a rövidtávú feladat és rövid (hiányzik) a hozzá tartozó indoklás!",IF(AND($BP16=1,$AZ16<30),"Nullás a hosszútávú feladat és rövid (hiányzik) a hozzá tartozó indoklás!",IF(AND(BN16=1,C16="1811_RENDKÍVÜLI"),"II. ütemre nem tervezhet Rendkívüli feladatot!",IF(BH16=0,AD16,IF(BK16=0,AS16,IF(AND(BC16=1,$P16>$N16),"EM rendelet 2. melléklet terhére elszámolt költség nem lehet nagyobb az I. ütemre tervezett tényleges költségnél!",IF($AC16>$N16,"Többlet forrást jelölt meg az I. ütemnél! Kérjük, a többletet az 'Osszesito' fülön tüntesse fel!",IF($AQ16>$O16,"Többlet forrást jelölt meg a II. ütemnél! Kérjük, a többletet az 'Osszesito' fülön tüntesse fel!","Kitöltés rendben!")))))))))))))) -> #N/A | CF16: =IF(A16="Kitöltés rendben!",1,0) -> 0 | CG16: =IF(AND($BB16="R",$CF16=1),1,IF(AND($BB16="RH",$CF16=1),1,0)) -> #N/A | CH16: =IF(AND($BB16="H",$CF16=1),1,IF(AND($BB16="RH",$CF16=1),1,0)) -> #N/A
A17: =IF($G17="","Nincs VKR kiválasztva!",CE17) -> Nincs VKR kiválasztva! | F17: =VLOOKUP($G17,Összesítő!$B:$F,2,FALSE) -> #N/A | H17: =AY17&"_"&AW17&"_FIV_"&LEFT(Előlap!$B$6,4) -> #N/A | I17: =VLOOKUP($G17,Összesítő!$B:$F,5,FALSE) -> #N/A | J17: =VLOOKUP($G17,Összesítő!$B:$F,4,FALSE) -> #N/A | K17: =N17+O17 -> 0 | AC17: =SUM(R17:AB17) -> 0 | AD17: =IF($G17="","Nincs VKR kiválasztva!",IF(BA17=0,"Hiányos kitöltés!",BF17)) -> Nincs VKR kiválasztva! | AQ17: =SUM(AF17:AP17) -> 0 | AS17: =IF($G17="","Nincs VKR kiválasztva!",IF($BA17=0,"Hiányos kitöltés!",IF($BN17=0,"Nem hosszútávú a feladat.",$BL17))) -> Nincs VKR kiválasztva! | AW17: =COUNTA($G$3:G17) -> 5 | AY17: =VLOOKUP($G17,Összesítő!$B:$F,3,FALSE) -> #N/A | AZ17: =LEN($AU17) -> 0 | BA17: =IF(OR($B17="",$C17="",$D17="",$E17="",$F17="",$L17="",$M17="",$N17="",$O17="",$P17=""),0,1) -> #N/A | BB17: =IF($F17="",0,IF(AND($L17=2027,$M17=2027),"R",IF(AND($L17=2027,$M17>2027),"RH",IF(AND($L17>2027,$M17>2027),"H","x")))) -> #N/A | BC17: =IF(OR(BB17="R",BB17="RH"),1,0) -> #N/A | BD17: =IF(AND($BB17="R",$O17>0),1,IF(AND($BB17="H",$N17>0),1,0)) -> #N/A | BE17: =IF($AC17<$N17,1,IF($AC17=$N17,0)) -> 0 | BF17: =IF($L17>2027,"Nem rövidtávú a feladat.",IF($BE17=1,"Az I. ütem nem lehet forráshiányos!",IF($AC17>$N17,"Többlet forrást jelölt meg az I.ütemnél! Kérjük, a többletet az 'Osszesito' fülön tüntesse fel!",IF($AC17=$N17,"A forrás egyenlő a költséggel (I.ütem).",0)))) -> A forrás egyenlő a költséggel (I.ütem). | BG17: =IF(AND($R17<>"",$S17<>"",$T17<>"",$U17<>"",$V17<>"",$W17<>"",$X17<>"",$Y17<>"",$Z17<>"",$AA17<>"",$AB17<>""),1,0) -> 0 | BH17: =IF(AND($BG17=1,$N17=$AC17),1,0) -> 0 | BI17: =IF($AQ17<$O17,1,0) -> 0 | BJ17: =IF(AND($AF17<>"",$AG17<>"",$AH17<>"",$AI17<>"",$AJ17<>"",$AK17<>"",$AL17<>"",$AM17<>"",$AN17<>"",$AO17<>"",$AP17<>""),1,0) -> 0 | BK17: =IF(AND($BJ17=1,$O17=$AQ17),1,IF(AND($BJ17=1,$O17>$AQ17,AR17="igen"),1,0)) -> 0 | BL17: =IF($M17<2028,"Nem hosszútávú a feladat.",IF(AND($BI17=1,$AR17="nem"),"Forráshiányos a feladat? Jelölje az AR-oszlopban!",IF(AND($BI17=0,$AR17="igen"),"Forráshiányosnak jelölte a feladat az AR-oszlopban, de a forrás költség adatok alapnján nem az!",IF(AND($BI17=1,$AR17="igen"),"Forráshiányos a feladat!",IF($AQ17>$O17,"Többlet forrást jelölt meg az II.ütemnél! Kérjük, a többletet az 'Osszesito' fülön tüntesse fel!",IF($AQ17=$O17,"A forrás egyenlő a költséggel (II.ütem).",0)))))) -> Nem hosszútávú a feladat. | BM17: =IF($M17<2028,1,0) -> 1 | BN17: =IF($M17>2027,1,0) -> 0 | BO17: =IF(AND($BM17=1,$N17=0),1,0) -> 1 | BP17: =IF(AND($BN17=1,$O17=0),1,0) -> 0 | BQ17: =IF(AND($BB17="R",$N17=0,$AZ17>29),1,IF(AND($BB17="RH",$N17=0,$AZ17>29),1,0)) -> #N/A | BR17: =IF($BN17=0,"Nincs hosszútávú terv!",IF(AND($BB17="H",$O17=0,$AZ17=0),"Nullás a hosszútávú feladat és nincs hozzá indoklás!",IF(AND($BB17="RH",$O17=0,$AZ17=0),"Nullás a hosszútávú feladat és nincs hozzá indoklás!",IF(AND($BB17="R",$O17=0,$AZ17<300),"Nullás a hosszútávú feladat és rövid hozzá az indoklás!",IF(AND($BB17="RH",$O17=0,$AZ17<300),"Nullás a hosszútávú feladat és rövid hozzá az indoklás!",0))))) -> Nincs hosszútávú terv! | BS17: =IF(AND($BB17="R",$N17=0,$AZ17>29),1,IF(AND($BB17="RH",$N17=0,$AZ17>29),1,0)) -> #N/A | BT17: =IF(AND($BB17="H",$O17=0,$AZ17>29),1,IF(AND($BB17="RH",$O17=0,$AZ17>29),1,0)) -> #N/A | BU17: =IF($B17="",0,1) -> 0 | BV17: =IF($C17="",0,1) -> 0 | BW17: =IF($D17="",0,1) -> 0 | BX17: =IF($E17="",0,1) -> 0 | BY17: =IF($L17="",0,1) -> 0 | BZ17: =IF($M17="",0,1) -> 0 | CA17: =IF($N17="",0,1) -> 0 | CB17: =IF($O17="",0,1) -> 0 | CC17: =IF($P17="",0,1) -> 0 | CD17: =IF(AND($BA17=0,$BU17=0),"Hiányos kitöltés! (B-oszlop üres)",IF(AND($BA17=0,$BV17=0),"Hiányos kitöltés! (C-oszlop üres)",IF(AND($BA17=0,$BW17=0),"Hiányos kitöltés! (D-oszlop üres)",IF(AND($BA17=0,$BX17=0),"Hiányos kitöltés! (E-oszlop üres)",IF(AND($BA17=0,$BY17=0),"Hiányos kitöltés! (L-oszlop üres)",IF(AND($BA17=0,$BZ17=0),"Hiányos kitöltés! (M-oszlop üres)",IF(AND($BA17=0,$CA17=0),"Hiányos kitöltés! (N-oszlop üres)",IF(AND($BA17=0,$CB17=0),"Hiányos kitöltés! (O-oszlop üres)",IF(AND($BA17=0,$CC17=0),"Hiányos kitöltés! (P-oszlop üres)",IF(AND($BA17=0,$BG17=0),"Hiányos kitöltés! (I.ütem forrása hiányos!","?")))))))))) -> #N/A | CE17: =IF($BA17=0,$CD17,IF($BG17=0,"I. ütem forrása nincs kitöltve!",IF($BJ17=0,"II. ütem forrása nincs kitöltve!",IF($BD17=1,"Költségek üteme nem megfelelő (az időtartam és a költség üteme eltér)!",IF(AND(BH17=0,$BA17=1,$BJ17=1,$BD17=1),"Kötelező cellák kitöltve, de az I. ütem forrása hibás!",IF(AND(BJ17=0,$BA17=1,$BJ17=1,$BD17=1),"Kötelező cellák kitöltve, de a II. ütem forrása hibás!",IF(AND($BO17=1,$AZ17<30),"Nullás a rövidtávú feladat és rövid (hiányzik) a hozzá tartozó indoklás!",IF(AND($BP17=1,$AZ17<30),"Nullás a hosszútávú feladat és rövid (hiányzik) a hozzá tartozó indoklás!",IF(AND(BN17=1,C17="1811_RENDKÍVÜLI"),"II. ütemre nem tervezhet Rendkívüli feladatot!",IF(BH17=0,AD17,IF(BK17=0,AS17,IF(AND(BC17=1,$P17>$N17),"EM rendelet 2. melléklet terhére elszámolt költség nem lehet nagyobb az I. ütemre tervezett tényleges költségnél!",IF($AC17>$N17,"Többlet forrást jelölt meg az I. ütemnél! Kérjük, a többletet az 'Osszesito' fülön tüntesse fel!",IF($AQ17>$O17,"Többlet forrást jelölt meg a II. ütemnél! Kérjük, a többletet az 'Osszesito' fülön tüntesse fel!","Kitöltés rendben!")))))))))))))) -> #N/A | CF17: =IF(A17="Kitöltés rendben!",1,0) -> 0 | CG17: =IF(AND($BB17="R",$CF17=1),1,IF(AND($BB17="RH",$CF17=1),1,0)) -> #N/A | CH17: =IF(AND($BB17="H",$CF17=1),1,IF(AND($BB17="RH",$CF17=1),1,0)) -> #N/A
A18: =IF($G18="","Nincs VKR kiválasztva!",CE18) -> Nincs VKR kiválasztva! | F18: =VLOOKUP($G18,Összesítő!$B:$F,2,FALSE) -> #N/A | H18: =AY18&"_"&AW18&"_FIV_"&LEFT(Előlap!$B$6,4) -> #N/A | I18: =VLOOKUP($G18,Összesítő!$B:$F,5,FALSE) -> #N/A | J18: =VLOOKUP($G18,Összesítő!$B:$F,4,FALSE) -> #N/A | K18: =N18+O18 -> 0 | AC18: =SUM(R18:AB18) -> 0 | AD18: =IF($G18="","Nincs VKR kiválasztva!",IF(BA18=0,"Hiányos kitöltés!",BF18)) -> Nincs VKR kiválasztva! | AQ18: =SUM(AF18:AP18) -> 0 | AS18: =IF($G18="","Nincs VKR kiválasztva!",IF($BA18=0,"Hiányos kitöltés!",IF($BN18=0,"Nem hosszútávú a feladat.",$BL18))) -> Nincs VKR kiválasztva! | AW18: =COUNTA($G$3:G18) -> 5 | AY18: =VLOOKUP($G18,Összesítő!$B:$F,3,FALSE) -> #N/A | AZ18: =LEN($AU18) -> 0 | BA18: =IF(OR($B18="",$C18="",$D18="",$E18="",$F18="",$L18="",$M18="",$N18="",$O18="",$P18=""),0,1) -> #N/A | BB18: =IF($F18="",0,IF(AND($L18=2027,$M18=2027),"R",IF(AND($L18=2027,$M18>2027),"RH",IF(AND($L18>2027,$M18>2027),"H","x")))) -> #N/A | BC18: =IF(OR(BB18="R",BB18="RH"),1,0) -> #N/A | BD18: =IF(AND($BB18="R",$O18>0),1,IF(AND($BB18="H",$N18>0),1,0)) -> #N/A | BE18: =IF($AC18<$N18,1,IF($AC18=$N18,0)) -> 0 | BF18: =IF($L18>2027,"Nem rövidtávú a feladat.",IF($BE18=1,"Az I. ütem nem lehet forráshiányos!",IF($AC18>$N18,"Többlet forrást jelölt meg az I.ütemnél! Kérjük, a többletet az 'Osszesito' fülön tüntesse fel!",IF($AC18=$N18,"A forrás egyenlő a költséggel (I.ütem).",0)))) -> A forrás egyenlő a költséggel (I.ütem). | BG18: =IF(AND($R18<>"",$S18<>"",$T18<>"",$U18<>"",$V18<>"",$W18<>"",$X18<>"",$Y18<>"",$Z18<>"",$AA18<>"",$AB18<>""),1,0) -> 0 | BH18: =IF(AND($BG18=1,$N18=$AC18),1,0) -> 0 | BI18: =IF($AQ18<$O18,1,0) -> 0 | BJ18: =IF(AND($AF18<>"",$AG18<>"",$AH18<>"",$AI18<>"",$AJ18<>"",$AK18<>"",$AL18<>"",$AM18<>"",$AN18<>"",$AO18<>"",$AP18<>""),1,0) -> 0 | BK18: =IF(AND($BJ18=1,$O18=$AQ18),1,IF(AND($BJ18=1,$O18>$AQ18,AR18="igen"),1,0)) -> 0 | BL18: =IF($M18<2028,"Nem hosszútávú a feladat.",IF(AND($BI18=1,$AR18="nem"),"Forráshiányos a feladat? Jelölje az AR-oszlopban!",IF(AND($BI18=0,$AR18="igen"),"Forráshiányosnak jelölte a feladat az AR-oszlopban, de a forrás költség adatok alapnján nem az!",IF(AND($BI18=1,$AR18="igen"),"Forráshiányos a feladat!",IF($AQ18>$O18,"Többlet forrást jelölt meg az II.ütemnél! Kérjük, a többletet az 'Osszesito' fülön tüntesse fel!",IF($AQ18=$O18,"A forrás egyenlő a költséggel (II.ütem).",0)))))) -> Nem hosszútávú a feladat. | BM18: =IF($M18<2028,1,0) -> 1 | BN18: =IF($M18>2027,1,0) -> 0 | BO18: =IF(AND($BM18=1,$N18=0),1,0) -> 1 | BP18: =IF(AND($BN18=1,$O18=0),1,0) -> 0 | BQ18: =IF(AND($BB18="R",$N18=0,$AZ18>29),1,IF(AND($BB18="RH",$N18=0,$AZ18>29),1,0)) -> #N/A | BR18: =IF($BN18=0,"Nincs hosszútávú terv!",IF(AND($BB18="H",$O18=0,$AZ18=0),"Nullás a hosszútávú feladat és nincs hozzá indoklás!",IF(AND($BB18="RH",$O18=0,$AZ18=0),"Nullás a hosszútávú feladat és nincs hozzá indoklás!",IF(AND($BB18="R",$O18=0,$AZ18<300),"Nullás a hosszútávú feladat és rövid hozzá az indoklás!",IF(AND($BB18="RH",$O18=0,$AZ18<300),"Nullás a hosszútávú feladat és rövid hozzá az indoklás!",0))))) -> Nincs hosszútávú terv! | BS18: =IF(AND($BB18="R",$N18=0,$AZ18>29),1,IF(AND($BB18="RH",$N18=0,$AZ18>29),1,0)) -> #N/A | BT18: =IF(AND($BB18="H",$O18=0,$AZ18>29),1,IF(AND($BB18="RH",$O18=0,$AZ18>29),1,0)) -> #N/A | BU18: =IF($B18="",0,1) -> 0 | BV18: =IF($C18="",0,1) -> 0 | BW18: =IF($D18="",0,1) -> 0 | BX18: =IF($E18="",0,1) -> 0 | BY18: =IF($L18="",0,1) -> 0 | BZ18: =IF($M18="",0,1) -> 0 | CA18: =IF($N18="",0,1) -> 0 | CB18: =IF($O18="",0,1) -> 0 | CC18: =IF($P18="",0,1) -> 0 | CD18: =IF(AND($BA18=0,$BU18=0),"Hiányos kitöltés! (B-oszlop üres)",IF(AND($BA18=0,$BV18=0),"Hiányos kitöltés! (C-oszlop üres)",IF(AND($BA18=0,$BW18=0),"Hiányos kitöltés! (D-oszlop üres)",IF(AND($BA18=0,$BX18=0),"Hiányos kitöltés! (E-oszlop üres)",IF(AND($BA18=0,$BY18=0),"Hiányos kitöltés! (L-oszlop üres)",IF(AND($BA18=0,$BZ18=0),"Hiányos kitöltés! (M-oszlop üres)",IF(AND($BA18=0,$CA18=0),"Hiányos kitöltés! (N-oszlop üres)",IF(AND($BA18=0,$CB18=0),"Hiányos kitöltés! (O-oszlop üres)",IF(AND($BA18=0,$CC18=0),"Hiányos kitöltés! (P-oszlop üres)",IF(AND($BA18=0,$BG18=0),"Hiányos kitöltés! (I.ütem forrása hiányos!","?")))))))))) -> #N/A | CE18: =IF($BA18=0,$CD18,IF($BG18=0,"I. ütem forrása nincs kitöltve!",IF($BJ18=0,"II. ütem forrása nincs kitöltve!",IF($BD18=1,"Költségek üteme nem megfelelő (az időtartam és a költség üteme eltér)!",IF(AND(BH18=0,$BA18=1,$BJ18=1,$BD18=1),"Kötelező cellák kitöltve, de az I. ütem forrása hibás!",IF(AND(BJ18=0,$BA18=1,$BJ18=1,$BD18=1),"Kötelező cellák kitöltve, de a II. ütem forrása hibás!",IF(AND($BO18=1,$AZ18<30),"Nullás a rövidtávú feladat és rövid (hiányzik) a hozzá tartozó indoklás!",IF(AND($BP18=1,$AZ18<30),"Nullás a hosszútávú feladat és rövid (hiányzik) a hozzá tartozó indoklás!",IF(AND(BN18=1,C18="1811_RENDKÍVÜLI"),"II. ütemre nem tervezhet Rendkívüli feladatot!",IF(BH18=0,AD18,IF(BK18=0,AS18,IF(AND(BC18=1,$P18>$N18),"EM rendelet 2. melléklet terhére elszámolt költség nem lehet nagyobb az I. ütemre tervezett tényleges költségnél!",IF($AC18>$N18,"Többlet forrást jelölt meg az I. ütemnél! Kérjük, a többletet az 'Osszesito' fülön tüntesse fel!",IF($AQ18>$O18,"Többlet forrást jelölt meg a II. ütemnél! Kérjük, a többletet az 'Osszesito' fülön tüntesse fel!","Kitöltés rendben!")))))))))))))) -> #N/A | CF18: =IF(A18="Kitöltés rendben!",1,0) -> 0 | CG18: =IF(AND($BB18="R",$CF18=1),1,IF(AND($BB18="RH",$CF18=1),1,0)) -> #N/A | CH18: =IF(AND($BB18="H",$CF18=1),1,IF(AND($BB18="RH",$CF18=1),1,0)) -> #N/A
A19: =IF($G19="","Nincs VKR kiválasztva!",CE19) -> Nincs VKR kiválasztva! | F19: =VLOOKUP($G19,Összesítő!$B:$F,2,FALSE) -> #N/A | H19: =AY19&"_"&AW19&"_FIV_"&LEFT(Előlap!$B$6,4) -> #N/A | I19: =VLOOKUP($G19,Összesítő!$B:$F,5,FALSE) -> #N/A | J19: =VLOOKUP($G19,Összesítő!$B:$F,4,FALSE) -> #N/A | K19: =N19+O19 -> 0 | AC19: =SUM(R19:AB19) -> 0 | AD19: =IF($G19="","Nincs VKR kiválasztva!",IF(BA19=0,"Hiányos kitöltés!",BF19)) -> Nincs VKR kiválasztva! | AQ19: =SUM(AF19:AP19) -> 0 | AS19: =IF($G19="","Nincs VKR kiválasztva!",IF($BA19=0,"Hiányos kitöltés!",IF($BN19=0,"Nem hosszútávú a feladat.",$BL19))) -> Nincs VKR kiválasztva! | AW19: =COUNTA($G$3:G19) -> 5 | AY19: =VLOOKUP($G19,Összesítő!$B:$F,3,FALSE) -> #N/A | AZ19: =LEN($AU19) -> 0 | BA19: =IF(OR($B19="",$C19="",$D19="",$E19="",$F19="",$L19="",$M19="",$N19="",$O19="",$P19=""),0,1) -> #N/A | BB19: =IF($F19="",0,IF(AND($L19=2027,$M19=2027),"R",IF(AND($L19=2027,$M19>2027),"RH",IF(AND($L19>2027,$M19>2027),"H","x")))) -> #N/A | BC19: =IF(OR(BB19="R",BB19="RH"),1,0) -> #N/A | BD19: =IF(AND($BB19="R",$O19>0),1,IF(AND($BB19="H",$N19>0),1,0)) -> #N/A | BE19: =IF($AC19<$N19,1,IF($AC19=$N19,0)) -> 0 | BF19: =IF($L19>2027,"Nem rövidtávú a feladat.",IF($BE19=1,"Az I. ütem nem lehet forráshiányos!",IF($AC19>$N19,"Többlet forrást jelölt meg az I.ütemnél! Kérjük, a többletet az 'Osszesito' fülön tüntesse fel!",IF($AC19=$N19,"A forrás egyenlő a költséggel (I.ütem).",0)))) -> A forrás egyenlő a költséggel (I.ütem). | BG19: =IF(AND($R19<>"",$S19<>"",$T19<>"",$U19<>"",$V19<>"",$W19<>"",$X19<>"",$Y19<>"",$Z19<>"",$AA19<>"",$AB19<>""),1,0) -> 0 | BH19: =IF(AND($BG19=1,$N19=$AC19),1,0) -> 0 | BI19: =IF($AQ19<$O19,1,0) -> 0 | BJ19: =IF(AND($AF19<>"",$AG19<>"",$AH19<>"",$AI19<>"",$AJ19<>"",$AK19<>"",$AL19<>"",$AM19<>"",$AN19<>"",$AO19<>"",$AP19<>""),1,0) -> 0 | BK19: =IF(AND($BJ19=1,$O19=$AQ19),1,IF(AND($BJ19=1,$O19>$AQ19,AR19="igen"),1,0)) -> 0 | BL19: =IF($M19<2028,"Nem hosszútávú a feladat.",IF(AND($BI19=1,$AR19="nem"),"Forráshiányos a feladat? Jelölje az AR-oszlopban!",IF(AND($BI19=0,$AR19="igen"),"Forráshiányosnak jelölte a feladat az AR-oszlopban, de a forrás költség adatok alapnján nem az!",IF(AND($BI19=1,$AR19="igen"),"Forráshiányos a feladat!",IF($AQ19>$O19,"Többlet forrást jelölt meg az II.ütemnél! Kérjük, a többletet az 'Osszesito' fülön tüntesse fel!",IF($AQ19=$O19,"A forrás egyenlő a költséggel (II.ütem).",0)))))) -> Nem hosszútávú a feladat. | BM19: =IF($M19<2028,1,0) -> 1 | BN19: =IF($M19>2027,1,0) -> 0 | BO19: =IF(AND($BM19=1,$N19=0),1,0) -> 1 | BP19: =IF(AND($BN19=1,$O19=0),1,0) -> 0 | BQ19: =IF(AND($BB19="R",$N19=0,$AZ19>29),1,IF(AND($BB19="RH",$N19=0,$AZ19>29),1,0)) -> #N/A | BR19: =IF($BN19=0,"Nincs hosszútávú terv!",IF(AND($BB19="H",$O19=0,$AZ19=0),"Nullás a hosszútávú feladat és nincs hozzá indoklás!",IF(AND($BB19="RH",$O19=0,$AZ19=0),"Nullás a hosszútávú feladat és nincs hozzá indoklás!",IF(AND($BB19="R",$O19=0,$AZ19<300),"Nullás a hosszútávú feladat és rövid hozzá az indoklás!",IF(AND($BB19="RH",$O19=0,$AZ19<300),"Nullás a hosszútávú feladat és rövid hozzá az indoklás!",0))))) -> Nincs hosszútávú terv! | BS19: =IF(AND($BB19="R",$N19=0,$AZ19>29),1,IF(AND($BB19="RH",$N19=0,$AZ19>29),1,0)) -> #N/A | BT19: =IF(AND($BB19="H",$O19=0,$AZ19>29),1,IF(AND($BB19="RH",$O19=0,$AZ19>29),1,0)) -> #N/A | BU19: =IF($B19="",0,1) -> 0 | BV19: =IF($C19="",0,1) -> 0 | BW19: =IF($D19="",0,1) -> 0 | BX19: =IF($E19="",0,1) -> 0 | BY19: =IF($L19="",0,1) -> 0 | BZ19: =IF($M19="",0,1) -> 0 | CA19: =IF($N19="",0,1) -> 0 | CB19: =IF($O19="",0,1) -> 0 | CC19: =IF($P19="",0,1) -> 0 | CD19: =IF(AND($BA19=0,$BU19=0),"Hiányos kitöltés! (B-oszlop üres)",IF(AND($BA19=0,$BV19=0),"Hiányos kitöltés! (C-oszlop üres)",IF(AND($BA19=0,$BW19=0),"Hiányos kitöltés! (D-oszlop üres)",IF(AND($BA19=0,$BX19=0),"Hiányos kitöltés! (E-oszlop üres)",IF(AND($BA19=0,$BY19=0),"Hiányos kitöltés! (L-oszlop üres)",IF(AND($BA19=0,$BZ19=0),"Hiányos kitöltés! (M-oszlop üres)",IF(AND($BA19=0,$CA19=0),"Hiányos kitöltés! (N-oszlop üres)",IF(AND($BA19=0,$CB19=0),"Hiányos kitöltés! (O-oszlop üres)",IF(AND($BA19=0,$CC19=0),"Hiányos kitöltés! (P-oszlop üres)",IF(AND($BA19=0,$BG19=0),"Hiányos kitöltés! (I.ütem forrása hiányos!","?")))))))))) -> #N/A | CE19: =IF($BA19=0,$CD19,IF($BG19=0,"I. ütem forrása nincs kitöltve!",IF($BJ19=0,"II. ütem forrása nincs kitöltve!",IF($BD19=1,"Költségek üteme nem megfelelő (az időtartam és a költség üteme eltér)!",IF(AND(BH19=0,$BA19=1,$BJ19=1,$BD19=1),"Kötelező cellák kitöltve, de az I. ütem forrása hibás!",IF(AND(BJ19=0,$BA19=1,$BJ19=1,$BD19=1),"Kötelező cellák kitöltve, de a II. ütem forrása hibás!",IF(AND($BO19=1,$AZ19<30),"Nullás a rövidtávú feladat és rövid (hiányzik) a hozzá tartozó indoklás!",IF(AND($BP19=1,$AZ19<30),"Nullás a hosszútávú feladat és rövid (hiányzik) a hozzá tartozó indoklás!",IF(AND(BN19=1,C19="1811_RENDKÍVÜLI"),"II. ütemre nem tervezhet Rendkívüli feladatot!",IF(BH19=0,AD19,IF(BK19=0,AS19,IF(AND(BC19=1,$P19>$N19),"EM rendelet 2. melléklet terhére elszámolt költség nem lehet nagyobb az I. ütemre tervezett tényleges költségnél!",IF($AC19>$N19,"Többlet forrást jelölt meg az I. ütemnél! Kérjük, a többletet az 'Osszesito' fülön tüntesse fel!",IF($AQ19>$O19,"Többlet forrást jelölt meg a II. ütemnél! Kérjük, a többletet az 'Osszesito' fülön tüntesse fel!","Kitöltés rendben!")))))))))))))) -> #N/A | CF19: =IF(A19="Kitöltés rendben!",1,0) -> 0 | CG19: =IF(AND($BB19="R",$CF19=1),1,IF(AND($BB19="RH",$CF19=1),1,0)) -> #N/A | CH19: =IF(AND($BB19="H",$CF19=1),1,IF(AND($BB19="RH",$CF19=1),1,0)) -> #N/A
... A22: =IF($G22="","Nincs VKR kiválasztva!",CE22) -> Nincs VKR kiválasztva! | F22: =VLOOKUP($G22,Összesítő!$B:$F,2,FALSE) -> #N/A | H22: =AY22&"_"&AW22&"_FIV_"&LEFT(Előlap!$B$6,4) -> #N/A | I22: =VLOOKUP($G22,Összesítő!$B:$F,5,FALSE) -> #N/A | J22: =VLOOKUP($G22,Összesítő!$B:$F,4,FALSE) -> #N/A | K22: =N22+O22 -> 0 | AC22: =SUM(R22:AB22) -> 0 | AD22: =IF($G22="","Nincs VKR kiválasztva!",IF(BA22=0,"Hiányos kitöltés!",BF22)) -> Nincs VKR kiválasztva! | AQ22: =SUM(AF22:AP22) -> 0 | AS22: =IF($G22="","Nincs VKR kiválasztva!",IF($BA22=0,"Hiányos kitöltés!",IF($BN22=0,"Nem hosszútávú a feladat.",$BL22))) -> Nincs VKR kiválasztva! | AW22: =COUNTA($G$3:G22) -> 5 | AY22: =VLOOKUP($G22,Összesítő!$B:$F,3,FALSE) -> #N/A | AZ22: =LEN($AU22) -> 0 | BA22: =IF(OR($B22="",$C22="",$D22="",$E22="",$F22="",$L22="",$M22="",$N22="",$O22="",$P22=""),0,1) -> #N/A | BB22: =IF($F22="",0,IF(AND($L22=2027,$M22=2027),"R",IF(AND($L22=2027,$M22>2027),"RH",IF(AND($L22>2027,$M22>2027),"H","x")))) -> #N/A | BC22: =IF(OR(BB22="R",BB22="RH"),1,0) -> #N/A | BD22: =IF(AND($BB22="R",$O22>0),1,IF(AND($BB22="H",$N22>0),1,0)) -> #N/A | BE22: =IF($AC22<$N22,1,IF($AC22=$N22,0)) -> 0 | BF22: =IF($L22>2027,"Nem rövidtávú a feladat.",IF($BE22=1,"Az I. ütem nem lehet forráshiányos!",IF($AC22>$N22,"Többlet forrást jelölt meg az I.ütemnél! Kérjük, a többletet az 'Osszesito' fülön tüntesse fel!",IF($AC22=$N22,"A forrás egyenlő a költséggel (I.ütem).",0)))) -> A forrás egyenlő a költséggel (I.ütem). | BG22: =IF(AND($R22<>"",$S22<>"",$T22<>"",$U22<>"",$V22<>"",$W22<>"",$X22<>"",$Y22<>"",$Z22<>"",$AA22<>"",$AB22<>""),1,0) -> 0 | BH22: =IF(AND($BG22=1,$N22=$AC22),1,0) -> 0 | BI22: =IF($AQ22<$O22,1,0) -> 0 | BJ22: =IF(AND($AF22<>"",$AG22<>"",$AH22<>"",$AI22<>"",$AJ22<>"",$AK22<>"",$AL22<>"",$AM22<>"",$AN22<>"",$AO22<>"",$AP22<>""),1,0) -> 0 | BK22: =IF(AND($BJ22=1,$O22=$AQ22),1,IF(AND($BJ22=1,$O22>$AQ22,AR22="igen"),1,0)) -> 0 | BL22: =IF($M22<2028,"Nem hosszútávú a feladat.",IF(AND($BI22=1,$AR22="nem"),"Forráshiányos a feladat? Jelölje az AR-oszlopban!",IF(AND($BI22=0,$AR22="igen"),"Forráshiányosnak jelölte a feladat az AR-oszlopban, de a forrás költség adatok alapnján nem az!",IF(AND($BI22=1,$AR22="igen"),"Forráshiányos a feladat!",IF($AQ22>$O22,"Többlet forrást jelölt meg az II.ütemnél! Kérjük, a többletet az 'Osszesito' fülön tüntesse fel!",IF($AQ22=$O22,"A forrás egyenlő a költséggel (II.ütem).",0)))))) -> Nem hosszútávú a feladat. | BM22: =IF($M22<2028,1,0) -> 1 | BN22: =IF($M22>2027,1,0) -> 0 | BO22: =IF(AND($BM22=1,$N22=0),1,0) -> 1 | BP22: =IF(AND($BN22=1,$O22=0),1,0) -> 0 | BQ22: =IF(AND($BB22="R",$N22=0,$AZ22>29),1,IF(AND($BB22="RH",$N22=0,$AZ22>29),1,0)) -> #N/A | BR22: =IF($BN22=0,"Nincs hosszútávú terv!",IF(AND($BB22="H",$O22=0,$AZ22=0),"Nullás a hosszútávú feladat és nincs hozzá indoklás!",IF(AND($BB22="RH",$O22=0,$AZ22=0),"Nullás a hosszútávú feladat és nincs hozzá indoklás!",IF(AND($BB22="R",$O22=0,$AZ22<300),"Nullás a hosszútávú feladat és rövid hozzá az indoklás!",IF(AND($BB22="RH",$O22=0,$AZ22<300),"Nullás a hosszútávú feladat és rövid hozzá az indoklás!",0))))) -> Nincs hosszútávú terv! | BS22: =IF(AND($BB22="R",$N22=0,$AZ22>29),1,IF(AND($BB22="RH",$N22=0,$AZ22>29),1,0)) -> #N/A | BT22: =IF(AND($BB22="H",$O22=0,$AZ22>29),1,IF(AND($BB22="RH",$O22=0,$AZ22>29),1,0)) -> #N/A | BU22: =IF($B22="",0,1) -> 0 | BV22: =IF($C22="",0,1) -> 0 | BW22: =IF($D22="",0,1) -> 0 | BX22: =IF($E22="",0,1) -> 0 | BY22: =IF($L22="",0,1) -> 0 | BZ22: =IF($M22="",0,1) -> 0 | CA22: =IF($N22="",0,1) -> 0 | CB22: =IF($O22="",0,1) -> 0 | CC22: =IF($P22="",0,1) -> 0 | CD22: =IF(AND($BA22=0,$BU22=0),"Hiányos kitöltés! (B-oszlop üres)",IF(AND($BA22=0,$BV22=0),"Hiányos kitöltés! (C-oszlop üres)",IF(AND($BA22=0,$BW22=0),"Hiányos kitöltés! (D-oszlop üres)",IF(AND($BA22=0,$BX22=0),"Hiányos kitöltés! (E-oszlop üres)",IF(AND($BA22=0,$BY22=0),"Hiányos kitöltés! (L-oszlop üres)",IF(AND($BA22=0,$BZ22=0),"Hiányos kitöltés! (M-oszlop üres)",IF(AND($BA22=0,$CA22=0),"Hiányos kitöltés! (N-oszlop üres)",IF(AND($BA22=0,$CB22=0),"Hiányos kitöltés! (O-oszlop üres)",IF(AND($BA22=0,$CC22=0),"Hiányos kitöltés! (P-oszlop üres)",IF(AND($BA22=0,$BG22=0),"Hiányos kitöltés! (I.ütem forrása hiányos!","?")))))))))) -> #N/A | CE22: =IF($BA22=0,$CD22,IF($BG22=0,"I. ütem forrása nincs kitöltve!",IF($BJ22=0,"II. ütem forrása nincs kitöltve!",IF($BD22=1,"Költségek üteme nem megfelelő (az időtartam és a költség üteme eltér)!",IF(AND(BH22=0,$BA22=1,$BJ22=1,$BD22=1),"Kötelező cellák kitöltve, de az I. ütem forrása hibás!",IF(AND(BJ22=0,$BA22=1,$BJ22=1,$BD22=1),"Kötelező cellák kitöltve, de a II. ütem forrása hibás!",IF(AND($BO22=1,$AZ22<30),"Nullás a rövidtávú feladat és rövid (hiányzik) a hozzá tartozó indoklás!",IF(AND($BP22=1,$AZ22<30),"Nullás a hosszútávú feladat és rövid (hiányzik) a hozzá tartozó indoklás!",IF(AND(BN22=1,C22="1811_RENDKÍVÜLI"),"II. ütemre nem tervezhet Rendkívüli feladatot!",IF(BH22=0,AD22,IF(BK22=0,AS22,IF(AND(BC22=1,$P22>$N22),"EM rendelet 2. melléklet terhére elszámolt költség nem lehet nagyobb az I. ütemre tervezett tényleges költségnél!",IF($AC22>$N22,"Többlet forrást jelölt meg az I. ütemnél! Kérjük, a többletet az 'Osszesito' fülön tüntesse fel!",IF($AQ22>$O22,"Többlet forrást jelölt meg a II. ütemnél! Kérjük, a többletet az 'Osszesito' fülön tüntesse fel!","Kitöltés rendben!")))))))))))))) -> #N/A | CF22: =IF(A22="Kitöltés rendben!",1,0) -> 0 | CG22: =IF(AND($BB22="R",$CF22=1),1,IF(AND($BB22="RH",$CF22=1),1,0)) -> #N/A | CH22: =IF(AND($BB22="H",$CF22=1),1,IF(AND($BB22="RH",$CF22=1),1,0)) -> #N/A

Sheet adat
A1: 2027 | B1: A beruházási feladat kategóriája - IVÓVÍZ | H1: NV Zrt. FŐCSOPORTOK | P1: A kitöltés lehetséges eredménye, az "ELLENÖRZÉS" oszlopban jelenik meg | R1: Színkód | U1: A kitöltés lehetséges eredménye, az "ELLENÖRZÉS" oszlopban jelenik meg (Osszesito lap) | W1: Színkód | X1: Színkód
B2: Sorszám | C2: KATEGÓRIA | D2: 1. SZINT | E2: 2. SZINT | F2: 3. SZINT | G2: PÉLDÁK | K2: Kategóriák | L2: Magyarázat | P2: =IF($W2="","",COUNTA(Q$2:$W2)) | Q2: Nincs VKR kiválasztva! | U2: =IF($AB2="","",COUNTA(V$2:$AB2)) | V2: Nincs rögzítve!
B3: 1 | C3: 1111_TERM_KÚT | D3: víztermelés | E3: kutak | G3: kúthoz kapcsolódó beruházási feladatok (pl.: új kút fúrása (melléfúrásos felújítás esetén az új kút műszaki paraméterei eltérnek a kiváltandó kút műszaki paramétereitől), kút eltömedékelés, NV Zrt. által javasolt 121. főcsoport) | H3: 121 | K3: Használati díj | L3: Ide értendő: - az előző évek használati díj maradványa - önkormányzattól átvett fel nem használt használati díj - a víziközmű alap (Vksztv. 2. § 33.pont) - Vksztv. értelmező rendelkezéséhez egyezően bérleti díj, vagyonkezelési díj vagy koncessziós díj | P3: =IF($W3="","",COUNTA(Q$2:$W3)) | U3: =IF($AB3="","",COUNTA(V$2:$AB3)) | V3: Kitöltési hiba!
B4: 2 | C4: 1121_TERM_VEZETÉK | E4: vezeték | G4: a víztermelés vezetékeihez kapcsolódó beruházási feladatok (pl.: új kútbekötés, gyűjtővezeték létesítése) | K4: ÉCS | L4: - értékcsökkenési leírás | P4: =IF($W4="","",COUNTA(Q$2:$W4)) | Q4: Hiányos kitöltés! („?”-oszlop üres) | U4: =IF($AB4="","",COUNTA(V$2:$AB4)) | V4: Hiányzik a rövidtávú terv!
B5: 3 | C5: 1131_TERM_SZIVATTYÚ | E5: szivattyú | G5: a víztermelés szivattyúihoz kapcsolódó beruházási feladatok (pl.: új kútszivattyú beszerzése) | K5: Közműfejlesztési hozzájárulás | P5: =IF($W5="","",COUNTA(Q$2:$W5)) | Q5: I. ütem forrása nincs kitöltve! | U5: =IF($AB5="","",COUNTA(V$2:$AB5)) | V5: Hiányzik a hosszútávú terv!
B6: 4 | C6: 1110_TERM_EGYÉB | E6: egyéb | G6: a víztermeléshez kapcsolódó, egyéb, a fenti kategóriákba nem besorolható beruházási feladatok (pl.: új termelőcső létesítése) | K6: Egyéb saját forrás | L6: - Társasági eszköz hasznosításból/értékesítésből származó bevétel/vissznyeremény | P6: =IF($W6="","",COUNTA(Q$2:$W6)) | Q6: II. ütem forrása nincs kitöltve! | U6: =IF($AB6="","",COUNTA(V$2:$AB6)) | V6: Kitöltés rendben!
B7: 4 | C7: 1100_TERM_KOMPLEX | E7: komplex | G7: a víztermeléshez kapcsolódó komplex beruházási feladatok (pl.: új kút fúrása, bekötése, kútszivattyú beszerelése, villamos és irányítástechnikai rendszer kialakítás, integrálás a meglévő rendszerbe munkákból többféle feladatot együttesen tartalmazó beruházás) | K7: VFEA 2. melléklet | L7: - Víziközmű-fejlesztési és Ellentételezési Alap - 24/2023. (XII. 13.) EM rendelet 2. melléklet | P7: =IF($W7="","",COUNTA(Q$2:$W7)) | Q7: Költségek üteme nem megfelelő (az időtartam és a költség üteme eltér)!
B8: 6 | C8: 1211_TELEP_TÁROLÁS | D8: vízműtelep / vízkezelés | E8: vízműtelepi tárolás | G8: a vízműtelep területén található víztároló műtárgyakhoz kapcsolódó beruházási feladatok (pl.: új vízműtelepi medence, víztorony, tározó, tároló létesítése, meglévő műtárgy bővítése, NV Zrt. által javasolt 123. főcsoport vízműtelepi tárolómedence esetén) | H8: 123 | K8: Állami támogatás | L8: - központi kezelésű előirányzat - egyéb állami támogatás - egyéb központi költségvetés | P8: =IF($W8="","",COUNTA(Q$2:$W8)) | Q8: Kötelező cellák kitöltve, de az I.ütem forrása hibás!
B9: 7 | C9: 1221_TELEP_VEZETÉK | E9: vezeték | G9: a vízműtelep területén található vízszállító vezetékekhez kapcsolódó beruházási feladatok (pl.: vízkezelési technológiához tartozó tisztavíztározó medencék udvartéri vezetékeinek kapacitásbővítése) | K9: Önkormányzati támogatás | L9: - bármilyen önkormányzati forrás | P9: =IF($W9="","",COUNTA(Q$2:$W9)) | Q9: Kötelező cellák kitöltve, de a II. ütem forrása hibás!
B10: 8 | C10: 1231_TELEP_SZIVATTYÚ | E10: szivattyú | G10: a vízműtelepen található nyomásfokozó szivattyúval kapcsolatos beruházási feladatok (pl.: új szivattyú beszerzése, meglévő szivattyú cseréje nagyobb kapacitásúra) | K10: EU-s támogatás | P10: =IF($W10="","",COUNTA(Q$2:$W10)) | Q10: Nullás a rövidtávú feladat és rövid (hiányzik) a hozzá tartozó indoklás!
B11: 9 | C11: 1241_TELEP_TECHN | E11: víztisztítási technológia | G11: a víztisztítási technológiához kapcsolódó beruházási feladatok (pl.: új víztisztítási technológia kialakítása, klórozó létesítése, vas- mangántalanító kapacitásbővítése, NV Zrt. által javasolt 125. főcsoport) | H11: 125 | K11: Egyéb támogatás | L11: - egyéb külső forrás - egyéb nemzetközi hátterű támogatás - egyéb/Fejlesztési célú pénzeszköz átadás - állami/önkormányzati eszköz hasznosításból/értékesítésből szárm. bevétel/vissznyeremény - ESCO típusú finanszírozás | P11: =IF($W11="","",COUNTA(Q$2:$W11)) | Q11: Nullás a hosszútávú feladat és rövid (hiányzik) a hozzá tartozó indoklás!";
B12: 10 | C12: 1251_TELEP_ÉPÍTÉSZET | E12: építészet | G12: a vízműtelephez kapcsolódó építészeti beruházás (pl.: új épület építése) | K12: Banki hitel, kötvénykibocsátás | P12: =IF($W12="","",COUNTA(Q$2:$W12)) | Q12: II. ütemre nem tervezhet Rendkívüli feladatot!
B13: 11 | C13: 1210_TELEP_EGYÉB | E13: egyéb | G13: a vízműtelep területéhez kapcsolódó, egyéb, a fenti kategóriákba nem besorolható beruházási feladatok (pl.: térvilágítás kiépítése) | P13: =IF($W13="","",COUNTA(Q$2:$W13)) | Q13: EM rendelet 2. melléklet terhére elszámolt költség nem lehet nagyobb az I. ütemre tervezett tényleges költségnél!";
B14: 12 | C14: 1200_TELEP_KOMPLEX | E14: komplex | G14: a vízműtelephez kapcsolódó komplex beruházási feladatok (pl.: gépház teljeskörű kivitelezése) | P14: =IF($W14="","",COUNTA(Q$2:$W14)) | Q14: Többlet forrást jelölt meg az I. ütemnél! Kérjük, a többletet az 'Osszesito' fülön tüntesse fel!
B15: 13 | C15: 1311_ELOSZT_VEZETÉK_TÁV | D15: vízelosztás | E15: vezeték | F15: távvezeték | G15: regionális vezetékkel, távvezetékkel kapcsolatos beruházási feladatok (pl.: távvezeték kapacitásbővítése) | P15: =IF($W15="","",COUNTA(Q$2:$W15)) | Q15: Többlet forrást jelölt meg a II. ütemnél! Kérjük, a többletet az 'Osszesito' fülön tüntesse
B16: 14 | C16: 1312_ELOSZT_VEZETÉK_GERINC | F16: gerincvezeték | G16: gerincvezetékkel kapcsolatos beruházási feladatok (pl.: új gerincvezeték létesítése, hálózatbővítés) | P16: =IF($W16="","",COUNTA(Q$2:$W16)) | Q16: Kitöltés rendben!
B17: 15 | C17: 1313_ELOSZT_VEZETÉK_BEKÖTŐ | F17: bekötővezeték | G17: bekötővezetékkel kapcsolatos beruházási feladatok (pl.: új bekötővezetékek létesítése, NV Zrt. által javasolt 113. főcsoport) | H17: 113
B18: 16 | C18: 1321_ELOSZT_TÁROLÁS | E18: hálózati tárolás | G18: az elosztóhálózaton található víztároló műtárgyakhoz kapcsolódó beruházási feladatok (pl.: új hálózati medence, víztorony, tározó, tároló létesítése)
B19: 17 | C19: 1331_ELOSZT_SZIVATTYÚ | E19: szivattyú | G19: az elosztóhálózaton található szivattyúval kapcsolatos beruházási feladatok (pl.: új szivattyú beszerzése, meglévő szivattyú cseréje nagyobb kapacitásúra)
B20: 18 | C20: 1341_ELOSZT_SZERELV_CSOMÓPONT | E20: akna/szerelvények | F20: csomópont | G20: az elosztóhálózaton található csomópontokhoz kapcsolódó általános beruházási feladatok (pl.: új csomópont létesítése) (Amennyiben tervezéskor nem ismert, hogy a feladat a "vízelosztás-akna/szerelvények" mely kategóriájába sorolható, vagy a feladat egyszerre több "vízelosztás-akna/szerelvények" kategóriába is sorolható, akkor a feladatot itt szükséges szerepeltetni.)
B21: 19 | C21: 1342_ELOSZT_SZERELV_TŰZCSAP | F21: tűzcsap | G21: az elosztóhálózaton található tűzcsaphoz kapcsolódó beruházási feladatok (pl.: új tűzcsap létesítése, föld alatti tűzcsap cseréje föld felettire)
B22: 20 | C22: 1343_ELOSZT_SZERELV_TOLÓZÁR | F22: tolózár | G22: az elosztóhálózaton található tolózárakhoz kapcsolódó beruházási feladatok (pl.: új tolózár létesítése)
B23: 21 | C23: 1344_ELOSZT_SZERELV_KÖZKIFOLYÓ | F23: közkifolyó | G23: az elosztóhálózaton található közkifolyóhoz kapcsolódó beruházási feladatok (pl.: új közkifolyó létesítése)
B24: 22 | C24: 1345_ELOSZT_SZERELV_VÍZMÉRŐ | F24: vízmérő | G24: az elosztóhálózaton található vízmérőhöz kapcsolódó beruházási feladatok (pl.: új vízmérő létesítése, NV Zrt. által javasolt 114. főcsoport) | H24: 114
B25: 23 | C25: 1346_ELOSZT_SZERELV_NYOMCSÖK | F25: nyomáscsökkentő | G25: az elosztóhálózaton található nyomáscsökkentőhöz kapcsolódó beruházási feladatok (pl.: új nyomáscsökkentő létesítése)
B26: 24 | C26: 1347_ELOSZT_SZERELV_AKNA | F26: akna építészet | G26: az elosztóhálózaton található aknákhoz kapcsolódó építészeti jellegű beruházási feladatok (pl.: korábban nem vízzáró akna vízzáróvá tétele)
B27: 25 | C27: 1310_ELOSZT_EGYÉB | E27: egyéb | G27: az elosztóhálózathoz kapcsolódó, egyéb, a fenti kategóriákba nem besorolható beruházási feladatok
B28: 26 | C28: 1300_ELOSZT_KOMPLEX | E28: komplex | G28: az elosztóhálózathoz kapcsolódó komplex beruházási feladatok (pl.: egy adott utcára vonatkozó új vízhálózat teljeskörű kivitelezése)
B29: 27 | C29: 1411_NAPELEM | D29: napelem | G29: napelem létesítése (NV Zrt. által javasolt 129. főcsoport) | H29: 129
B30: 28 | C30: 1511_VILL_IRÁNYTECH | D30: villamos- és irányítástechnika | G30: villamos- és irányítástechnikai beruházási feladatok, folyamatirányító rendszer kialakítása (pl.: új vezérlőszekrény létesítése, NV Zrt. által javasolt 126. és 128. főcsoport) | H30: 126 | I30: 128
B31: 29 | C31: 1611_EGYÉB | D31: egyéb | G31: az ivóvízellátáshoz kapcsolódó, egyéb, a fenti kategóriákba nem besorolható beruházási feladatok (pl.: biztonságtechnika, vagyonvédelem, ingatlan-nyilvántartás, tervezés, engedélyeztetés, NV Zrt. által javasolt 124. főcsoport) | H31: 124
B32: 30 | C32: 1711_NINCS_FELADAT | D32: nincs feladat | G32: Az adott ütemben nem kerül feladat betervezésre, melynek indokolása a "MEGJEGYZÉS" című (AR) mezőben szükséges.

Sheet Kitöltési útmutató

Sheet Megjegyzés
A2: Megjegyzés
A3: .
